BEGIN:VCALENDAR
VERSION:2.0
PRODID:-//St James&#039; Anglican Church Vancouver - ECPv6.15.20//NONSGML v1.0//EN
CALSCALE:GREGORIAN
METHOD:PUBLISH
X-WR-CALNAME:St James&#039; Anglican Church Vancouver
X-ORIGINAL-URL:https://stjames.bc.ca
X-WR-CALDESC:Events for St James&#039; Anglican Church Vancouver
REFRESH-INTERVAL;VALUE=DURATION:PT1H
X-Robots-Tag:noindex
X-PUBLISHED-TTL:PT1H
BEGIN:VTIMEZONE
TZID:America/Vancouver
BEGIN:DAYLIGHT
TZOFFSETFROM:-0800
TZOFFSETTO:-0700
TZNAME:PDT
DTSTART:20250309T100000
END:DAYLIGHT
BEGIN:STANDARD
TZOFFSETFROM:-0700
TZOFFSETTO:-0800
TZNAME:PST
DTSTART:20251102T090000
END:STANDARD
BEGIN:DAYLIGHT
TZOFFSETFROM:-0800
TZOFFSETTO:-0700
TZNAME:PDT
DTSTART:20260308T100000
END:DAYLIGHT
BEGIN:STANDARD
TZOFFSETFROM:-0700
TZOFFSETTO:-0800
TZNAME:PST
DTSTART:20261101T090000
END:STANDARD
BEGIN:DAYLIGHT
TZOFFSETFROM:-0800
TZOFFSETTO:-0700
TZNAME:PDT
DTSTART:20270314T100000
END:DAYLIGHT
BEGIN:STANDARD
TZOFFSETFROM:-0700
TZOFFSETTO:-0800
TZNAME:PST
DTSTART:20271107T090000
END:STANDARD
END:VTIMEZONE
BEGIN:VEVENT
DTSTART;TZID=America/Vancouver:20260302T090000
DTEND;TZID=America/Vancouver:20260302T093000
DTSTAMP:20260425T155132
CREATED:20240725T222200Z
LAST-MODIFIED:20241017T160049Z
UID:10003901-1772442000-1772443800@stjames.bc.ca
SUMMARY:Morning Prayer - via Zoom
DESCRIPTION:Join us every morning at 9:00am via Zoom for Morning Prayer. \nZoom details posted in our weekly newsletter. Please contact the office at office@stjames.bc.ca for details. \nAll are welcome!
URL:https://stjames.bc.ca/event/morning-prayer-via-zoom-2/2026-03-02
LOCATION:Zoom
CATEGORIES:All Welcome
ATTACH;FMTTYPE=image/jpeg:https://stjames.bc.ca/wp-content/uploads/2022/09/pexels-philip-ackermann-878151.jpg
ORGANIZER;CN="St. James' Anglican Church":MAILTO:office@stjames.bc.ca
END:VEVENT
BEGIN:VEVENT
DTSTART;TZID=America/Vancouver:20260302T120000
DTEND;TZID=America/Vancouver:20260302T123000
DTSTAMP:20260425T155132
CREATED:20260212T190303Z
LAST-MODIFIED:20260227T222918Z
UID:10005200-1772452800-1772454600@stjames.bc.ca
SUMMARY:Said Mass
DESCRIPTION:Join us in the Blessed Sacrament Chapel (enter through the side gate on Cordova St.) \nEvery Monday\, Wednesday\, and Friday at 12:10pm except holiday Mondays. Subscribe to The Thurible for updates. \nAll are welcome!
URL:https://stjames.bc.ca/event/said-mass-4-3-3-2/2026-03-02
LOCATION:St James Anglican Church Vancouver\, 303 East Cordova Street\, Vancouver\, BC\, V6A 1L4\, Canada
CATEGORIES:All Welcome,St. James' Parish Vancouver
ATTACH;FMTTYPE=image/png:https://stjames.bc.ca/wp-content/uploads/2022/09/BSC-e1736894248979.png
ORGANIZER;CN="St. James' Anglican Church":MAILTO:office@stjames.bc.ca
END:VEVENT
BEGIN:VEVENT
DTSTART;TZID=America/Vancouver:20260303T090000
DTEND;TZID=America/Vancouver:20260303T093000
DTSTAMP:20260425T155132
CREATED:20240725T222200Z
LAST-MODIFIED:20241017T160049Z
UID:10003902-1772528400-1772530200@stjames.bc.ca
SUMMARY:Morning Prayer - via Zoom
DESCRIPTION:Join us every morning at 9:00am via Zoom for Morning Prayer. \nZoom details posted in our weekly newsletter. Please contact the office at office@stjames.bc.ca for details. \nAll are welcome!
URL:https://stjames.bc.ca/event/morning-prayer-via-zoom-2/2026-03-03
LOCATION:Zoom
CATEGORIES:All Welcome
ATTACH;FMTTYPE=image/jpeg:https://stjames.bc.ca/wp-content/uploads/2022/09/pexels-philip-ackermann-878151.jpg
ORGANIZER;CN="St. James' Anglican Church":MAILTO:office@stjames.bc.ca
END:VEVENT
BEGIN:VEVENT
DTSTART;TZID=America/Vancouver:20260303T093000
DTEND;TZID=America/Vancouver:20260303T100000
DTSTAMP:20260425T155132
CREATED:20241008T221133Z
LAST-MODIFIED:20260227T223032Z
UID:10008450-1772530200-1772532000@stjames.bc.ca
SUMMARY:Said Mass
DESCRIPTION:Join us in the Blessed Sacrament Chapel (enter through the side gate on Cordova St.) \nEvery Tuesday morning at 9:30am except for the day after holiday Mondays. Subscribe to The Thurible for updates. \nAll are welcome!
URL:https://stjames.bc.ca/event/said-mass-3-2-4/2026-03-03
LOCATION:St James Anglican Church Vancouver\, 303 East Cordova Street\, Vancouver\, BC\, V6A 1L4\, Canada
CATEGORIES:All Welcome,St. James' Parish Vancouver
ATTACH;FMTTYPE=image/png:https://stjames.bc.ca/wp-content/uploads/2022/09/BSC-e1736894248979.png
END:VEVENT
BEGIN:VEVENT
DTSTART;TZID=America/Vancouver:20260304T090000
DTEND;TZID=America/Vancouver:20260304T093000
DTSTAMP:20260425T155132
CREATED:20240725T222200Z
LAST-MODIFIED:20241017T160049Z
UID:10003903-1772614800-1772616600@stjames.bc.ca
SUMMARY:Morning Prayer - via Zoom
DESCRIPTION:Join us every morning at 9:00am via Zoom for Morning Prayer. \nZoom details posted in our weekly newsletter. Please contact the office at office@stjames.bc.ca for details. \nAll are welcome!
URL:https://stjames.bc.ca/event/morning-prayer-via-zoom-2/2026-03-04
LOCATION:Zoom
CATEGORIES:All Welcome
ATTACH;FMTTYPE=image/jpeg:https://stjames.bc.ca/wp-content/uploads/2022/09/pexels-philip-ackermann-878151.jpg
ORGANIZER;CN="St. James' Anglican Church":MAILTO:office@stjames.bc.ca
END:VEVENT
BEGIN:VEVENT
DTSTART;TZID=America/Vancouver:20260304T120000
DTEND;TZID=America/Vancouver:20260304T123000
DTSTAMP:20260425T155132
CREATED:20260212T190303Z
LAST-MODIFIED:20260227T222918Z
UID:10005201-1772625600-1772627400@stjames.bc.ca
SUMMARY:Said Mass
DESCRIPTION:Join us in the Blessed Sacrament Chapel (enter through the side gate on Cordova St.) \nEvery Monday\, Wednesday\, and Friday at 12:10pm except holiday Mondays. Subscribe to The Thurible for updates. \nAll are welcome!
URL:https://stjames.bc.ca/event/said-mass-4-3-3-2/2026-03-04
LOCATION:St James Anglican Church Vancouver\, 303 East Cordova Street\, Vancouver\, BC\, V6A 1L4\, Canada
CATEGORIES:All Welcome,St. James' Parish Vancouver
ATTACH;FMTTYPE=image/png:https://stjames.bc.ca/wp-content/uploads/2022/09/BSC-e1736894248979.png
ORGANIZER;CN="St. James' Anglican Church":MAILTO:office@stjames.bc.ca
END:VEVENT
BEGIN:VEVENT
DTSTART;TZID=America/Vancouver:20260305T090000
DTEND;TZID=America/Vancouver:20260305T093000
DTSTAMP:20260425T155132
CREATED:20240725T222200Z
LAST-MODIFIED:20241017T160049Z
UID:10003904-1772701200-1772703000@stjames.bc.ca
SUMMARY:Morning Prayer - via Zoom
DESCRIPTION:Join us every morning at 9:00am via Zoom for Morning Prayer. \nZoom details posted in our weekly newsletter. Please contact the office at office@stjames.bc.ca for details. \nAll are welcome!
URL:https://stjames.bc.ca/event/morning-prayer-via-zoom-2/2026-03-05
LOCATION:Zoom
CATEGORIES:All Welcome
ATTACH;FMTTYPE=image/jpeg:https://stjames.bc.ca/wp-content/uploads/2022/09/pexels-philip-ackermann-878151.jpg
ORGANIZER;CN="St. James' Anglican Church":MAILTO:office@stjames.bc.ca
END:VEVENT
BEGIN:VEVENT
DTSTART;TZID=America/Vancouver:20260305T093000
DTEND;TZID=America/Vancouver:20260305T100000
DTSTAMP:20260425T155132
CREATED:20240531T222315Z
LAST-MODIFIED:20260227T223131Z
UID:10009217-1772703000-1772704800@stjames.bc.ca
SUMMARY:Said Mass with Anointing
DESCRIPTION:Join us in the Blessed Sacrament Chapel (enter through the side gate on Cordova St.) every Thursday morning at 9:30 am. \nMass will include the sacrament of holy anointing for healing. All are welcome! \nSubscribe to The Thurible for updates.
URL:https://stjames.bc.ca/event/said-mass-with-anointing-2-2/2026-03-05
LOCATION:St James Anglican Church Vancouver\, 303 East Cordova Street\, Vancouver\, BC\, V6A 1L4\, Canada
CATEGORIES:All Welcome,St. James' Parish Vancouver
ATTACH;FMTTYPE=image/png:https://stjames.bc.ca/wp-content/uploads/2022/09/BSC-e1736894248979.png
ORGANIZER;CN="St. James' Anglican Church":MAILTO:office@stjames.bc.ca
END:VEVENT
BEGIN:VEVENT
DTSTART;TZID=America/Vancouver:20260306T090000
DTEND;TZID=America/Vancouver:20260306T093000
DTSTAMP:20260425T155132
CREATED:20240725T222200Z
LAST-MODIFIED:20241017T160049Z
UID:10003905-1772787600-1772789400@stjames.bc.ca
SUMMARY:Morning Prayer - via Zoom
DESCRIPTION:Join us every morning at 9:00am via Zoom for Morning Prayer. \nZoom details posted in our weekly newsletter. Please contact the office at office@stjames.bc.ca for details. \nAll are welcome!
URL:https://stjames.bc.ca/event/morning-prayer-via-zoom-2/2026-03-06
LOCATION:Zoom
CATEGORIES:All Welcome
ATTACH;FMTTYPE=image/jpeg:https://stjames.bc.ca/wp-content/uploads/2022/09/pexels-philip-ackermann-878151.jpg
ORGANIZER;CN="St. James' Anglican Church":MAILTO:office@stjames.bc.ca
END:VEVENT
BEGIN:VEVENT
DTSTART;TZID=America/Vancouver:20260306T120000
DTEND;TZID=America/Vancouver:20260306T123000
DTSTAMP:20260425T155132
CREATED:20260212T190303Z
LAST-MODIFIED:20260227T222918Z
UID:10005202-1772798400-1772800200@stjames.bc.ca
SUMMARY:Said Mass
DESCRIPTION:Join us in the Blessed Sacrament Chapel (enter through the side gate on Cordova St.) \nEvery Monday\, Wednesday\, and Friday at 12:10pm except holiday Mondays. Subscribe to The Thurible for updates. \nAll are welcome!
URL:https://stjames.bc.ca/event/said-mass-4-3-3-2/2026-03-06
LOCATION:St James Anglican Church Vancouver\, 303 East Cordova Street\, Vancouver\, BC\, V6A 1L4\, Canada
CATEGORIES:All Welcome,St. James' Parish Vancouver
ATTACH;FMTTYPE=image/png:https://stjames.bc.ca/wp-content/uploads/2022/09/BSC-e1736894248979.png
ORGANIZER;CN="St. James' Anglican Church":MAILTO:office@stjames.bc.ca
END:VEVENT
BEGIN:VEVENT
DTSTART;TZID=America/Vancouver:20260307T090000
DTEND;TZID=America/Vancouver:20260307T093000
DTSTAMP:20260425T155132
CREATED:20240725T222200Z
LAST-MODIFIED:20241017T160049Z
UID:10003906-1772874000-1772875800@stjames.bc.ca
SUMMARY:Morning Prayer - via Zoom
DESCRIPTION:Join us every morning at 9:00am via Zoom for Morning Prayer. \nZoom details posted in our weekly newsletter. Please contact the office at office@stjames.bc.ca for details. \nAll are welcome!
URL:https://stjames.bc.ca/event/morning-prayer-via-zoom-2/2026-03-07
LOCATION:Zoom
CATEGORIES:All Welcome
ATTACH;FMTTYPE=image/jpeg:https://stjames.bc.ca/wp-content/uploads/2022/09/pexels-philip-ackermann-878151.jpg
ORGANIZER;CN="St. James' Anglican Church":MAILTO:office@stjames.bc.ca
END:VEVENT
BEGIN:VEVENT
DTSTART;TZID=America/Vancouver:20260307T160000
DTEND;TZID=America/Vancouver:20260307T163000
DTSTAMP:20260425T155132
CREATED:20241024T220235Z
LAST-MODIFIED:20260209T180038Z
UID:10007326-1772899200-1772901000@stjames.bc.ca
SUMMARY:Vigil Mass (Book of Common Prayer)
DESCRIPTION:Join us in the Blessed Sacrament Chapel (enter through the side gate on Cordova St.) \nEvery Saturday at 4:00pm \nAll are welcome!
URL:https://stjames.bc.ca/event/vigil-mass-4-2/2026-03-07
LOCATION:St James Anglican Church Vancouver\, 303 East Cordova Street\, Vancouver\, BC\, V6A 1L4\, Canada
CATEGORIES:All Welcome,St. James' Parish Vancouver
ATTACH;FMTTYPE=image/png:https://stjames.bc.ca/wp-content/uploads/2022/09/BSC-e1736894248979.png
ORGANIZER;CN="St. James' Anglican Church":MAILTO:office@stjames.bc.ca
END:VEVENT
BEGIN:VEVENT
DTSTART;TZID=America/Vancouver:20260309T090000
DTEND;TZID=America/Vancouver:20260309T093000
DTSTAMP:20260425T155132
CREATED:20240725T222200Z
LAST-MODIFIED:20241017T160049Z
UID:10003907-1773046800-1773048600@stjames.bc.ca
SUMMARY:Morning Prayer - via Zoom
DESCRIPTION:Join us every morning at 9:00am via Zoom for Morning Prayer. \nZoom details posted in our weekly newsletter. Please contact the office at office@stjames.bc.ca for details. \nAll are welcome!
URL:https://stjames.bc.ca/event/morning-prayer-via-zoom-2/2026-03-09
LOCATION:Zoom
CATEGORIES:All Welcome
ATTACH;FMTTYPE=image/jpeg:https://stjames.bc.ca/wp-content/uploads/2022/09/pexels-philip-ackermann-878151.jpg
ORGANIZER;CN="St. James' Anglican Church":MAILTO:office@stjames.bc.ca
END:VEVENT
BEGIN:VEVENT
DTSTART;TZID=America/Vancouver:20260309T120000
DTEND;TZID=America/Vancouver:20260309T123000
DTSTAMP:20260425T155132
CREATED:20260212T190303Z
LAST-MODIFIED:20260227T222918Z
UID:10005203-1773057600-1773059400@stjames.bc.ca
SUMMARY:Said Mass
DESCRIPTION:Join us in the Blessed Sacrament Chapel (enter through the side gate on Cordova St.) \nEvery Monday\, Wednesday\, and Friday at 12:10pm except holiday Mondays. Subscribe to The Thurible for updates. \nAll are welcome!
URL:https://stjames.bc.ca/event/said-mass-4-3-3-2/2026-03-09
LOCATION:St James Anglican Church Vancouver\, 303 East Cordova Street\, Vancouver\, BC\, V6A 1L4\, Canada
CATEGORIES:All Welcome,St. James' Parish Vancouver
ATTACH;FMTTYPE=image/png:https://stjames.bc.ca/wp-content/uploads/2022/09/BSC-e1736894248979.png
ORGANIZER;CN="St. James' Anglican Church":MAILTO:office@stjames.bc.ca
END:VEVENT
BEGIN:VEVENT
DTSTART;TZID=America/Vancouver:20260310T090000
DTEND;TZID=America/Vancouver:20260310T093000
DTSTAMP:20260425T155132
CREATED:20240725T222200Z
LAST-MODIFIED:20241017T160049Z
UID:10003908-1773133200-1773135000@stjames.bc.ca
SUMMARY:Morning Prayer - via Zoom
DESCRIPTION:Join us every morning at 9:00am via Zoom for Morning Prayer. \nZoom details posted in our weekly newsletter. Please contact the office at office@stjames.bc.ca for details. \nAll are welcome!
URL:https://stjames.bc.ca/event/morning-prayer-via-zoom-2/2026-03-10
LOCATION:Zoom
CATEGORIES:All Welcome
ATTACH;FMTTYPE=image/jpeg:https://stjames.bc.ca/wp-content/uploads/2022/09/pexels-philip-ackermann-878151.jpg
ORGANIZER;CN="St. James' Anglican Church":MAILTO:office@stjames.bc.ca
END:VEVENT
BEGIN:VEVENT
DTSTART;TZID=America/Vancouver:20260310T093000
DTEND;TZID=America/Vancouver:20260310T100000
DTSTAMP:20260425T155132
CREATED:20241008T221133Z
LAST-MODIFIED:20260227T223032Z
UID:10008451-1773135000-1773136800@stjames.bc.ca
SUMMARY:Said Mass
DESCRIPTION:Join us in the Blessed Sacrament Chapel (enter through the side gate on Cordova St.) \nEvery Tuesday morning at 9:30am except for the day after holiday Mondays. Subscribe to The Thurible for updates. \nAll are welcome!
URL:https://stjames.bc.ca/event/said-mass-3-2-4/2026-03-10
LOCATION:St James Anglican Church Vancouver\, 303 East Cordova Street\, Vancouver\, BC\, V6A 1L4\, Canada
CATEGORIES:All Welcome,St. James' Parish Vancouver
ATTACH;FMTTYPE=image/png:https://stjames.bc.ca/wp-content/uploads/2022/09/BSC-e1736894248979.png
END:VEVENT
BEGIN:VEVENT
DTSTART;TZID=America/Vancouver:20260311T090000
DTEND;TZID=America/Vancouver:20260311T093000
DTSTAMP:20260425T155132
CREATED:20240725T222200Z
LAST-MODIFIED:20241017T160049Z
UID:10003909-1773219600-1773221400@stjames.bc.ca
SUMMARY:Morning Prayer - via Zoom
DESCRIPTION:Join us every morning at 9:00am via Zoom for Morning Prayer. \nZoom details posted in our weekly newsletter. Please contact the office at office@stjames.bc.ca for details. \nAll are welcome!
URL:https://stjames.bc.ca/event/morning-prayer-via-zoom-2/2026-03-11
LOCATION:Zoom
CATEGORIES:All Welcome
ATTACH;FMTTYPE=image/jpeg:https://stjames.bc.ca/wp-content/uploads/2022/09/pexels-philip-ackermann-878151.jpg
ORGANIZER;CN="St. James' Anglican Church":MAILTO:office@stjames.bc.ca
END:VEVENT
BEGIN:VEVENT
DTSTART;TZID=America/Vancouver:20260311T120000
DTEND;TZID=America/Vancouver:20260311T123000
DTSTAMP:20260425T155132
CREATED:20260212T190303Z
LAST-MODIFIED:20260227T222918Z
UID:10005204-1773230400-1773232200@stjames.bc.ca
SUMMARY:Said Mass
DESCRIPTION:Join us in the Blessed Sacrament Chapel (enter through the side gate on Cordova St.) \nEvery Monday\, Wednesday\, and Friday at 12:10pm except holiday Mondays. Subscribe to The Thurible for updates. \nAll are welcome!
URL:https://stjames.bc.ca/event/said-mass-4-3-3-2/2026-03-11
LOCATION:St James Anglican Church Vancouver\, 303 East Cordova Street\, Vancouver\, BC\, V6A 1L4\, Canada
CATEGORIES:All Welcome,St. James' Parish Vancouver
ATTACH;FMTTYPE=image/png:https://stjames.bc.ca/wp-content/uploads/2022/09/BSC-e1736894248979.png
ORGANIZER;CN="St. James' Anglican Church":MAILTO:office@stjames.bc.ca
END:VEVENT
BEGIN:VEVENT
DTSTART;TZID=America/Vancouver:20260312T090000
DTEND;TZID=America/Vancouver:20260312T093000
DTSTAMP:20260425T155132
CREATED:20240725T222200Z
LAST-MODIFIED:20241017T160049Z
UID:10003910-1773306000-1773307800@stjames.bc.ca
SUMMARY:Morning Prayer - via Zoom
DESCRIPTION:Join us every morning at 9:00am via Zoom for Morning Prayer. \nZoom details posted in our weekly newsletter. Please contact the office at office@stjames.bc.ca for details. \nAll are welcome!
URL:https://stjames.bc.ca/event/morning-prayer-via-zoom-2/2026-03-12
LOCATION:Zoom
CATEGORIES:All Welcome
ATTACH;FMTTYPE=image/jpeg:https://stjames.bc.ca/wp-content/uploads/2022/09/pexels-philip-ackermann-878151.jpg
ORGANIZER;CN="St. James' Anglican Church":MAILTO:office@stjames.bc.ca
END:VEVENT
BEGIN:VEVENT
DTSTART;TZID=America/Vancouver:20260312T093000
DTEND;TZID=America/Vancouver:20260312T100000
DTSTAMP:20260425T155132
CREATED:20240531T222315Z
LAST-MODIFIED:20260227T223131Z
UID:10009218-1773307800-1773309600@stjames.bc.ca
SUMMARY:Said Mass with Anointing
DESCRIPTION:Join us in the Blessed Sacrament Chapel (enter through the side gate on Cordova St.) every Thursday morning at 9:30 am. \nMass will include the sacrament of holy anointing for healing. All are welcome! \nSubscribe to The Thurible for updates.
URL:https://stjames.bc.ca/event/said-mass-with-anointing-2-2/2026-03-12
LOCATION:St James Anglican Church Vancouver\, 303 East Cordova Street\, Vancouver\, BC\, V6A 1L4\, Canada
CATEGORIES:All Welcome,St. James' Parish Vancouver
ATTACH;FMTTYPE=image/png:https://stjames.bc.ca/wp-content/uploads/2022/09/BSC-e1736894248979.png
ORGANIZER;CN="St. James' Anglican Church":MAILTO:office@stjames.bc.ca
END:VEVENT
BEGIN:VEVENT
DTSTART;TZID=America/Vancouver:20260313T090000
DTEND;TZID=America/Vancouver:20260313T093000
DTSTAMP:20260425T155132
CREATED:20240725T222200Z
LAST-MODIFIED:20241017T160049Z
UID:10003911-1773392400-1773394200@stjames.bc.ca
SUMMARY:Morning Prayer - via Zoom
DESCRIPTION:Join us every morning at 9:00am via Zoom for Morning Prayer. \nZoom details posted in our weekly newsletter. Please contact the office at office@stjames.bc.ca for details. \nAll are welcome!
URL:https://stjames.bc.ca/event/morning-prayer-via-zoom-2/2026-03-13
LOCATION:Zoom
CATEGORIES:All Welcome
ATTACH;FMTTYPE=image/jpeg:https://stjames.bc.ca/wp-content/uploads/2022/09/pexels-philip-ackermann-878151.jpg
ORGANIZER;CN="St. James' Anglican Church":MAILTO:office@stjames.bc.ca
END:VEVENT
BEGIN:VEVENT
DTSTART;TZID=America/Vancouver:20260313T120000
DTEND;TZID=America/Vancouver:20260313T123000
DTSTAMP:20260425T155132
CREATED:20260212T190303Z
LAST-MODIFIED:20260227T222918Z
UID:10005205-1773403200-1773405000@stjames.bc.ca
SUMMARY:Said Mass
DESCRIPTION:Join us in the Blessed Sacrament Chapel (enter through the side gate on Cordova St.) \nEvery Monday\, Wednesday\, and Friday at 12:10pm except holiday Mondays. Subscribe to The Thurible for updates. \nAll are welcome!
URL:https://stjames.bc.ca/event/said-mass-4-3-3-2/2026-03-13
LOCATION:St James Anglican Church Vancouver\, 303 East Cordova Street\, Vancouver\, BC\, V6A 1L4\, Canada
CATEGORIES:All Welcome,St. James' Parish Vancouver
ATTACH;FMTTYPE=image/png:https://stjames.bc.ca/wp-content/uploads/2022/09/BSC-e1736894248979.png
ORGANIZER;CN="St. James' Anglican Church":MAILTO:office@stjames.bc.ca
END:VEVENT
BEGIN:VEVENT
DTSTART;TZID=America/Vancouver:20260314T090000
DTEND;TZID=America/Vancouver:20260314T093000
DTSTAMP:20260425T155132
CREATED:20240725T222200Z
LAST-MODIFIED:20241017T160049Z
UID:10003912-1773478800-1773480600@stjames.bc.ca
SUMMARY:Morning Prayer - via Zoom
DESCRIPTION:Join us every morning at 9:00am via Zoom for Morning Prayer. \nZoom details posted in our weekly newsletter. Please contact the office at office@stjames.bc.ca for details. \nAll are welcome!
URL:https://stjames.bc.ca/event/morning-prayer-via-zoom-2/2026-03-14
LOCATION:Zoom
CATEGORIES:All Welcome
ATTACH;FMTTYPE=image/jpeg:https://stjames.bc.ca/wp-content/uploads/2022/09/pexels-philip-ackermann-878151.jpg
ORGANIZER;CN="St. James' Anglican Church":MAILTO:office@stjames.bc.ca
END:VEVENT
BEGIN:VEVENT
DTSTART;TZID=America/Vancouver:20260314T160000
DTEND;TZID=America/Vancouver:20260314T163000
DTSTAMP:20260425T155132
CREATED:20241024T220235Z
LAST-MODIFIED:20260209T180038Z
UID:10007327-1773504000-1773505800@stjames.bc.ca
SUMMARY:Vigil Mass (Book of Common Prayer)
DESCRIPTION:Join us in the Blessed Sacrament Chapel (enter through the side gate on Cordova St.) \nEvery Saturday at 4:00pm \nAll are welcome!
URL:https://stjames.bc.ca/event/vigil-mass-4-2/2026-03-14
LOCATION:St James Anglican Church Vancouver\, 303 East Cordova Street\, Vancouver\, BC\, V6A 1L4\, Canada
CATEGORIES:All Welcome,St. James' Parish Vancouver
ATTACH;FMTTYPE=image/png:https://stjames.bc.ca/wp-content/uploads/2022/09/BSC-e1736894248979.png
ORGANIZER;CN="St. James' Anglican Church":MAILTO:office@stjames.bc.ca
END:VEVENT
BEGIN:VEVENT
DTSTART;TZID=America/Vancouver:20260315T160000
DTEND;TZID=America/Vancouver:20260315T170000
DTSTAMP:20260425T155132
CREATED:20260227T220442Z
LAST-MODIFIED:20260227T220442Z
UID:10009209-1773590400-1773594000@stjames.bc.ca
SUMMARY:Plainchant Evensong at St. James'
DESCRIPTION:March 15 at 4:00 pm\, there will be Plainchant Evensong & Benediction at St. James’ Anglican Church in Vancouver. \n\nPsalms: 114\, 115 (faburden)\nCanticles: Mode III\nMotet: O salutaris hostia (Thomas Aquinas\, cantatus super librum)\n\nAll are welcome!
URL:https://stjames.bc.ca/event/plainchant-evensong-at-st-james
LOCATION:St James Anglican Church Vancouver\, 303 East Cordova Street\, Vancouver\, BC\, V6A 1L4\, Canada
CATEGORIES:All Welcome,St. James' Parish Vancouver
ATTACH;FMTTYPE=application/pdf:https://stjames.bc.ca/wp-content/uploads/2026/02/March-evensong-digital-use.pdf
ORGANIZER;CN="St. James' Anglican Church":MAILTO:office@stjames.bc.ca
END:VEVENT
BEGIN:VEVENT
DTSTART;TZID=America/Vancouver:20260316T090000
DTEND;TZID=America/Vancouver:20260316T093000
DTSTAMP:20260425T155132
CREATED:20240725T222200Z
LAST-MODIFIED:20241017T160049Z
UID:10003913-1773651600-1773653400@stjames.bc.ca
SUMMARY:Morning Prayer - via Zoom
DESCRIPTION:Join us every morning at 9:00am via Zoom for Morning Prayer. \nZoom details posted in our weekly newsletter. Please contact the office at office@stjames.bc.ca for details. \nAll are welcome!
URL:https://stjames.bc.ca/event/morning-prayer-via-zoom-2/2026-03-16
LOCATION:Zoom
CATEGORIES:All Welcome
ATTACH;FMTTYPE=image/jpeg:https://stjames.bc.ca/wp-content/uploads/2022/09/pexels-philip-ackermann-878151.jpg
ORGANIZER;CN="St. James' Anglican Church":MAILTO:office@stjames.bc.ca
END:VEVENT
BEGIN:VEVENT
DTSTART;TZID=America/Vancouver:20260316T120000
DTEND;TZID=America/Vancouver:20260316T123000
DTSTAMP:20260425T155132
CREATED:20260212T190303Z
LAST-MODIFIED:20260227T222918Z
UID:10005206-1773662400-1773664200@stjames.bc.ca
SUMMARY:Said Mass
DESCRIPTION:Join us in the Blessed Sacrament Chapel (enter through the side gate on Cordova St.) \nEvery Monday\, Wednesday\, and Friday at 12:10pm except holiday Mondays. Subscribe to The Thurible for updates. \nAll are welcome!
URL:https://stjames.bc.ca/event/said-mass-4-3-3-2/2026-03-16
LOCATION:St James Anglican Church Vancouver\, 303 East Cordova Street\, Vancouver\, BC\, V6A 1L4\, Canada
CATEGORIES:All Welcome,St. James' Parish Vancouver
ATTACH;FMTTYPE=image/png:https://stjames.bc.ca/wp-content/uploads/2022/09/BSC-e1736894248979.png
ORGANIZER;CN="St. James' Anglican Church":MAILTO:office@stjames.bc.ca
END:VEVENT
BEGIN:VEVENT
DTSTART;TZID=America/Vancouver:20260317T090000
DTEND;TZID=America/Vancouver:20260317T093000
DTSTAMP:20260425T155132
CREATED:20240725T222200Z
LAST-MODIFIED:20241017T160049Z
UID:10003914-1773738000-1773739800@stjames.bc.ca
SUMMARY:Morning Prayer - via Zoom
DESCRIPTION:Join us every morning at 9:00am via Zoom for Morning Prayer. \nZoom details posted in our weekly newsletter. Please contact the office at office@stjames.bc.ca for details. \nAll are welcome!
URL:https://stjames.bc.ca/event/morning-prayer-via-zoom-2/2026-03-17
LOCATION:Zoom
CATEGORIES:All Welcome
ATTACH;FMTTYPE=image/jpeg:https://stjames.bc.ca/wp-content/uploads/2022/09/pexels-philip-ackermann-878151.jpg
ORGANIZER;CN="St. James' Anglican Church":MAILTO:office@stjames.bc.ca
END:VEVENT
BEGIN:VEVENT
DTSTART;TZID=America/Vancouver:20260317T093000
DTEND;TZID=America/Vancouver:20260317T100000
DTSTAMP:20260425T155132
CREATED:20241008T221133Z
LAST-MODIFIED:20260227T223032Z
UID:10008452-1773739800-1773741600@stjames.bc.ca
SUMMARY:Said Mass
DESCRIPTION:Join us in the Blessed Sacrament Chapel (enter through the side gate on Cordova St.) \nEvery Tuesday morning at 9:30am except for the day after holiday Mondays. Subscribe to The Thurible for updates. \nAll are welcome!
URL:https://stjames.bc.ca/event/said-mass-3-2-4/2026-03-17
LOCATION:St James Anglican Church Vancouver\, 303 East Cordova Street\, Vancouver\, BC\, V6A 1L4\, Canada
CATEGORIES:All Welcome,St. James' Parish Vancouver
ATTACH;FMTTYPE=image/png:https://stjames.bc.ca/wp-content/uploads/2022/09/BSC-e1736894248979.png
END:VEVENT
BEGIN:VEVENT
DTSTART;TZID=America/Vancouver:20260318T090000
DTEND;TZID=America/Vancouver:20260318T093000
DTSTAMP:20260425T155132
CREATED:20240725T222200Z
LAST-MODIFIED:20241017T160049Z
UID:10003915-1773824400-1773826200@stjames.bc.ca
SUMMARY:Morning Prayer - via Zoom
DESCRIPTION:Join us every morning at 9:00am via Zoom for Morning Prayer. \nZoom details posted in our weekly newsletter. Please contact the office at office@stjames.bc.ca for details. \nAll are welcome!
URL:https://stjames.bc.ca/event/morning-prayer-via-zoom-2/2026-03-18
LOCATION:Zoom
CATEGORIES:All Welcome
ATTACH;FMTTYPE=image/jpeg:https://stjames.bc.ca/wp-content/uploads/2022/09/pexels-philip-ackermann-878151.jpg
ORGANIZER;CN="St. James' Anglican Church":MAILTO:office@stjames.bc.ca
END:VEVENT
END:VCALENDAR