BEGIN:VCALENDAR
VERSION:2.0
PRODID:-//St James&#039; Anglican Church Vancouver - ECPv6.15.20//NONSGML v1.0//EN
CALSCALE:GREGORIAN
METHOD:PUBLISH
X-ORIGINAL-URL:https://stjames.bc.ca
X-WR-CALDESC:Events for St James&#039; Anglican Church Vancouver
REFRESH-INTERVAL;VALUE=DURATION:PT1H
X-Robots-Tag:noindex
X-PUBLISHED-TTL:PT1H
BEGIN:VTIMEZONE
TZID:America/Vancouver
BEGIN:DAYLIGHT
TZOFFSETFROM:-0800
TZOFFSETTO:-0700
TZNAME:PDT
DTSTART:20250309T100000
END:DAYLIGHT
BEGIN:STANDARD
TZOFFSETFROM:-0700
TZOFFSETTO:-0800
TZNAME:PST
DTSTART:20251102T090000
END:STANDARD
BEGIN:DAYLIGHT
TZOFFSETFROM:-0800
TZOFFSETTO:-0700
TZNAME:PDT
DTSTART:20260308T100000
END:DAYLIGHT
BEGIN:STANDARD
TZOFFSETFROM:-0700
TZOFFSETTO:-0800
TZNAME:PST
DTSTART:20261101T090000
END:STANDARD
BEGIN:DAYLIGHT
TZOFFSETFROM:-0800
TZOFFSETTO:-0700
TZNAME:PDT
DTSTART:20270314T100000
END:DAYLIGHT
BEGIN:STANDARD
TZOFFSETFROM:-0700
TZOFFSETTO:-0800
TZNAME:PST
DTSTART:20271107T090000
END:STANDARD
END:VTIMEZONE
BEGIN:VEVENT
DTSTART;TZID=America/Vancouver:20260601T090000
DTEND;TZID=America/Vancouver:20260601T093000
DTSTAMP:20260425T173050
CREATED:20240725T222200Z
LAST-MODIFIED:20241017T160049Z
UID:10003979-1780304400-1780306200@stjames.bc.ca
SUMMARY:Morning Prayer - via Zoom
DESCRIPTION:Join us every morning at 9:00am via Zoom for Morning Prayer. \nZoom details posted in our weekly newsletter. Please contact the office at office@stjames.bc.ca for details. \nAll are welcome!
URL:https://stjames.bc.ca/event/morning-prayer-via-zoom-2/2026-06-01
LOCATION:Zoom
CATEGORIES:All Welcome
ATTACH;FMTTYPE=image/jpeg:https://stjames.bc.ca/wp-content/uploads/2022/09/pexels-philip-ackermann-878151.jpg
ORGANIZER;CN="St. James' Anglican Church":MAILTO:office@stjames.bc.ca
END:VEVENT
BEGIN:VEVENT
DTSTART;TZID=America/Vancouver:20260601T120000
DTEND;TZID=America/Vancouver:20260601T123000
DTSTAMP:20260425T173050
CREATED:20260212T190303Z
LAST-MODIFIED:20260227T222918Z
UID:10005239-1780315200-1780317000@stjames.bc.ca
SUMMARY:Said Mass
DESCRIPTION:Join us in the Blessed Sacrament Chapel (enter through the side gate on Cordova St.) \nEvery Monday\, Wednesday\, and Friday at 12:10pm except holiday Mondays. Subscribe to The Thurible for updates. \nAll are welcome!
URL:https://stjames.bc.ca/event/said-mass-4-3-3-2/2026-06-01
LOCATION:St James Anglican Church Vancouver\, 303 East Cordova Street\, Vancouver\, BC\, V6A 1L4\, Canada
CATEGORIES:All Welcome,St. James' Parish Vancouver
ATTACH;FMTTYPE=image/png:https://stjames.bc.ca/wp-content/uploads/2022/09/BSC-e1736894248979.png
ORGANIZER;CN="St. James' Anglican Church":MAILTO:office@stjames.bc.ca
END:VEVENT
BEGIN:VEVENT
DTSTART;TZID=America/Vancouver:20260602T090000
DTEND;TZID=America/Vancouver:20260602T093000
DTSTAMP:20260425T173050
CREATED:20240725T222200Z
LAST-MODIFIED:20241017T160049Z
UID:10003980-1780390800-1780392600@stjames.bc.ca
SUMMARY:Morning Prayer - via Zoom
DESCRIPTION:Join us every morning at 9:00am via Zoom for Morning Prayer. \nZoom details posted in our weekly newsletter. Please contact the office at office@stjames.bc.ca for details. \nAll are welcome!
URL:https://stjames.bc.ca/event/morning-prayer-via-zoom-2/2026-06-02
LOCATION:Zoom
CATEGORIES:All Welcome
ATTACH;FMTTYPE=image/jpeg:https://stjames.bc.ca/wp-content/uploads/2022/09/pexels-philip-ackermann-878151.jpg
ORGANIZER;CN="St. James' Anglican Church":MAILTO:office@stjames.bc.ca
END:VEVENT
BEGIN:VEVENT
DTSTART;TZID=America/Vancouver:20260602T093000
DTEND;TZID=America/Vancouver:20260602T100000
DTSTAMP:20260425T173050
CREATED:20241008T221133Z
LAST-MODIFIED:20260227T223032Z
UID:10008463-1780392600-1780394400@stjames.bc.ca
SUMMARY:Said Mass
DESCRIPTION:Join us in the Blessed Sacrament Chapel (enter through the side gate on Cordova St.) \nEvery Tuesday morning at 9:30am except for the day after holiday Mondays. Subscribe to The Thurible for updates. \nAll are welcome!
URL:https://stjames.bc.ca/event/said-mass-3-2-4/2026-06-02
LOCATION:St James Anglican Church Vancouver\, 303 East Cordova Street\, Vancouver\, BC\, V6A 1L4\, Canada
CATEGORIES:All Welcome,St. James' Parish Vancouver
ATTACH;FMTTYPE=image/png:https://stjames.bc.ca/wp-content/uploads/2022/09/BSC-e1736894248979.png
END:VEVENT
BEGIN:VEVENT
DTSTART;TZID=America/Vancouver:20260603T090000
DTEND;TZID=America/Vancouver:20260603T093000
DTSTAMP:20260425T173050
CREATED:20240725T222200Z
LAST-MODIFIED:20241017T160049Z
UID:10003981-1780477200-1780479000@stjames.bc.ca
SUMMARY:Morning Prayer - via Zoom
DESCRIPTION:Join us every morning at 9:00am via Zoom for Morning Prayer. \nZoom details posted in our weekly newsletter. Please contact the office at office@stjames.bc.ca for details. \nAll are welcome!
URL:https://stjames.bc.ca/event/morning-prayer-via-zoom-2/2026-06-03
LOCATION:Zoom
CATEGORIES:All Welcome
ATTACH;FMTTYPE=image/jpeg:https://stjames.bc.ca/wp-content/uploads/2022/09/pexels-philip-ackermann-878151.jpg
ORGANIZER;CN="St. James' Anglican Church":MAILTO:office@stjames.bc.ca
END:VEVENT
BEGIN:VEVENT
DTSTART;TZID=America/Vancouver:20260603T120000
DTEND;TZID=America/Vancouver:20260603T123000
DTSTAMP:20260425T173050
CREATED:20260212T190303Z
LAST-MODIFIED:20260227T222918Z
UID:10005240-1780488000-1780489800@stjames.bc.ca
SUMMARY:Said Mass
DESCRIPTION:Join us in the Blessed Sacrament Chapel (enter through the side gate on Cordova St.) \nEvery Monday\, Wednesday\, and Friday at 12:10pm except holiday Mondays. Subscribe to The Thurible for updates. \nAll are welcome!
URL:https://stjames.bc.ca/event/said-mass-4-3-3-2/2026-06-03
LOCATION:St James Anglican Church Vancouver\, 303 East Cordova Street\, Vancouver\, BC\, V6A 1L4\, Canada
CATEGORIES:All Welcome,St. James' Parish Vancouver
ATTACH;FMTTYPE=image/png:https://stjames.bc.ca/wp-content/uploads/2022/09/BSC-e1736894248979.png
ORGANIZER;CN="St. James' Anglican Church":MAILTO:office@stjames.bc.ca
END:VEVENT
BEGIN:VEVENT
DTSTART;TZID=America/Vancouver:20260604T090000
DTEND;TZID=America/Vancouver:20260604T093000
DTSTAMP:20260425T173050
CREATED:20240725T222200Z
LAST-MODIFIED:20241017T160049Z
UID:10003982-1780563600-1780565400@stjames.bc.ca
SUMMARY:Morning Prayer - via Zoom
DESCRIPTION:Join us every morning at 9:00am via Zoom for Morning Prayer. \nZoom details posted in our weekly newsletter. Please contact the office at office@stjames.bc.ca for details. \nAll are welcome!
URL:https://stjames.bc.ca/event/morning-prayer-via-zoom-2/2026-06-04
LOCATION:Zoom
CATEGORIES:All Welcome
ATTACH;FMTTYPE=image/jpeg:https://stjames.bc.ca/wp-content/uploads/2022/09/pexels-philip-ackermann-878151.jpg
ORGANIZER;CN="St. James' Anglican Church":MAILTO:office@stjames.bc.ca
END:VEVENT
BEGIN:VEVENT
DTSTART;TZID=America/Vancouver:20260604T093000
DTEND;TZID=America/Vancouver:20260604T100000
DTSTAMP:20260425T173050
CREATED:20240531T222315Z
LAST-MODIFIED:20260227T223131Z
UID:10009230-1780565400-1780567200@stjames.bc.ca
SUMMARY:Said Mass with Anointing
DESCRIPTION:Join us in the Blessed Sacrament Chapel (enter through the side gate on Cordova St.) every Thursday morning at 9:30 am. \nMass will include the sacrament of holy anointing for healing. All are welcome! \nSubscribe to The Thurible for updates.
URL:https://stjames.bc.ca/event/said-mass-with-anointing-2-2/2026-06-04
LOCATION:St James Anglican Church Vancouver\, 303 East Cordova Street\, Vancouver\, BC\, V6A 1L4\, Canada
CATEGORIES:All Welcome,St. James' Parish Vancouver
ATTACH;FMTTYPE=image/png:https://stjames.bc.ca/wp-content/uploads/2022/09/BSC-e1736894248979.png
ORGANIZER;CN="St. James' Anglican Church":MAILTO:office@stjames.bc.ca
END:VEVENT
BEGIN:VEVENT
DTSTART;TZID=America/Vancouver:20260604T183000
DTEND;TZID=America/Vancouver:20260604T200000
DTSTAMP:20260425T173050
CREATED:20260302T234213Z
LAST-MODIFIED:20260302T234213Z
UID:10009727-1780597800-1780603200@stjames.bc.ca
SUMMARY:Corpus et Sanguis Christi
DESCRIPTION:Solemn Mass at 6:30 pm. All are welcome!
URL:https://stjames.bc.ca/event/corpus-et-sanguis-christi-2
LOCATION:St James Anglican Church Vancouver\, 303 East Cordova Street\, Vancouver\, BC\, V6A 1L4\, Canada
CATEGORIES:All Welcome,St. James' Parish Vancouver
ATTACH;FMTTYPE=image/jpeg:https://stjames.bc.ca/wp-content/uploads/2025/01/Christ-taken-down-crop.jpg
ORGANIZER;CN="St. James' Anglican Church":MAILTO:office@stjames.bc.ca
END:VEVENT
BEGIN:VEVENT
DTSTART;TZID=America/Vancouver:20260605T090000
DTEND;TZID=America/Vancouver:20260605T093000
DTSTAMP:20260425T173050
CREATED:20240725T222200Z
LAST-MODIFIED:20241017T160049Z
UID:10003983-1780650000-1780651800@stjames.bc.ca
SUMMARY:Morning Prayer - via Zoom
DESCRIPTION:Join us every morning at 9:00am via Zoom for Morning Prayer. \nZoom details posted in our weekly newsletter. Please contact the office at office@stjames.bc.ca for details. \nAll are welcome!
URL:https://stjames.bc.ca/event/morning-prayer-via-zoom-2/2026-06-05
LOCATION:Zoom
CATEGORIES:All Welcome
ATTACH;FMTTYPE=image/jpeg:https://stjames.bc.ca/wp-content/uploads/2022/09/pexels-philip-ackermann-878151.jpg
ORGANIZER;CN="St. James' Anglican Church":MAILTO:office@stjames.bc.ca
END:VEVENT
BEGIN:VEVENT
DTSTART;TZID=America/Vancouver:20260605T120000
DTEND;TZID=America/Vancouver:20260605T123000
DTSTAMP:20260425T173050
CREATED:20260212T190303Z
LAST-MODIFIED:20260227T222918Z
UID:10005241-1780660800-1780662600@stjames.bc.ca
SUMMARY:Said Mass
DESCRIPTION:Join us in the Blessed Sacrament Chapel (enter through the side gate on Cordova St.) \nEvery Monday\, Wednesday\, and Friday at 12:10pm except holiday Mondays. Subscribe to The Thurible for updates. \nAll are welcome!
URL:https://stjames.bc.ca/event/said-mass-4-3-3-2/2026-06-05
LOCATION:St James Anglican Church Vancouver\, 303 East Cordova Street\, Vancouver\, BC\, V6A 1L4\, Canada
CATEGORIES:All Welcome,St. James' Parish Vancouver
ATTACH;FMTTYPE=image/png:https://stjames.bc.ca/wp-content/uploads/2022/09/BSC-e1736894248979.png
ORGANIZER;CN="St. James' Anglican Church":MAILTO:office@stjames.bc.ca
END:VEVENT
BEGIN:VEVENT
DTSTART;TZID=America/Vancouver:20260606T090000
DTEND;TZID=America/Vancouver:20260606T093000
DTSTAMP:20260425T173050
CREATED:20240725T222200Z
LAST-MODIFIED:20241017T160049Z
UID:10003984-1780736400-1780738200@stjames.bc.ca
SUMMARY:Morning Prayer - via Zoom
DESCRIPTION:Join us every morning at 9:00am via Zoom for Morning Prayer. \nZoom details posted in our weekly newsletter. Please contact the office at office@stjames.bc.ca for details. \nAll are welcome!
URL:https://stjames.bc.ca/event/morning-prayer-via-zoom-2/2026-06-06
LOCATION:Zoom
CATEGORIES:All Welcome
ATTACH;FMTTYPE=image/jpeg:https://stjames.bc.ca/wp-content/uploads/2022/09/pexels-philip-ackermann-878151.jpg
ORGANIZER;CN="St. James' Anglican Church":MAILTO:office@stjames.bc.ca
END:VEVENT
BEGIN:VEVENT
DTSTART;TZID=America/Vancouver:20260606T160000
DTEND;TZID=America/Vancouver:20260606T163000
DTSTAMP:20260425T173050
CREATED:20241024T220235Z
LAST-MODIFIED:20260209T180038Z
UID:10007339-1780761600-1780763400@stjames.bc.ca
SUMMARY:Vigil Mass (Book of Common Prayer)
DESCRIPTION:Join us in the Blessed Sacrament Chapel (enter through the side gate on Cordova St.) \nEvery Saturday at 4:00pm \nAll are welcome!
URL:https://stjames.bc.ca/event/vigil-mass-4-2/2026-06-06
LOCATION:St James Anglican Church Vancouver\, 303 East Cordova Street\, Vancouver\, BC\, V6A 1L4\, Canada
CATEGORIES:All Welcome,St. James' Parish Vancouver
ATTACH;FMTTYPE=image/png:https://stjames.bc.ca/wp-content/uploads/2022/09/BSC-e1736894248979.png
ORGANIZER;CN="St. James' Anglican Church":MAILTO:office@stjames.bc.ca
END:VEVENT
BEGIN:VEVENT
DTSTART;TZID=America/Vancouver:20260608T090000
DTEND;TZID=America/Vancouver:20260608T093000
DTSTAMP:20260425T173050
CREATED:20240725T222200Z
LAST-MODIFIED:20241017T160049Z
UID:10003985-1780909200-1780911000@stjames.bc.ca
SUMMARY:Morning Prayer - via Zoom
DESCRIPTION:Join us every morning at 9:00am via Zoom for Morning Prayer. \nZoom details posted in our weekly newsletter. Please contact the office at office@stjames.bc.ca for details. \nAll are welcome!
URL:https://stjames.bc.ca/event/morning-prayer-via-zoom-2/2026-06-08
LOCATION:Zoom
CATEGORIES:All Welcome
ATTACH;FMTTYPE=image/jpeg:https://stjames.bc.ca/wp-content/uploads/2022/09/pexels-philip-ackermann-878151.jpg
ORGANIZER;CN="St. James' Anglican Church":MAILTO:office@stjames.bc.ca
END:VEVENT
BEGIN:VEVENT
DTSTART;TZID=America/Vancouver:20260608T120000
DTEND;TZID=America/Vancouver:20260608T123000
DTSTAMP:20260425T173050
CREATED:20260212T190303Z
LAST-MODIFIED:20260227T222918Z
UID:10005242-1780920000-1780921800@stjames.bc.ca
SUMMARY:Said Mass
DESCRIPTION:Join us in the Blessed Sacrament Chapel (enter through the side gate on Cordova St.) \nEvery Monday\, Wednesday\, and Friday at 12:10pm except holiday Mondays. Subscribe to The Thurible for updates. \nAll are welcome!
URL:https://stjames.bc.ca/event/said-mass-4-3-3-2/2026-06-08
LOCATION:St James Anglican Church Vancouver\, 303 East Cordova Street\, Vancouver\, BC\, V6A 1L4\, Canada
CATEGORIES:All Welcome,St. James' Parish Vancouver
ATTACH;FMTTYPE=image/png:https://stjames.bc.ca/wp-content/uploads/2022/09/BSC-e1736894248979.png
ORGANIZER;CN="St. James' Anglican Church":MAILTO:office@stjames.bc.ca
END:VEVENT
BEGIN:VEVENT
DTSTART;TZID=America/Vancouver:20260609T090000
DTEND;TZID=America/Vancouver:20260609T093000
DTSTAMP:20260425T173050
CREATED:20240725T222200Z
LAST-MODIFIED:20241017T160049Z
UID:10003986-1780995600-1780997400@stjames.bc.ca
SUMMARY:Morning Prayer - via Zoom
DESCRIPTION:Join us every morning at 9:00am via Zoom for Morning Prayer. \nZoom details posted in our weekly newsletter. Please contact the office at office@stjames.bc.ca for details. \nAll are welcome!
URL:https://stjames.bc.ca/event/morning-prayer-via-zoom-2/2026-06-09
LOCATION:Zoom
CATEGORIES:All Welcome
ATTACH;FMTTYPE=image/jpeg:https://stjames.bc.ca/wp-content/uploads/2022/09/pexels-philip-ackermann-878151.jpg
ORGANIZER;CN="St. James' Anglican Church":MAILTO:office@stjames.bc.ca
END:VEVENT
BEGIN:VEVENT
DTSTART;TZID=America/Vancouver:20260609T093000
DTEND;TZID=America/Vancouver:20260609T100000
DTSTAMP:20260425T173050
CREATED:20241008T221133Z
LAST-MODIFIED:20260227T223032Z
UID:10008464-1780997400-1780999200@stjames.bc.ca
SUMMARY:Said Mass
DESCRIPTION:Join us in the Blessed Sacrament Chapel (enter through the side gate on Cordova St.) \nEvery Tuesday morning at 9:30am except for the day after holiday Mondays. Subscribe to The Thurible for updates. \nAll are welcome!
URL:https://stjames.bc.ca/event/said-mass-3-2-4/2026-06-09
LOCATION:St James Anglican Church Vancouver\, 303 East Cordova Street\, Vancouver\, BC\, V6A 1L4\, Canada
CATEGORIES:All Welcome,St. James' Parish Vancouver
ATTACH;FMTTYPE=image/png:https://stjames.bc.ca/wp-content/uploads/2022/09/BSC-e1736894248979.png
END:VEVENT
BEGIN:VEVENT
DTSTART;TZID=America/Vancouver:20260610T090000
DTEND;TZID=America/Vancouver:20260610T093000
DTSTAMP:20260425T173050
CREATED:20240725T222200Z
LAST-MODIFIED:20241017T160049Z
UID:10003987-1781082000-1781083800@stjames.bc.ca
SUMMARY:Morning Prayer - via Zoom
DESCRIPTION:Join us every morning at 9:00am via Zoom for Morning Prayer. \nZoom details posted in our weekly newsletter. Please contact the office at office@stjames.bc.ca for details. \nAll are welcome!
URL:https://stjames.bc.ca/event/morning-prayer-via-zoom-2/2026-06-10
LOCATION:Zoom
CATEGORIES:All Welcome
ATTACH;FMTTYPE=image/jpeg:https://stjames.bc.ca/wp-content/uploads/2022/09/pexels-philip-ackermann-878151.jpg
ORGANIZER;CN="St. James' Anglican Church":MAILTO:office@stjames.bc.ca
END:VEVENT
BEGIN:VEVENT
DTSTART;TZID=America/Vancouver:20260610T120000
DTEND;TZID=America/Vancouver:20260610T123000
DTSTAMP:20260425T173050
CREATED:20260212T190303Z
LAST-MODIFIED:20260227T222918Z
UID:10005243-1781092800-1781094600@stjames.bc.ca
SUMMARY:Said Mass
DESCRIPTION:Join us in the Blessed Sacrament Chapel (enter through the side gate on Cordova St.) \nEvery Monday\, Wednesday\, and Friday at 12:10pm except holiday Mondays. Subscribe to The Thurible for updates. \nAll are welcome!
URL:https://stjames.bc.ca/event/said-mass-4-3-3-2/2026-06-10
LOCATION:St James Anglican Church Vancouver\, 303 East Cordova Street\, Vancouver\, BC\, V6A 1L4\, Canada
CATEGORIES:All Welcome,St. James' Parish Vancouver
ATTACH;FMTTYPE=image/png:https://stjames.bc.ca/wp-content/uploads/2022/09/BSC-e1736894248979.png
ORGANIZER;CN="St. James' Anglican Church":MAILTO:office@stjames.bc.ca
END:VEVENT
BEGIN:VEVENT
DTSTART;TZID=America/Vancouver:20260611T090000
DTEND;TZID=America/Vancouver:20260611T093000
DTSTAMP:20260425T173050
CREATED:20240725T222200Z
LAST-MODIFIED:20241017T160049Z
UID:10003988-1781168400-1781170200@stjames.bc.ca
SUMMARY:Morning Prayer - via Zoom
DESCRIPTION:Join us every morning at 9:00am via Zoom for Morning Prayer. \nZoom details posted in our weekly newsletter. Please contact the office at office@stjames.bc.ca for details. \nAll are welcome!
URL:https://stjames.bc.ca/event/morning-prayer-via-zoom-2/2026-06-11
LOCATION:Zoom
CATEGORIES:All Welcome
ATTACH;FMTTYPE=image/jpeg:https://stjames.bc.ca/wp-content/uploads/2022/09/pexels-philip-ackermann-878151.jpg
ORGANIZER;CN="St. James' Anglican Church":MAILTO:office@stjames.bc.ca
END:VEVENT
BEGIN:VEVENT
DTSTART;TZID=America/Vancouver:20260611T093000
DTEND;TZID=America/Vancouver:20260611T100000
DTSTAMP:20260425T173050
CREATED:20240531T222315Z
LAST-MODIFIED:20260227T223131Z
UID:10009231-1781170200-1781172000@stjames.bc.ca
SUMMARY:Said Mass with Anointing
DESCRIPTION:Join us in the Blessed Sacrament Chapel (enter through the side gate on Cordova St.) every Thursday morning at 9:30 am. \nMass will include the sacrament of holy anointing for healing. All are welcome! \nSubscribe to The Thurible for updates.
URL:https://stjames.bc.ca/event/said-mass-with-anointing-2-2/2026-06-11
LOCATION:St James Anglican Church Vancouver\, 303 East Cordova Street\, Vancouver\, BC\, V6A 1L4\, Canada
CATEGORIES:All Welcome,St. James' Parish Vancouver
ATTACH;FMTTYPE=image/png:https://stjames.bc.ca/wp-content/uploads/2022/09/BSC-e1736894248979.png
ORGANIZER;CN="St. James' Anglican Church":MAILTO:office@stjames.bc.ca
END:VEVENT
BEGIN:VEVENT
DTSTART;TZID=America/Vancouver:20260612T090000
DTEND;TZID=America/Vancouver:20260612T093000
DTSTAMP:20260425T173050
CREATED:20240725T222200Z
LAST-MODIFIED:20241017T160049Z
UID:10003989-1781254800-1781256600@stjames.bc.ca
SUMMARY:Morning Prayer - via Zoom
DESCRIPTION:Join us every morning at 9:00am via Zoom for Morning Prayer. \nZoom details posted in our weekly newsletter. Please contact the office at office@stjames.bc.ca for details. \nAll are welcome!
URL:https://stjames.bc.ca/event/morning-prayer-via-zoom-2/2026-06-12
LOCATION:Zoom
CATEGORIES:All Welcome
ATTACH;FMTTYPE=image/jpeg:https://stjames.bc.ca/wp-content/uploads/2022/09/pexels-philip-ackermann-878151.jpg
ORGANIZER;CN="St. James' Anglican Church":MAILTO:office@stjames.bc.ca
END:VEVENT
BEGIN:VEVENT
DTSTART;TZID=America/Vancouver:20260612T120000
DTEND;TZID=America/Vancouver:20260612T123000
DTSTAMP:20260425T173050
CREATED:20260212T190303Z
LAST-MODIFIED:20260227T222918Z
UID:10005244-1781265600-1781267400@stjames.bc.ca
SUMMARY:Said Mass
DESCRIPTION:Join us in the Blessed Sacrament Chapel (enter through the side gate on Cordova St.) \nEvery Monday\, Wednesday\, and Friday at 12:10pm except holiday Mondays. Subscribe to The Thurible for updates. \nAll are welcome!
URL:https://stjames.bc.ca/event/said-mass-4-3-3-2/2026-06-12
LOCATION:St James Anglican Church Vancouver\, 303 East Cordova Street\, Vancouver\, BC\, V6A 1L4\, Canada
CATEGORIES:All Welcome,St. James' Parish Vancouver
ATTACH;FMTTYPE=image/png:https://stjames.bc.ca/wp-content/uploads/2022/09/BSC-e1736894248979.png
ORGANIZER;CN="St. James' Anglican Church":MAILTO:office@stjames.bc.ca
END:VEVENT
BEGIN:VEVENT
DTSTART;TZID=America/Vancouver:20260613T090000
DTEND;TZID=America/Vancouver:20260613T093000
DTSTAMP:20260425T173050
CREATED:20240725T222200Z
LAST-MODIFIED:20241017T160049Z
UID:10003990-1781341200-1781343000@stjames.bc.ca
SUMMARY:Morning Prayer - via Zoom
DESCRIPTION:Join us every morning at 9:00am via Zoom for Morning Prayer. \nZoom details posted in our weekly newsletter. Please contact the office at office@stjames.bc.ca for details. \nAll are welcome!
URL:https://stjames.bc.ca/event/morning-prayer-via-zoom-2/2026-06-13
LOCATION:Zoom
CATEGORIES:All Welcome
ATTACH;FMTTYPE=image/jpeg:https://stjames.bc.ca/wp-content/uploads/2022/09/pexels-philip-ackermann-878151.jpg
ORGANIZER;CN="St. James' Anglican Church":MAILTO:office@stjames.bc.ca
END:VEVENT
BEGIN:VEVENT
DTSTART;TZID=America/Vancouver:20260613T160000
DTEND;TZID=America/Vancouver:20260613T163000
DTSTAMP:20260425T173050
CREATED:20241024T220235Z
LAST-MODIFIED:20260209T180038Z
UID:10007340-1781366400-1781368200@stjames.bc.ca
SUMMARY:Vigil Mass (Book of Common Prayer)
DESCRIPTION:Join us in the Blessed Sacrament Chapel (enter through the side gate on Cordova St.) \nEvery Saturday at 4:00pm \nAll are welcome!
URL:https://stjames.bc.ca/event/vigil-mass-4-2/2026-06-13
LOCATION:St James Anglican Church Vancouver\, 303 East Cordova Street\, Vancouver\, BC\, V6A 1L4\, Canada
CATEGORIES:All Welcome,St. James' Parish Vancouver
ATTACH;FMTTYPE=image/png:https://stjames.bc.ca/wp-content/uploads/2022/09/BSC-e1736894248979.png
ORGANIZER;CN="St. James' Anglican Church":MAILTO:office@stjames.bc.ca
END:VEVENT
BEGIN:VEVENT
DTSTART;TZID=America/Vancouver:20260615T090000
DTEND;TZID=America/Vancouver:20260615T093000
DTSTAMP:20260425T173050
CREATED:20240725T222200Z
LAST-MODIFIED:20241017T160049Z
UID:10003991-1781514000-1781515800@stjames.bc.ca
SUMMARY:Morning Prayer - via Zoom
DESCRIPTION:Join us every morning at 9:00am via Zoom for Morning Prayer. \nZoom details posted in our weekly newsletter. Please contact the office at office@stjames.bc.ca for details. \nAll are welcome!
URL:https://stjames.bc.ca/event/morning-prayer-via-zoom-2/2026-06-15
LOCATION:Zoom
CATEGORIES:All Welcome
ATTACH;FMTTYPE=image/jpeg:https://stjames.bc.ca/wp-content/uploads/2022/09/pexels-philip-ackermann-878151.jpg
ORGANIZER;CN="St. James' Anglican Church":MAILTO:office@stjames.bc.ca
END:VEVENT
BEGIN:VEVENT
DTSTART;TZID=America/Vancouver:20260615T120000
DTEND;TZID=America/Vancouver:20260615T123000
DTSTAMP:20260425T173050
CREATED:20260212T190303Z
LAST-MODIFIED:20260227T222918Z
UID:10005245-1781524800-1781526600@stjames.bc.ca
SUMMARY:Said Mass
DESCRIPTION:Join us in the Blessed Sacrament Chapel (enter through the side gate on Cordova St.) \nEvery Monday\, Wednesday\, and Friday at 12:10pm except holiday Mondays. Subscribe to The Thurible for updates. \nAll are welcome!
URL:https://stjames.bc.ca/event/said-mass-4-3-3-2/2026-06-15
LOCATION:St James Anglican Church Vancouver\, 303 East Cordova Street\, Vancouver\, BC\, V6A 1L4\, Canada
CATEGORIES:All Welcome,St. James' Parish Vancouver
ATTACH;FMTTYPE=image/png:https://stjames.bc.ca/wp-content/uploads/2022/09/BSC-e1736894248979.png
ORGANIZER;CN="St. James' Anglican Church":MAILTO:office@stjames.bc.ca
END:VEVENT
BEGIN:VEVENT
DTSTART;TZID=America/Vancouver:20260616T090000
DTEND;TZID=America/Vancouver:20260616T093000
DTSTAMP:20260425T173050
CREATED:20240725T222200Z
LAST-MODIFIED:20241017T160049Z
UID:10003992-1781600400-1781602200@stjames.bc.ca
SUMMARY:Morning Prayer - via Zoom
DESCRIPTION:Join us every morning at 9:00am via Zoom for Morning Prayer. \nZoom details posted in our weekly newsletter. Please contact the office at office@stjames.bc.ca for details. \nAll are welcome!
URL:https://stjames.bc.ca/event/morning-prayer-via-zoom-2/2026-06-16
LOCATION:Zoom
CATEGORIES:All Welcome
ATTACH;FMTTYPE=image/jpeg:https://stjames.bc.ca/wp-content/uploads/2022/09/pexels-philip-ackermann-878151.jpg
ORGANIZER;CN="St. James' Anglican Church":MAILTO:office@stjames.bc.ca
END:VEVENT
BEGIN:VEVENT
DTSTART;TZID=America/Vancouver:20260616T093000
DTEND;TZID=America/Vancouver:20260616T100000
DTSTAMP:20260425T173050
CREATED:20241008T221133Z
LAST-MODIFIED:20260227T223032Z
UID:10008465-1781602200-1781604000@stjames.bc.ca
SUMMARY:Said Mass
DESCRIPTION:Join us in the Blessed Sacrament Chapel (enter through the side gate on Cordova St.) \nEvery Tuesday morning at 9:30am except for the day after holiday Mondays. Subscribe to The Thurible for updates. \nAll are welcome!
URL:https://stjames.bc.ca/event/said-mass-3-2-4/2026-06-16
LOCATION:St James Anglican Church Vancouver\, 303 East Cordova Street\, Vancouver\, BC\, V6A 1L4\, Canada
CATEGORIES:All Welcome,St. James' Parish Vancouver
ATTACH;FMTTYPE=image/png:https://stjames.bc.ca/wp-content/uploads/2022/09/BSC-e1736894248979.png
END:VEVENT
BEGIN:VEVENT
DTSTART;TZID=America/Vancouver:20260617T090000
DTEND;TZID=America/Vancouver:20260617T093000
DTSTAMP:20260425T173050
CREATED:20240725T222200Z
LAST-MODIFIED:20241017T160049Z
UID:10003993-1781686800-1781688600@stjames.bc.ca
SUMMARY:Morning Prayer - via Zoom
DESCRIPTION:Join us every morning at 9:00am via Zoom for Morning Prayer. \nZoom details posted in our weekly newsletter. Please contact the office at office@stjames.bc.ca for details. \nAll are welcome!
URL:https://stjames.bc.ca/event/morning-prayer-via-zoom-2/2026-06-17
LOCATION:Zoom
CATEGORIES:All Welcome
ATTACH;FMTTYPE=image/jpeg:https://stjames.bc.ca/wp-content/uploads/2022/09/pexels-philip-ackermann-878151.jpg
ORGANIZER;CN="St. James' Anglican Church":MAILTO:office@stjames.bc.ca
END:VEVENT
END:VCALENDAR