BEGIN:VCALENDAR
VERSION:2.0
PRODID:-//St James&#039; Anglican Church Vancouver - ECPv6.15.20//NONSGML v1.0//EN
CALSCALE:GREGORIAN
METHOD:PUBLISH
X-WR-CALNAME:St James&#039; Anglican Church Vancouver
X-ORIGINAL-URL:https://stjames.bc.ca
X-WR-CALDESC:Events for St James&#039; Anglican Church Vancouver
REFRESH-INTERVAL;VALUE=DURATION:PT1H
X-Robots-Tag:noindex
X-PUBLISHED-TTL:PT1H
BEGIN:VTIMEZONE
TZID:America/Vancouver
BEGIN:DAYLIGHT
TZOFFSETFROM:-0800
TZOFFSETTO:-0700
TZNAME:PDT
DTSTART:20250309T100000
END:DAYLIGHT
BEGIN:STANDARD
TZOFFSETFROM:-0700
TZOFFSETTO:-0800
TZNAME:PST
DTSTART:20251102T090000
END:STANDARD
BEGIN:DAYLIGHT
TZOFFSETFROM:-0800
TZOFFSETTO:-0700
TZNAME:PDT
DTSTART:20260308T100000
END:DAYLIGHT
BEGIN:STANDARD
TZOFFSETFROM:-0700
TZOFFSETTO:-0800
TZNAME:PST
DTSTART:20261101T090000
END:STANDARD
BEGIN:DAYLIGHT
TZOFFSETFROM:-0800
TZOFFSETTO:-0700
TZNAME:PDT
DTSTART:20270314T100000
END:DAYLIGHT
BEGIN:STANDARD
TZOFFSETFROM:-0700
TZOFFSETTO:-0800
TZNAME:PST
DTSTART:20271107T090000
END:STANDARD
END:VTIMEZONE
BEGIN:VEVENT
DTSTART;TZID=America/Vancouver:20260701T090000
DTEND;TZID=America/Vancouver:20260701T093000
DTSTAMP:20260425T185429
CREATED:20240725T222200Z
LAST-MODIFIED:20241017T160049Z
UID:10004005-1782896400-1782898200@stjames.bc.ca
SUMMARY:Morning Prayer - via Zoom
DESCRIPTION:Join us every morning at 9:00am via Zoom for Morning Prayer. \nZoom details posted in our weekly newsletter. Please contact the office at office@stjames.bc.ca for details. \nAll are welcome!
URL:https://stjames.bc.ca/event/morning-prayer-via-zoom-2/2026-07-01
LOCATION:Zoom
CATEGORIES:All Welcome
ATTACH;FMTTYPE=image/jpeg:https://stjames.bc.ca/wp-content/uploads/2022/09/pexels-philip-ackermann-878151.jpg
ORGANIZER;CN="St. James' Anglican Church":MAILTO:office@stjames.bc.ca
END:VEVENT
BEGIN:VEVENT
DTSTART;TZID=America/Vancouver:20260701T120000
DTEND;TZID=America/Vancouver:20260701T123000
DTSTAMP:20260425T185429
CREATED:20260212T190303Z
LAST-MODIFIED:20260227T222918Z
UID:10005252-1782907200-1782909000@stjames.bc.ca
SUMMARY:Said Mass
DESCRIPTION:Join us in the Blessed Sacrament Chapel (enter through the side gate on Cordova St.) \nEvery Monday\, Wednesday\, and Friday at 12:10pm except holiday Mondays. Subscribe to The Thurible for updates. \nAll are welcome!
URL:https://stjames.bc.ca/event/said-mass-4-3-3-2/2026-07-01
LOCATION:St James Anglican Church Vancouver\, 303 East Cordova Street\, Vancouver\, BC\, V6A 1L4\, Canada
CATEGORIES:All Welcome,St. James' Parish Vancouver
ATTACH;FMTTYPE=image/png:https://stjames.bc.ca/wp-content/uploads/2022/09/BSC-e1736894248979.png
ORGANIZER;CN="St. James' Anglican Church":MAILTO:office@stjames.bc.ca
END:VEVENT
BEGIN:VEVENT
DTSTART;TZID=America/Vancouver:20260702T090000
DTEND;TZID=America/Vancouver:20260702T093000
DTSTAMP:20260425T185429
CREATED:20240725T222200Z
LAST-MODIFIED:20241017T160049Z
UID:10004006-1782982800-1782984600@stjames.bc.ca
SUMMARY:Morning Prayer - via Zoom
DESCRIPTION:Join us every morning at 9:00am via Zoom for Morning Prayer. \nZoom details posted in our weekly newsletter. Please contact the office at office@stjames.bc.ca for details. \nAll are welcome!
URL:https://stjames.bc.ca/event/morning-prayer-via-zoom-2/2026-07-02
LOCATION:Zoom
CATEGORIES:All Welcome
ATTACH;FMTTYPE=image/jpeg:https://stjames.bc.ca/wp-content/uploads/2022/09/pexels-philip-ackermann-878151.jpg
ORGANIZER;CN="St. James' Anglican Church":MAILTO:office@stjames.bc.ca
END:VEVENT
BEGIN:VEVENT
DTSTART;TZID=America/Vancouver:20260702T093000
DTEND;TZID=America/Vancouver:20260702T100000
DTSTAMP:20260425T185429
CREATED:20240531T222315Z
LAST-MODIFIED:20260227T223131Z
UID:10009234-1782984600-1782986400@stjames.bc.ca
SUMMARY:Said Mass with Anointing
DESCRIPTION:Join us in the Blessed Sacrament Chapel (enter through the side gate on Cordova St.) every Thursday morning at 9:30 am. \nMass will include the sacrament of holy anointing for healing. All are welcome! \nSubscribe to The Thurible for updates.
URL:https://stjames.bc.ca/event/said-mass-with-anointing-2-2/2026-07-02
LOCATION:St James Anglican Church Vancouver\, 303 East Cordova Street\, Vancouver\, BC\, V6A 1L4\, Canada
CATEGORIES:All Welcome,St. James' Parish Vancouver
ATTACH;FMTTYPE=image/png:https://stjames.bc.ca/wp-content/uploads/2022/09/BSC-e1736894248979.png
ORGANIZER;CN="St. James' Anglican Church":MAILTO:office@stjames.bc.ca
END:VEVENT
BEGIN:VEVENT
DTSTART;TZID=America/Vancouver:20260703T090000
DTEND;TZID=America/Vancouver:20260703T093000
DTSTAMP:20260425T185429
CREATED:20240725T222200Z
LAST-MODIFIED:20241017T160049Z
UID:10004007-1783069200-1783071000@stjames.bc.ca
SUMMARY:Morning Prayer - via Zoom
DESCRIPTION:Join us every morning at 9:00am via Zoom for Morning Prayer. \nZoom details posted in our weekly newsletter. Please contact the office at office@stjames.bc.ca for details. \nAll are welcome!
URL:https://stjames.bc.ca/event/morning-prayer-via-zoom-2/2026-07-03
LOCATION:Zoom
CATEGORIES:All Welcome
ATTACH;FMTTYPE=image/jpeg:https://stjames.bc.ca/wp-content/uploads/2022/09/pexels-philip-ackermann-878151.jpg
ORGANIZER;CN="St. James' Anglican Church":MAILTO:office@stjames.bc.ca
END:VEVENT
BEGIN:VEVENT
DTSTART;TZID=America/Vancouver:20260703T120000
DTEND;TZID=America/Vancouver:20260703T123000
DTSTAMP:20260425T185429
CREATED:20260212T190303Z
LAST-MODIFIED:20260227T222918Z
UID:10005253-1783080000-1783081800@stjames.bc.ca
SUMMARY:Said Mass
DESCRIPTION:Join us in the Blessed Sacrament Chapel (enter through the side gate on Cordova St.) \nEvery Monday\, Wednesday\, and Friday at 12:10pm except holiday Mondays. Subscribe to The Thurible for updates. \nAll are welcome!
URL:https://stjames.bc.ca/event/said-mass-4-3-3-2/2026-07-03
LOCATION:St James Anglican Church Vancouver\, 303 East Cordova Street\, Vancouver\, BC\, V6A 1L4\, Canada
CATEGORIES:All Welcome,St. James' Parish Vancouver
ATTACH;FMTTYPE=image/png:https://stjames.bc.ca/wp-content/uploads/2022/09/BSC-e1736894248979.png
ORGANIZER;CN="St. James' Anglican Church":MAILTO:office@stjames.bc.ca
END:VEVENT
BEGIN:VEVENT
DTSTART;TZID=America/Vancouver:20260704T090000
DTEND;TZID=America/Vancouver:20260704T093000
DTSTAMP:20260425T185429
CREATED:20240725T222200Z
LAST-MODIFIED:20241017T160049Z
UID:10004008-1783155600-1783157400@stjames.bc.ca
SUMMARY:Morning Prayer - via Zoom
DESCRIPTION:Join us every morning at 9:00am via Zoom for Morning Prayer. \nZoom details posted in our weekly newsletter. Please contact the office at office@stjames.bc.ca for details. \nAll are welcome!
URL:https://stjames.bc.ca/event/morning-prayer-via-zoom-2/2026-07-04
LOCATION:Zoom
CATEGORIES:All Welcome
ATTACH;FMTTYPE=image/jpeg:https://stjames.bc.ca/wp-content/uploads/2022/09/pexels-philip-ackermann-878151.jpg
ORGANIZER;CN="St. James' Anglican Church":MAILTO:office@stjames.bc.ca
END:VEVENT
BEGIN:VEVENT
DTSTART;TZID=America/Vancouver:20260704T160000
DTEND;TZID=America/Vancouver:20260704T163000
DTSTAMP:20260425T185429
CREATED:20241024T220235Z
LAST-MODIFIED:20260209T180038Z
UID:10007343-1783180800-1783182600@stjames.bc.ca
SUMMARY:Vigil Mass (Book of Common Prayer)
DESCRIPTION:Join us in the Blessed Sacrament Chapel (enter through the side gate on Cordova St.) \nEvery Saturday at 4:00pm \nAll are welcome!
URL:https://stjames.bc.ca/event/vigil-mass-4-2/2026-07-04
LOCATION:St James Anglican Church Vancouver\, 303 East Cordova Street\, Vancouver\, BC\, V6A 1L4\, Canada
CATEGORIES:All Welcome,St. James' Parish Vancouver
ATTACH;FMTTYPE=image/png:https://stjames.bc.ca/wp-content/uploads/2022/09/BSC-e1736894248979.png
ORGANIZER;CN="St. James' Anglican Church":MAILTO:office@stjames.bc.ca
END:VEVENT
BEGIN:VEVENT
DTSTART;TZID=America/Vancouver:20260706T090000
DTEND;TZID=America/Vancouver:20260706T093000
DTSTAMP:20260425T185429
CREATED:20240725T222200Z
LAST-MODIFIED:20241017T160049Z
UID:10004009-1783328400-1783330200@stjames.bc.ca
SUMMARY:Morning Prayer - via Zoom
DESCRIPTION:Join us every morning at 9:00am via Zoom for Morning Prayer. \nZoom details posted in our weekly newsletter. Please contact the office at office@stjames.bc.ca for details. \nAll are welcome!
URL:https://stjames.bc.ca/event/morning-prayer-via-zoom-2/2026-07-06
LOCATION:Zoom
CATEGORIES:All Welcome
ATTACH;FMTTYPE=image/jpeg:https://stjames.bc.ca/wp-content/uploads/2022/09/pexels-philip-ackermann-878151.jpg
ORGANIZER;CN="St. James' Anglican Church":MAILTO:office@stjames.bc.ca
END:VEVENT
BEGIN:VEVENT
DTSTART;TZID=America/Vancouver:20260706T120000
DTEND;TZID=America/Vancouver:20260706T123000
DTSTAMP:20260425T185429
CREATED:20260212T190303Z
LAST-MODIFIED:20260227T222918Z
UID:10005254-1783339200-1783341000@stjames.bc.ca
SUMMARY:Said Mass
DESCRIPTION:Join us in the Blessed Sacrament Chapel (enter through the side gate on Cordova St.) \nEvery Monday\, Wednesday\, and Friday at 12:10pm except holiday Mondays. Subscribe to The Thurible for updates. \nAll are welcome!
URL:https://stjames.bc.ca/event/said-mass-4-3-3-2/2026-07-06
LOCATION:St James Anglican Church Vancouver\, 303 East Cordova Street\, Vancouver\, BC\, V6A 1L4\, Canada
CATEGORIES:All Welcome,St. James' Parish Vancouver
ATTACH;FMTTYPE=image/png:https://stjames.bc.ca/wp-content/uploads/2022/09/BSC-e1736894248979.png
ORGANIZER;CN="St. James' Anglican Church":MAILTO:office@stjames.bc.ca
END:VEVENT
BEGIN:VEVENT
DTSTART;TZID=America/Vancouver:20260707T090000
DTEND;TZID=America/Vancouver:20260707T093000
DTSTAMP:20260425T185429
CREATED:20240725T222200Z
LAST-MODIFIED:20241017T160049Z
UID:10004010-1783414800-1783416600@stjames.bc.ca
SUMMARY:Morning Prayer - via Zoom
DESCRIPTION:Join us every morning at 9:00am via Zoom for Morning Prayer. \nZoom details posted in our weekly newsletter. Please contact the office at office@stjames.bc.ca for details. \nAll are welcome!
URL:https://stjames.bc.ca/event/morning-prayer-via-zoom-2/2026-07-07
LOCATION:Zoom
CATEGORIES:All Welcome
ATTACH;FMTTYPE=image/jpeg:https://stjames.bc.ca/wp-content/uploads/2022/09/pexels-philip-ackermann-878151.jpg
ORGANIZER;CN="St. James' Anglican Church":MAILTO:office@stjames.bc.ca
END:VEVENT
BEGIN:VEVENT
DTSTART;TZID=America/Vancouver:20260707T093000
DTEND;TZID=America/Vancouver:20260707T100000
DTSTAMP:20260425T185429
CREATED:20241008T221133Z
LAST-MODIFIED:20260227T223032Z
UID:10008468-1783416600-1783418400@stjames.bc.ca
SUMMARY:Said Mass
DESCRIPTION:Join us in the Blessed Sacrament Chapel (enter through the side gate on Cordova St.) \nEvery Tuesday morning at 9:30am except for the day after holiday Mondays. Subscribe to The Thurible for updates. \nAll are welcome!
URL:https://stjames.bc.ca/event/said-mass-3-2-4/2026-07-07
LOCATION:St James Anglican Church Vancouver\, 303 East Cordova Street\, Vancouver\, BC\, V6A 1L4\, Canada
CATEGORIES:All Welcome,St. James' Parish Vancouver
ATTACH;FMTTYPE=image/png:https://stjames.bc.ca/wp-content/uploads/2022/09/BSC-e1736894248979.png
END:VEVENT
BEGIN:VEVENT
DTSTART;TZID=America/Vancouver:20260708T090000
DTEND;TZID=America/Vancouver:20260708T093000
DTSTAMP:20260425T185429
CREATED:20240725T222200Z
LAST-MODIFIED:20241017T160049Z
UID:10004011-1783501200-1783503000@stjames.bc.ca
SUMMARY:Morning Prayer - via Zoom
DESCRIPTION:Join us every morning at 9:00am via Zoom for Morning Prayer. \nZoom details posted in our weekly newsletter. Please contact the office at office@stjames.bc.ca for details. \nAll are welcome!
URL:https://stjames.bc.ca/event/morning-prayer-via-zoom-2/2026-07-08
LOCATION:Zoom
CATEGORIES:All Welcome
ATTACH;FMTTYPE=image/jpeg:https://stjames.bc.ca/wp-content/uploads/2022/09/pexels-philip-ackermann-878151.jpg
ORGANIZER;CN="St. James' Anglican Church":MAILTO:office@stjames.bc.ca
END:VEVENT
BEGIN:VEVENT
DTSTART;TZID=America/Vancouver:20260708T120000
DTEND;TZID=America/Vancouver:20260708T123000
DTSTAMP:20260425T185429
CREATED:20260212T190303Z
LAST-MODIFIED:20260227T222918Z
UID:10005255-1783512000-1783513800@stjames.bc.ca
SUMMARY:Said Mass
DESCRIPTION:Join us in the Blessed Sacrament Chapel (enter through the side gate on Cordova St.) \nEvery Monday\, Wednesday\, and Friday at 12:10pm except holiday Mondays. Subscribe to The Thurible for updates. \nAll are welcome!
URL:https://stjames.bc.ca/event/said-mass-4-3-3-2/2026-07-08
LOCATION:St James Anglican Church Vancouver\, 303 East Cordova Street\, Vancouver\, BC\, V6A 1L4\, Canada
CATEGORIES:All Welcome,St. James' Parish Vancouver
ATTACH;FMTTYPE=image/png:https://stjames.bc.ca/wp-content/uploads/2022/09/BSC-e1736894248979.png
ORGANIZER;CN="St. James' Anglican Church":MAILTO:office@stjames.bc.ca
END:VEVENT
BEGIN:VEVENT
DTSTART;TZID=America/Vancouver:20260709T090000
DTEND;TZID=America/Vancouver:20260709T093000
DTSTAMP:20260425T185429
CREATED:20240725T222200Z
LAST-MODIFIED:20241017T160049Z
UID:10004012-1783587600-1783589400@stjames.bc.ca
SUMMARY:Morning Prayer - via Zoom
DESCRIPTION:Join us every morning at 9:00am via Zoom for Morning Prayer. \nZoom details posted in our weekly newsletter. Please contact the office at office@stjames.bc.ca for details. \nAll are welcome!
URL:https://stjames.bc.ca/event/morning-prayer-via-zoom-2/2026-07-09
LOCATION:Zoom
CATEGORIES:All Welcome
ATTACH;FMTTYPE=image/jpeg:https://stjames.bc.ca/wp-content/uploads/2022/09/pexels-philip-ackermann-878151.jpg
ORGANIZER;CN="St. James' Anglican Church":MAILTO:office@stjames.bc.ca
END:VEVENT
BEGIN:VEVENT
DTSTART;TZID=America/Vancouver:20260709T093000
DTEND;TZID=America/Vancouver:20260709T100000
DTSTAMP:20260425T185429
CREATED:20240531T222315Z
LAST-MODIFIED:20260227T223131Z
UID:10009235-1783589400-1783591200@stjames.bc.ca
SUMMARY:Said Mass with Anointing
DESCRIPTION:Join us in the Blessed Sacrament Chapel (enter through the side gate on Cordova St.) every Thursday morning at 9:30 am. \nMass will include the sacrament of holy anointing for healing. All are welcome! \nSubscribe to The Thurible for updates.
URL:https://stjames.bc.ca/event/said-mass-with-anointing-2-2/2026-07-09
LOCATION:St James Anglican Church Vancouver\, 303 East Cordova Street\, Vancouver\, BC\, V6A 1L4\, Canada
CATEGORIES:All Welcome,St. James' Parish Vancouver
ATTACH;FMTTYPE=image/png:https://stjames.bc.ca/wp-content/uploads/2022/09/BSC-e1736894248979.png
ORGANIZER;CN="St. James' Anglican Church":MAILTO:office@stjames.bc.ca
END:VEVENT
BEGIN:VEVENT
DTSTART;TZID=America/Vancouver:20260710T090000
DTEND;TZID=America/Vancouver:20260710T093000
DTSTAMP:20260425T185429
CREATED:20240725T222200Z
LAST-MODIFIED:20241017T160049Z
UID:10004013-1783674000-1783675800@stjames.bc.ca
SUMMARY:Morning Prayer - via Zoom
DESCRIPTION:Join us every morning at 9:00am via Zoom for Morning Prayer. \nZoom details posted in our weekly newsletter. Please contact the office at office@stjames.bc.ca for details. \nAll are welcome!
URL:https://stjames.bc.ca/event/morning-prayer-via-zoom-2/2026-07-10
LOCATION:Zoom
CATEGORIES:All Welcome
ATTACH;FMTTYPE=image/jpeg:https://stjames.bc.ca/wp-content/uploads/2022/09/pexels-philip-ackermann-878151.jpg
ORGANIZER;CN="St. James' Anglican Church":MAILTO:office@stjames.bc.ca
END:VEVENT
BEGIN:VEVENT
DTSTART;TZID=America/Vancouver:20260710T120000
DTEND;TZID=America/Vancouver:20260710T123000
DTSTAMP:20260425T185429
CREATED:20260212T190303Z
LAST-MODIFIED:20260227T222918Z
UID:10005256-1783684800-1783686600@stjames.bc.ca
SUMMARY:Said Mass
DESCRIPTION:Join us in the Blessed Sacrament Chapel (enter through the side gate on Cordova St.) \nEvery Monday\, Wednesday\, and Friday at 12:10pm except holiday Mondays. Subscribe to The Thurible for updates. \nAll are welcome!
URL:https://stjames.bc.ca/event/said-mass-4-3-3-2/2026-07-10
LOCATION:St James Anglican Church Vancouver\, 303 East Cordova Street\, Vancouver\, BC\, V6A 1L4\, Canada
CATEGORIES:All Welcome,St. James' Parish Vancouver
ATTACH;FMTTYPE=image/png:https://stjames.bc.ca/wp-content/uploads/2022/09/BSC-e1736894248979.png
ORGANIZER;CN="St. James' Anglican Church":MAILTO:office@stjames.bc.ca
END:VEVENT
BEGIN:VEVENT
DTSTART;TZID=America/Vancouver:20260711T090000
DTEND;TZID=America/Vancouver:20260711T093000
DTSTAMP:20260425T185429
CREATED:20240725T222200Z
LAST-MODIFIED:20241017T160049Z
UID:10004014-1783760400-1783762200@stjames.bc.ca
SUMMARY:Morning Prayer - via Zoom
DESCRIPTION:Join us every morning at 9:00am via Zoom for Morning Prayer. \nZoom details posted in our weekly newsletter. Please contact the office at office@stjames.bc.ca for details. \nAll are welcome!
URL:https://stjames.bc.ca/event/morning-prayer-via-zoom-2/2026-07-11
LOCATION:Zoom
CATEGORIES:All Welcome
ATTACH;FMTTYPE=image/jpeg:https://stjames.bc.ca/wp-content/uploads/2022/09/pexels-philip-ackermann-878151.jpg
ORGANIZER;CN="St. James' Anglican Church":MAILTO:office@stjames.bc.ca
END:VEVENT
BEGIN:VEVENT
DTSTART;TZID=America/Vancouver:20260711T160000
DTEND;TZID=America/Vancouver:20260711T163000
DTSTAMP:20260425T185429
CREATED:20241024T220235Z
LAST-MODIFIED:20260209T180038Z
UID:10007344-1783785600-1783787400@stjames.bc.ca
SUMMARY:Vigil Mass (Book of Common Prayer)
DESCRIPTION:Join us in the Blessed Sacrament Chapel (enter through the side gate on Cordova St.) \nEvery Saturday at 4:00pm \nAll are welcome!
URL:https://stjames.bc.ca/event/vigil-mass-4-2/2026-07-11
LOCATION:St James Anglican Church Vancouver\, 303 East Cordova Street\, Vancouver\, BC\, V6A 1L4\, Canada
CATEGORIES:All Welcome,St. James' Parish Vancouver
ATTACH;FMTTYPE=image/png:https://stjames.bc.ca/wp-content/uploads/2022/09/BSC-e1736894248979.png
ORGANIZER;CN="St. James' Anglican Church":MAILTO:office@stjames.bc.ca
END:VEVENT
BEGIN:VEVENT
DTSTART;TZID=America/Vancouver:20260713T090000
DTEND;TZID=America/Vancouver:20260713T093000
DTSTAMP:20260425T185429
CREATED:20240725T222200Z
LAST-MODIFIED:20241017T160049Z
UID:10004015-1783933200-1783935000@stjames.bc.ca
SUMMARY:Morning Prayer - via Zoom
DESCRIPTION:Join us every morning at 9:00am via Zoom for Morning Prayer. \nZoom details posted in our weekly newsletter. Please contact the office at office@stjames.bc.ca for details. \nAll are welcome!
URL:https://stjames.bc.ca/event/morning-prayer-via-zoom-2/2026-07-13
LOCATION:Zoom
CATEGORIES:All Welcome
ATTACH;FMTTYPE=image/jpeg:https://stjames.bc.ca/wp-content/uploads/2022/09/pexels-philip-ackermann-878151.jpg
ORGANIZER;CN="St. James' Anglican Church":MAILTO:office@stjames.bc.ca
END:VEVENT
BEGIN:VEVENT
DTSTART;TZID=America/Vancouver:20260713T120000
DTEND;TZID=America/Vancouver:20260713T123000
DTSTAMP:20260425T185429
CREATED:20260212T190303Z
LAST-MODIFIED:20260227T222918Z
UID:10005257-1783944000-1783945800@stjames.bc.ca
SUMMARY:Said Mass
DESCRIPTION:Join us in the Blessed Sacrament Chapel (enter through the side gate on Cordova St.) \nEvery Monday\, Wednesday\, and Friday at 12:10pm except holiday Mondays. Subscribe to The Thurible for updates. \nAll are welcome!
URL:https://stjames.bc.ca/event/said-mass-4-3-3-2/2026-07-13
LOCATION:St James Anglican Church Vancouver\, 303 East Cordova Street\, Vancouver\, BC\, V6A 1L4\, Canada
CATEGORIES:All Welcome,St. James' Parish Vancouver
ATTACH;FMTTYPE=image/png:https://stjames.bc.ca/wp-content/uploads/2022/09/BSC-e1736894248979.png
ORGANIZER;CN="St. James' Anglican Church":MAILTO:office@stjames.bc.ca
END:VEVENT
BEGIN:VEVENT
DTSTART;TZID=America/Vancouver:20260714T090000
DTEND;TZID=America/Vancouver:20260714T093000
DTSTAMP:20260425T185429
CREATED:20240725T222200Z
LAST-MODIFIED:20241017T160049Z
UID:10004016-1784019600-1784021400@stjames.bc.ca
SUMMARY:Morning Prayer - via Zoom
DESCRIPTION:Join us every morning at 9:00am via Zoom for Morning Prayer. \nZoom details posted in our weekly newsletter. Please contact the office at office@stjames.bc.ca for details. \nAll are welcome!
URL:https://stjames.bc.ca/event/morning-prayer-via-zoom-2/2026-07-14
LOCATION:Zoom
CATEGORIES:All Welcome
ATTACH;FMTTYPE=image/jpeg:https://stjames.bc.ca/wp-content/uploads/2022/09/pexels-philip-ackermann-878151.jpg
ORGANIZER;CN="St. James' Anglican Church":MAILTO:office@stjames.bc.ca
END:VEVENT
BEGIN:VEVENT
DTSTART;TZID=America/Vancouver:20260714T093000
DTEND;TZID=America/Vancouver:20260714T100000
DTSTAMP:20260425T185429
CREATED:20241008T221133Z
LAST-MODIFIED:20260227T223032Z
UID:10009484-1784021400-1784023200@stjames.bc.ca
SUMMARY:Said Mass
DESCRIPTION:Join us in the Blessed Sacrament Chapel (enter through the side gate on Cordova St.) \nEvery Tuesday morning at 9:30am except for the day after holiday Mondays. Subscribe to The Thurible for updates. \nAll are welcome!
URL:https://stjames.bc.ca/event/said-mass-3-2-4/2026-07-14
LOCATION:St James Anglican Church Vancouver\, 303 East Cordova Street\, Vancouver\, BC\, V6A 1L4\, Canada
CATEGORIES:All Welcome,St. James' Parish Vancouver
ATTACH;FMTTYPE=image/png:https://stjames.bc.ca/wp-content/uploads/2022/09/BSC-e1736894248979.png
END:VEVENT
BEGIN:VEVENT
DTSTART;TZID=America/Vancouver:20260715T090000
DTEND;TZID=America/Vancouver:20260715T093000
DTSTAMP:20260425T185429
CREATED:20240725T222200Z
LAST-MODIFIED:20241017T160049Z
UID:10004017-1784106000-1784107800@stjames.bc.ca
SUMMARY:Morning Prayer - via Zoom
DESCRIPTION:Join us every morning at 9:00am via Zoom for Morning Prayer. \nZoom details posted in our weekly newsletter. Please contact the office at office@stjames.bc.ca for details. \nAll are welcome!
URL:https://stjames.bc.ca/event/morning-prayer-via-zoom-2/2026-07-15
LOCATION:Zoom
CATEGORIES:All Welcome
ATTACH;FMTTYPE=image/jpeg:https://stjames.bc.ca/wp-content/uploads/2022/09/pexels-philip-ackermann-878151.jpg
ORGANIZER;CN="St. James' Anglican Church":MAILTO:office@stjames.bc.ca
END:VEVENT
BEGIN:VEVENT
DTSTART;TZID=America/Vancouver:20260715T120000
DTEND;TZID=America/Vancouver:20260715T123000
DTSTAMP:20260425T185429
CREATED:20260212T190303Z
LAST-MODIFIED:20260227T222918Z
UID:10005258-1784116800-1784118600@stjames.bc.ca
SUMMARY:Said Mass
DESCRIPTION:Join us in the Blessed Sacrament Chapel (enter through the side gate on Cordova St.) \nEvery Monday\, Wednesday\, and Friday at 12:10pm except holiday Mondays. Subscribe to The Thurible for updates. \nAll are welcome!
URL:https://stjames.bc.ca/event/said-mass-4-3-3-2/2026-07-15
LOCATION:St James Anglican Church Vancouver\, 303 East Cordova Street\, Vancouver\, BC\, V6A 1L4\, Canada
CATEGORIES:All Welcome,St. James' Parish Vancouver
ATTACH;FMTTYPE=image/png:https://stjames.bc.ca/wp-content/uploads/2022/09/BSC-e1736894248979.png
ORGANIZER;CN="St. James' Anglican Church":MAILTO:office@stjames.bc.ca
END:VEVENT
BEGIN:VEVENT
DTSTART;TZID=America/Vancouver:20260716T090000
DTEND;TZID=America/Vancouver:20260716T093000
DTSTAMP:20260425T185429
CREATED:20240725T222200Z
LAST-MODIFIED:20241017T160049Z
UID:10004018-1784192400-1784194200@stjames.bc.ca
SUMMARY:Morning Prayer - via Zoom
DESCRIPTION:Join us every morning at 9:00am via Zoom for Morning Prayer. \nZoom details posted in our weekly newsletter. Please contact the office at office@stjames.bc.ca for details. \nAll are welcome!
URL:https://stjames.bc.ca/event/morning-prayer-via-zoom-2/2026-07-16
LOCATION:Zoom
CATEGORIES:All Welcome
ATTACH;FMTTYPE=image/jpeg:https://stjames.bc.ca/wp-content/uploads/2022/09/pexels-philip-ackermann-878151.jpg
ORGANIZER;CN="St. James' Anglican Church":MAILTO:office@stjames.bc.ca
END:VEVENT
BEGIN:VEVENT
DTSTART;TZID=America/Vancouver:20260716T093000
DTEND;TZID=America/Vancouver:20260716T100000
DTSTAMP:20260425T185430
CREATED:20240531T222315Z
LAST-MODIFIED:20260227T223131Z
UID:10009236-1784194200-1784196000@stjames.bc.ca
SUMMARY:Said Mass with Anointing
DESCRIPTION:Join us in the Blessed Sacrament Chapel (enter through the side gate on Cordova St.) every Thursday morning at 9:30 am. \nMass will include the sacrament of holy anointing for healing. All are welcome! \nSubscribe to The Thurible for updates.
URL:https://stjames.bc.ca/event/said-mass-with-anointing-2-2/2026-07-16
LOCATION:St James Anglican Church Vancouver\, 303 East Cordova Street\, Vancouver\, BC\, V6A 1L4\, Canada
CATEGORIES:All Welcome,St. James' Parish Vancouver
ATTACH;FMTTYPE=image/png:https://stjames.bc.ca/wp-content/uploads/2022/09/BSC-e1736894248979.png
ORGANIZER;CN="St. James' Anglican Church":MAILTO:office@stjames.bc.ca
END:VEVENT
BEGIN:VEVENT
DTSTART;TZID=America/Vancouver:20260716T183000
DTEND;TZID=America/Vancouver:20260716T210000
DTSTAMP:20260425T185430
CREATED:20251113T231236Z
LAST-MODIFIED:20251113T231236Z
UID:10008942-1784226600-1784235600@stjames.bc.ca
SUMMARY:Board Games Night
DESCRIPTION:Board Game Night in the Parish Centre from 6:30 to 9:00 pm. \nBring your favourite game and a friend!
URL:https://stjames.bc.ca/event/board-games-night-3/2026-07-16
LOCATION:St James Anglican Church Vancouver\, 303 East Cordova Street\, Vancouver\, BC\, V6A 1L4\, Canada
CATEGORIES:All Welcome,St. James' Parish Vancouver
ATTACH;FMTTYPE=image/jpeg:https://stjames.bc.ca/wp-content/uploads/2024/01/pexels-pavel-danilyuk-8111307-2.jpg
ORGANIZER;CN="St. James' Anglican Church":MAILTO:office@stjames.bc.ca
END:VEVENT
BEGIN:VEVENT
DTSTART;TZID=America/Vancouver:20260717T090000
DTEND;TZID=America/Vancouver:20260717T093000
DTSTAMP:20260425T185430
CREATED:20240725T222200Z
LAST-MODIFIED:20241017T160049Z
UID:10004019-1784278800-1784280600@stjames.bc.ca
SUMMARY:Morning Prayer - via Zoom
DESCRIPTION:Join us every morning at 9:00am via Zoom for Morning Prayer. \nZoom details posted in our weekly newsletter. Please contact the office at office@stjames.bc.ca for details. \nAll are welcome!
URL:https://stjames.bc.ca/event/morning-prayer-via-zoom-2/2026-07-17
LOCATION:Zoom
CATEGORIES:All Welcome
ATTACH;FMTTYPE=image/jpeg:https://stjames.bc.ca/wp-content/uploads/2022/09/pexels-philip-ackermann-878151.jpg
ORGANIZER;CN="St. James' Anglican Church":MAILTO:office@stjames.bc.ca
END:VEVENT
END:VCALENDAR