BEGIN:VCALENDAR
VERSION:2.0
PRODID:-//St James&#039; Anglican Church Vancouver - ECPv6.15.20//NONSGML v1.0//EN
CALSCALE:GREGORIAN
METHOD:PUBLISH
X-ORIGINAL-URL:https://stjames.bc.ca
X-WR-CALDESC:Events for St James&#039; Anglican Church Vancouver
REFRESH-INTERVAL;VALUE=DURATION:PT1H
X-Robots-Tag:noindex
X-PUBLISHED-TTL:PT1H
BEGIN:VTIMEZONE
TZID:America/Vancouver
BEGIN:DAYLIGHT
TZOFFSETFROM:-0800
TZOFFSETTO:-0700
TZNAME:PDT
DTSTART:20250309T100000
END:DAYLIGHT
BEGIN:STANDARD
TZOFFSETFROM:-0700
TZOFFSETTO:-0800
TZNAME:PST
DTSTART:20251102T090000
END:STANDARD
BEGIN:DAYLIGHT
TZOFFSETFROM:-0800
TZOFFSETTO:-0700
TZNAME:PDT
DTSTART:20260308T100000
END:DAYLIGHT
BEGIN:STANDARD
TZOFFSETFROM:-0700
TZOFFSETTO:-0800
TZNAME:PST
DTSTART:20261101T090000
END:STANDARD
BEGIN:DAYLIGHT
TZOFFSETFROM:-0800
TZOFFSETTO:-0700
TZNAME:PDT
DTSTART:20270314T100000
END:DAYLIGHT
BEGIN:STANDARD
TZOFFSETFROM:-0700
TZOFFSETTO:-0800
TZNAME:PST
DTSTART:20271107T090000
END:STANDARD
END:VTIMEZONE
BEGIN:VEVENT
DTSTART;TZID=America/Vancouver:20260425T090000
DTEND;TZID=America/Vancouver:20260425T093000
DTSTAMP:20260425T142549
CREATED:20240725T222200Z
LAST-MODIFIED:20241017T160049Z
UID:10003948-1777107600-1777109400@stjames.bc.ca
SUMMARY:Morning Prayer - via Zoom
DESCRIPTION:Join us every morning at 9:00am via Zoom for Morning Prayer. \nZoom details posted in our weekly newsletter. Please contact the office at office@stjames.bc.ca for details. \nAll are welcome!
URL:https://stjames.bc.ca/event/morning-prayer-via-zoom-2/2026-04-25
LOCATION:Zoom
CATEGORIES:All Welcome
ATTACH;FMTTYPE=image/jpeg:https://stjames.bc.ca/wp-content/uploads/2022/09/pexels-philip-ackermann-878151.jpg
ORGANIZER;CN="St. James' Anglican Church":MAILTO:office@stjames.bc.ca
END:VEVENT
BEGIN:VEVENT
DTSTART;TZID=America/Vancouver:20260425T160000
DTEND;TZID=America/Vancouver:20260425T163000
DTSTAMP:20260425T142549
CREATED:20241024T220235Z
LAST-MODIFIED:20260209T180038Z
UID:10007333-1777132800-1777134600@stjames.bc.ca
SUMMARY:Vigil Mass (Book of Common Prayer)
DESCRIPTION:Join us in the Blessed Sacrament Chapel (enter through the side gate on Cordova St.) \nEvery Saturday at 4:00pm \nAll are welcome!
URL:https://stjames.bc.ca/event/vigil-mass-4-2/2026-04-25
LOCATION:St James Anglican Church Vancouver\, 303 East Cordova Street\, Vancouver\, BC\, V6A 1L4\, Canada
CATEGORIES:All Welcome,St. James' Parish Vancouver
ATTACH;FMTTYPE=image/png:https://stjames.bc.ca/wp-content/uploads/2022/09/BSC-e1736894248979.png
ORGANIZER;CN="St. James' Anglican Church":MAILTO:office@stjames.bc.ca
END:VEVENT
BEGIN:VEVENT
DTSTART;TZID=America/Vancouver:20260427T090000
DTEND;TZID=America/Vancouver:20260427T093000
DTSTAMP:20260425T142549
CREATED:20240725T222200Z
LAST-MODIFIED:20241017T160049Z
UID:10003949-1777280400-1777282200@stjames.bc.ca
SUMMARY:Morning Prayer - via Zoom
DESCRIPTION:Join us every morning at 9:00am via Zoom for Morning Prayer. \nZoom details posted in our weekly newsletter. Please contact the office at office@stjames.bc.ca for details. \nAll are welcome!
URL:https://stjames.bc.ca/event/morning-prayer-via-zoom-2/2026-04-27
LOCATION:Zoom
CATEGORIES:All Welcome
ATTACH;FMTTYPE=image/jpeg:https://stjames.bc.ca/wp-content/uploads/2022/09/pexels-philip-ackermann-878151.jpg
ORGANIZER;CN="St. James' Anglican Church":MAILTO:office@stjames.bc.ca
END:VEVENT
BEGIN:VEVENT
DTSTART;TZID=America/Vancouver:20260427T120000
DTEND;TZID=America/Vancouver:20260427T123000
DTSTAMP:20260425T142549
CREATED:20260212T190303Z
LAST-MODIFIED:20260227T222918Z
UID:10005224-1777291200-1777293000@stjames.bc.ca
SUMMARY:Said Mass
DESCRIPTION:Join us in the Blessed Sacrament Chapel (enter through the side gate on Cordova St.) \nEvery Monday\, Wednesday\, and Friday at 12:10pm except holiday Mondays. Subscribe to The Thurible for updates. \nAll are welcome!
URL:https://stjames.bc.ca/event/said-mass-4-3-3-2/2026-04-27
LOCATION:St James Anglican Church Vancouver\, 303 East Cordova Street\, Vancouver\, BC\, V6A 1L4\, Canada
CATEGORIES:All Welcome,St. James' Parish Vancouver
ATTACH;FMTTYPE=image/png:https://stjames.bc.ca/wp-content/uploads/2022/09/BSC-e1736894248979.png
ORGANIZER;CN="St. James' Anglican Church":MAILTO:office@stjames.bc.ca
END:VEVENT
BEGIN:VEVENT
DTSTART;TZID=America/Vancouver:20260428T090000
DTEND;TZID=America/Vancouver:20260428T093000
DTSTAMP:20260425T142549
CREATED:20240725T222200Z
LAST-MODIFIED:20241017T160049Z
UID:10003950-1777366800-1777368600@stjames.bc.ca
SUMMARY:Morning Prayer - via Zoom
DESCRIPTION:Join us every morning at 9:00am via Zoom for Morning Prayer. \nZoom details posted in our weekly newsletter. Please contact the office at office@stjames.bc.ca for details. \nAll are welcome!
URL:https://stjames.bc.ca/event/morning-prayer-via-zoom-2/2026-04-28
LOCATION:Zoom
CATEGORIES:All Welcome
ATTACH;FMTTYPE=image/jpeg:https://stjames.bc.ca/wp-content/uploads/2022/09/pexels-philip-ackermann-878151.jpg
ORGANIZER;CN="St. James' Anglican Church":MAILTO:office@stjames.bc.ca
END:VEVENT
BEGIN:VEVENT
DTSTART;TZID=America/Vancouver:20260428T093000
DTEND;TZID=America/Vancouver:20260428T100000
DTSTAMP:20260425T142549
CREATED:20241008T221133Z
LAST-MODIFIED:20260227T223032Z
UID:10008458-1777368600-1777370400@stjames.bc.ca
SUMMARY:Said Mass
DESCRIPTION:Join us in the Blessed Sacrament Chapel (enter through the side gate on Cordova St.) \nEvery Tuesday morning at 9:30am except for the day after holiday Mondays. Subscribe to The Thurible for updates. \nAll are welcome!
URL:https://stjames.bc.ca/event/said-mass-3-2-4/2026-04-28
LOCATION:St James Anglican Church Vancouver\, 303 East Cordova Street\, Vancouver\, BC\, V6A 1L4\, Canada
CATEGORIES:All Welcome,St. James' Parish Vancouver
ATTACH;FMTTYPE=image/png:https://stjames.bc.ca/wp-content/uploads/2022/09/BSC-e1736894248979.png
END:VEVENT
BEGIN:VEVENT
DTSTART;TZID=America/Vancouver:20260429T090000
DTEND;TZID=America/Vancouver:20260429T093000
DTSTAMP:20260425T142549
CREATED:20240725T222200Z
LAST-MODIFIED:20241017T160049Z
UID:10003951-1777453200-1777455000@stjames.bc.ca
SUMMARY:Morning Prayer - via Zoom
DESCRIPTION:Join us every morning at 9:00am via Zoom for Morning Prayer. \nZoom details posted in our weekly newsletter. Please contact the office at office@stjames.bc.ca for details. \nAll are welcome!
URL:https://stjames.bc.ca/event/morning-prayer-via-zoom-2/2026-04-29
LOCATION:Zoom
CATEGORIES:All Welcome
ATTACH;FMTTYPE=image/jpeg:https://stjames.bc.ca/wp-content/uploads/2022/09/pexels-philip-ackermann-878151.jpg
ORGANIZER;CN="St. James' Anglican Church":MAILTO:office@stjames.bc.ca
END:VEVENT
BEGIN:VEVENT
DTSTART;TZID=America/Vancouver:20260429T120000
DTEND;TZID=America/Vancouver:20260429T123000
DTSTAMP:20260425T142549
CREATED:20260212T190303Z
LAST-MODIFIED:20260227T222918Z
UID:10005225-1777464000-1777465800@stjames.bc.ca
SUMMARY:Said Mass
DESCRIPTION:Join us in the Blessed Sacrament Chapel (enter through the side gate on Cordova St.) \nEvery Monday\, Wednesday\, and Friday at 12:10pm except holiday Mondays. Subscribe to The Thurible for updates. \nAll are welcome!
URL:https://stjames.bc.ca/event/said-mass-4-3-3-2/2026-04-29
LOCATION:St James Anglican Church Vancouver\, 303 East Cordova Street\, Vancouver\, BC\, V6A 1L4\, Canada
CATEGORIES:All Welcome,St. James' Parish Vancouver
ATTACH;FMTTYPE=image/png:https://stjames.bc.ca/wp-content/uploads/2022/09/BSC-e1736894248979.png
ORGANIZER;CN="St. James' Anglican Church":MAILTO:office@stjames.bc.ca
END:VEVENT
BEGIN:VEVENT
DTSTART;TZID=America/Vancouver:20260430T090000
DTEND;TZID=America/Vancouver:20260430T093000
DTSTAMP:20260425T142549
CREATED:20240725T222200Z
LAST-MODIFIED:20241017T160049Z
UID:10003952-1777539600-1777541400@stjames.bc.ca
SUMMARY:Morning Prayer - via Zoom
DESCRIPTION:Join us every morning at 9:00am via Zoom for Morning Prayer. \nZoom details posted in our weekly newsletter. Please contact the office at office@stjames.bc.ca for details. \nAll are welcome!
URL:https://stjames.bc.ca/event/morning-prayer-via-zoom-2/2026-04-30
LOCATION:Zoom
CATEGORIES:All Welcome
ATTACH;FMTTYPE=image/jpeg:https://stjames.bc.ca/wp-content/uploads/2022/09/pexels-philip-ackermann-878151.jpg
ORGANIZER;CN="St. James' Anglican Church":MAILTO:office@stjames.bc.ca
END:VEVENT
BEGIN:VEVENT
DTSTART;TZID=America/Vancouver:20260430T093000
DTEND;TZID=America/Vancouver:20260430T100000
DTSTAMP:20260425T142549
CREATED:20240531T222315Z
LAST-MODIFIED:20260227T223131Z
UID:10009225-1777541400-1777543200@stjames.bc.ca
SUMMARY:Said Mass with Anointing
DESCRIPTION:Join us in the Blessed Sacrament Chapel (enter through the side gate on Cordova St.) every Thursday morning at 9:30 am. \nMass will include the sacrament of holy anointing for healing. All are welcome! \nSubscribe to The Thurible for updates.
URL:https://stjames.bc.ca/event/said-mass-with-anointing-2-2/2026-04-30
LOCATION:St James Anglican Church Vancouver\, 303 East Cordova Street\, Vancouver\, BC\, V6A 1L4\, Canada
CATEGORIES:All Welcome,St. James' Parish Vancouver
ATTACH;FMTTYPE=image/png:https://stjames.bc.ca/wp-content/uploads/2022/09/BSC-e1736894248979.png
ORGANIZER;CN="St. James' Anglican Church":MAILTO:office@stjames.bc.ca
END:VEVENT
END:VCALENDAR