BEGIN:VCALENDAR
VERSION:2.0
PRODID:-//St James&#039; Anglican Church Vancouver - ECPv6.15.20//NONSGML v1.0//EN
CALSCALE:GREGORIAN
METHOD:PUBLISH
X-WR-CALNAME:St James&#039; Anglican Church Vancouver
X-ORIGINAL-URL:https://stjames.bc.ca
X-WR-CALDESC:Events for St James&#039; Anglican Church Vancouver
REFRESH-INTERVAL;VALUE=DURATION:PT1H
X-Robots-Tag:noindex
X-PUBLISHED-TTL:PT1H
BEGIN:VTIMEZONE
TZID:America/Vancouver
BEGIN:DAYLIGHT
TZOFFSETFROM:-0800
TZOFFSETTO:-0700
TZNAME:PDT
DTSTART:20250309T100000
END:DAYLIGHT
BEGIN:STANDARD
TZOFFSETFROM:-0700
TZOFFSETTO:-0800
TZNAME:PST
DTSTART:20251102T090000
END:STANDARD
BEGIN:DAYLIGHT
TZOFFSETFROM:-0800
TZOFFSETTO:-0700
TZNAME:PDT
DTSTART:20260308T100000
END:DAYLIGHT
BEGIN:STANDARD
TZOFFSETFROM:-0700
TZOFFSETTO:-0800
TZNAME:PST
DTSTART:20261101T090000
END:STANDARD
BEGIN:DAYLIGHT
TZOFFSETFROM:-0800
TZOFFSETTO:-0700
TZNAME:PDT
DTSTART:20270314T100000
END:DAYLIGHT
BEGIN:STANDARD
TZOFFSETFROM:-0700
TZOFFSETTO:-0800
TZNAME:PST
DTSTART:20271107T090000
END:STANDARD
END:VTIMEZONE
BEGIN:VEVENT
DTSTART;TZID=America/Vancouver:20260421T090000
DTEND;TZID=America/Vancouver:20260421T093000
DTSTAMP:20260421T130528
CREATED:20240725T222200Z
LAST-MODIFIED:20241017T160049Z
UID:10003944-1776762000-1776763800@stjames.bc.ca
SUMMARY:Morning Prayer - via Zoom
DESCRIPTION:Join us every morning at 9:00am via Zoom for Morning Prayer. \nZoom details posted in our weekly newsletter. Please contact the office at office@stjames.bc.ca for details. \nAll are welcome!
URL:https://stjames.bc.ca/event/morning-prayer-via-zoom-2/2026-04-21
LOCATION:Zoom
CATEGORIES:All Welcome
ATTACH;FMTTYPE=image/jpeg:https://stjames.bc.ca/wp-content/uploads/2022/09/pexels-philip-ackermann-878151.jpg
ORGANIZER;CN="St. James' Anglican Church":MAILTO:office@stjames.bc.ca
END:VEVENT
BEGIN:VEVENT
DTSTART;TZID=America/Vancouver:20260421T093000
DTEND;TZID=America/Vancouver:20260421T100000
DTSTAMP:20260421T130528
CREATED:20241008T221133Z
LAST-MODIFIED:20260227T223032Z
UID:10008457-1776763800-1776765600@stjames.bc.ca
SUMMARY:Said Mass
DESCRIPTION:Join us in the Blessed Sacrament Chapel (enter through the side gate on Cordova St.) \nEvery Tuesday morning at 9:30am except for the day after holiday Mondays. Subscribe to The Thurible for updates. \nAll are welcome!
URL:https://stjames.bc.ca/event/said-mass-3-2-4/2026-04-21
LOCATION:St James Anglican Church Vancouver\, 303 East Cordova Street\, Vancouver\, BC\, V6A 1L4\, Canada
CATEGORIES:All Welcome,St. James' Parish Vancouver
ATTACH;FMTTYPE=image/png:https://stjames.bc.ca/wp-content/uploads/2022/09/BSC-e1736894248979.png
END:VEVENT
BEGIN:VEVENT
DTSTART;TZID=America/Vancouver:20260421T170000
DTEND;TZID=America/Vancouver:20260421T173000
DTSTAMP:20260421T130528
CREATED:20240725T222048Z
LAST-MODIFIED:20241017T160140Z
UID:10006230-1776790800-1776792600@stjames.bc.ca
SUMMARY:Evening Prayer - via Zoom
DESCRIPTION:Join us every evening at 5:00pm via Zoom for Evening Prayer. \nZoom details posted in our weekly newsletter. Please contact the office at office@stjames.bc.ca for details. \nAll are welcome!
URL:https://stjames.bc.ca/event/evening-prayer-via-zoom-2/2026-04-21
LOCATION:Zoom
ATTACH;FMTTYPE=image/jpeg:https://stjames.bc.ca/wp-content/uploads/2022/09/pexels-muffin-creatives-1629998.jpg
END:VEVENT
BEGIN:VEVENT
DTSTART;TZID=America/Vancouver:20260422T090000
DTEND;TZID=America/Vancouver:20260422T093000
DTSTAMP:20260421T130528
CREATED:20240725T222200Z
LAST-MODIFIED:20241017T160049Z
UID:10003945-1776848400-1776850200@stjames.bc.ca
SUMMARY:Morning Prayer - via Zoom
DESCRIPTION:Join us every morning at 9:00am via Zoom for Morning Prayer. \nZoom details posted in our weekly newsletter. Please contact the office at office@stjames.bc.ca for details. \nAll are welcome!
URL:https://stjames.bc.ca/event/morning-prayer-via-zoom-2/2026-04-22
LOCATION:Zoom
CATEGORIES:All Welcome
ATTACH;FMTTYPE=image/jpeg:https://stjames.bc.ca/wp-content/uploads/2022/09/pexels-philip-ackermann-878151.jpg
ORGANIZER;CN="St. James' Anglican Church":MAILTO:office@stjames.bc.ca
END:VEVENT
BEGIN:VEVENT
DTSTART;TZID=America/Vancouver:20260422T120000
DTEND;TZID=America/Vancouver:20260422T123000
DTSTAMP:20260421T130528
CREATED:20260212T190303Z
LAST-MODIFIED:20260227T222918Z
UID:10005222-1776859200-1776861000@stjames.bc.ca
SUMMARY:Said Mass
DESCRIPTION:Join us in the Blessed Sacrament Chapel (enter through the side gate on Cordova St.) \nEvery Monday\, Wednesday\, and Friday at 12:10pm except holiday Mondays. Subscribe to The Thurible for updates. \nAll are welcome!
URL:https://stjames.bc.ca/event/said-mass-4-3-3-2/2026-04-22
LOCATION:St James Anglican Church Vancouver\, 303 East Cordova Street\, Vancouver\, BC\, V6A 1L4\, Canada
CATEGORIES:All Welcome,St. James' Parish Vancouver
ATTACH;FMTTYPE=image/png:https://stjames.bc.ca/wp-content/uploads/2022/09/BSC-e1736894248979.png
ORGANIZER;CN="St. James' Anglican Church":MAILTO:office@stjames.bc.ca
END:VEVENT
BEGIN:VEVENT
DTSTART;TZID=America/Vancouver:20260422T130000
DTEND;TZID=America/Vancouver:20260422T140000
DTSTAMP:20260421T130528
CREATED:20251224T170826Z
LAST-MODIFIED:20251224T170826Z
UID:10003383-1776862800-1776866400@stjames.bc.ca
SUMMARY:Lectio & Bible Study
DESCRIPTION:Join us as we read and discuss together a passage from Scripture (usually the coming Sunday Gospel). Bring your questions\, ideas\, doubts or just your presence! All are welcome and encouraged to join. \nWe meet in the parish library and on Zoom – come in person or join online. \nEmail Mtr Amanda for Zoom meeting details\, or to be sent the reading and questions for the week.
URL:https://stjames.bc.ca/event/lectio-bible-study-6-2-2-2/2026-04-22
LOCATION:St James Anglican Church Vancouver\, 303 East Cordova Street\, Vancouver\, BC\, V6A 1L4\, Canada
CATEGORIES:St. James' Parish Vancouver
ATTACH;FMTTYPE=image/png:https://stjames.bc.ca/wp-content/uploads/2022/12/psalms.png
ORGANIZER;CN="St. James' Anglican Church":MAILTO:office@stjames.bc.ca
END:VEVENT
BEGIN:VEVENT
DTSTART;TZID=America/Vancouver:20260422T170000
DTEND;TZID=America/Vancouver:20260422T173000
DTSTAMP:20260421T130528
CREATED:20240725T222048Z
LAST-MODIFIED:20241017T160140Z
UID:10006231-1776877200-1776879000@stjames.bc.ca
SUMMARY:Evening Prayer - via Zoom
DESCRIPTION:Join us every evening at 5:00pm via Zoom for Evening Prayer. \nZoom details posted in our weekly newsletter. Please contact the office at office@stjames.bc.ca for details. \nAll are welcome!
URL:https://stjames.bc.ca/event/evening-prayer-via-zoom-2/2026-04-22
LOCATION:Zoom
ATTACH;FMTTYPE=image/jpeg:https://stjames.bc.ca/wp-content/uploads/2022/09/pexels-muffin-creatives-1629998.jpg
END:VEVENT
BEGIN:VEVENT
DTSTART;TZID=America/Vancouver:20260423T090000
DTEND;TZID=America/Vancouver:20260423T093000
DTSTAMP:20260421T130528
CREATED:20240725T222200Z
LAST-MODIFIED:20241017T160049Z
UID:10003946-1776934800-1776936600@stjames.bc.ca
SUMMARY:Morning Prayer - via Zoom
DESCRIPTION:Join us every morning at 9:00am via Zoom for Morning Prayer. \nZoom details posted in our weekly newsletter. Please contact the office at office@stjames.bc.ca for details. \nAll are welcome!
URL:https://stjames.bc.ca/event/morning-prayer-via-zoom-2/2026-04-23
LOCATION:Zoom
CATEGORIES:All Welcome
ATTACH;FMTTYPE=image/jpeg:https://stjames.bc.ca/wp-content/uploads/2022/09/pexels-philip-ackermann-878151.jpg
ORGANIZER;CN="St. James' Anglican Church":MAILTO:office@stjames.bc.ca
END:VEVENT
BEGIN:VEVENT
DTSTART;TZID=America/Vancouver:20260423T093000
DTEND;TZID=America/Vancouver:20260423T100000
DTSTAMP:20260421T130528
CREATED:20240531T222315Z
LAST-MODIFIED:20260227T223131Z
UID:10009224-1776936600-1776938400@stjames.bc.ca
SUMMARY:Said Mass with Anointing
DESCRIPTION:Join us in the Blessed Sacrament Chapel (enter through the side gate on Cordova St.) every Thursday morning at 9:30 am. \nMass will include the sacrament of holy anointing for healing. All are welcome! \nSubscribe to The Thurible for updates.
URL:https://stjames.bc.ca/event/said-mass-with-anointing-2-2/2026-04-23
LOCATION:St James Anglican Church Vancouver\, 303 East Cordova Street\, Vancouver\, BC\, V6A 1L4\, Canada
CATEGORIES:All Welcome,St. James' Parish Vancouver
ATTACH;FMTTYPE=image/png:https://stjames.bc.ca/wp-content/uploads/2022/09/BSC-e1736894248979.png
ORGANIZER;CN="St. James' Anglican Church":MAILTO:office@stjames.bc.ca
END:VEVENT
BEGIN:VEVENT
DTSTART;TZID=America/Vancouver:20260423T170000
DTEND;TZID=America/Vancouver:20260423T173000
DTSTAMP:20260421T130528
CREATED:20240725T222048Z
LAST-MODIFIED:20241017T160140Z
UID:10006232-1776963600-1776965400@stjames.bc.ca
SUMMARY:Evening Prayer - via Zoom
DESCRIPTION:Join us every evening at 5:00pm via Zoom for Evening Prayer. \nZoom details posted in our weekly newsletter. Please contact the office at office@stjames.bc.ca for details. \nAll are welcome!
URL:https://stjames.bc.ca/event/evening-prayer-via-zoom-2/2026-04-23
LOCATION:Zoom
ATTACH;FMTTYPE=image/jpeg:https://stjames.bc.ca/wp-content/uploads/2022/09/pexels-muffin-creatives-1629998.jpg
END:VEVENT
BEGIN:VEVENT
DTSTART;TZID=America/Vancouver:20260424T090000
DTEND;TZID=America/Vancouver:20260424T093000
DTSTAMP:20260421T130528
CREATED:20240725T222200Z
LAST-MODIFIED:20241017T160049Z
UID:10003947-1777021200-1777023000@stjames.bc.ca
SUMMARY:Morning Prayer - via Zoom
DESCRIPTION:Join us every morning at 9:00am via Zoom for Morning Prayer. \nZoom details posted in our weekly newsletter. Please contact the office at office@stjames.bc.ca for details. \nAll are welcome!
URL:https://stjames.bc.ca/event/morning-prayer-via-zoom-2/2026-04-24
LOCATION:Zoom
CATEGORIES:All Welcome
ATTACH;FMTTYPE=image/jpeg:https://stjames.bc.ca/wp-content/uploads/2022/09/pexels-philip-ackermann-878151.jpg
ORGANIZER;CN="St. James' Anglican Church":MAILTO:office@stjames.bc.ca
END:VEVENT
BEGIN:VEVENT
DTSTART;TZID=America/Vancouver:20260424T120000
DTEND;TZID=America/Vancouver:20260424T123000
DTSTAMP:20260421T130528
CREATED:20260212T190303Z
LAST-MODIFIED:20260227T222918Z
UID:10005223-1777032000-1777033800@stjames.bc.ca
SUMMARY:Said Mass
DESCRIPTION:Join us in the Blessed Sacrament Chapel (enter through the side gate on Cordova St.) \nEvery Monday\, Wednesday\, and Friday at 12:10pm except holiday Mondays. Subscribe to The Thurible for updates. \nAll are welcome!
URL:https://stjames.bc.ca/event/said-mass-4-3-3-2/2026-04-24
LOCATION:St James Anglican Church Vancouver\, 303 East Cordova Street\, Vancouver\, BC\, V6A 1L4\, Canada
CATEGORIES:All Welcome,St. James' Parish Vancouver
ATTACH;FMTTYPE=image/png:https://stjames.bc.ca/wp-content/uploads/2022/09/BSC-e1736894248979.png
ORGANIZER;CN="St. James' Anglican Church":MAILTO:office@stjames.bc.ca
END:VEVENT
BEGIN:VEVENT
DTSTART;TZID=America/Vancouver:20260424T170000
DTEND;TZID=America/Vancouver:20260424T173000
DTSTAMP:20260421T130528
CREATED:20240725T222048Z
LAST-MODIFIED:20241017T160140Z
UID:10006233-1777050000-1777051800@stjames.bc.ca
SUMMARY:Evening Prayer - via Zoom
DESCRIPTION:Join us every evening at 5:00pm via Zoom for Evening Prayer. \nZoom details posted in our weekly newsletter. Please contact the office at office@stjames.bc.ca for details. \nAll are welcome!
URL:https://stjames.bc.ca/event/evening-prayer-via-zoom-2/2026-04-24
LOCATION:Zoom
ATTACH;FMTTYPE=image/jpeg:https://stjames.bc.ca/wp-content/uploads/2022/09/pexels-muffin-creatives-1629998.jpg
END:VEVENT
BEGIN:VEVENT
DTSTART;TZID=America/Vancouver:20260425T090000
DTEND;TZID=America/Vancouver:20260425T093000
DTSTAMP:20260421T130528
CREATED:20240725T222200Z
LAST-MODIFIED:20241017T160049Z
UID:10003948-1777107600-1777109400@stjames.bc.ca
SUMMARY:Morning Prayer - via Zoom
DESCRIPTION:Join us every morning at 9:00am via Zoom for Morning Prayer. \nZoom details posted in our weekly newsletter. Please contact the office at office@stjames.bc.ca for details. \nAll are welcome!
URL:https://stjames.bc.ca/event/morning-prayer-via-zoom-2/2026-04-25
LOCATION:Zoom
CATEGORIES:All Welcome
ATTACH;FMTTYPE=image/jpeg:https://stjames.bc.ca/wp-content/uploads/2022/09/pexels-philip-ackermann-878151.jpg
ORGANIZER;CN="St. James' Anglican Church":MAILTO:office@stjames.bc.ca
END:VEVENT
BEGIN:VEVENT
DTSTART;TZID=America/Vancouver:20260425T160000
DTEND;TZID=America/Vancouver:20260425T163000
DTSTAMP:20260421T130528
CREATED:20241024T220235Z
LAST-MODIFIED:20260209T180038Z
UID:10007333-1777132800-1777134600@stjames.bc.ca
SUMMARY:Vigil Mass (Book of Common Prayer)
DESCRIPTION:Join us in the Blessed Sacrament Chapel (enter through the side gate on Cordova St.) \nEvery Saturday at 4:00pm \nAll are welcome!
URL:https://stjames.bc.ca/event/vigil-mass-4-2/2026-04-25
LOCATION:St James Anglican Church Vancouver\, 303 East Cordova Street\, Vancouver\, BC\, V6A 1L4\, Canada
CATEGORIES:All Welcome,St. James' Parish Vancouver
ATTACH;FMTTYPE=image/png:https://stjames.bc.ca/wp-content/uploads/2022/09/BSC-e1736894248979.png
ORGANIZER;CN="St. James' Anglican Church":MAILTO:office@stjames.bc.ca
END:VEVENT
BEGIN:VEVENT
DTSTART;TZID=America/Vancouver:20260425T170000
DTEND;TZID=America/Vancouver:20260425T173000
DTSTAMP:20260421T130528
CREATED:20240725T222048Z
LAST-MODIFIED:20241017T160140Z
UID:10006234-1777136400-1777138200@stjames.bc.ca
SUMMARY:Evening Prayer - via Zoom
DESCRIPTION:Join us every evening at 5:00pm via Zoom for Evening Prayer. \nZoom details posted in our weekly newsletter. Please contact the office at office@stjames.bc.ca for details. \nAll are welcome!
URL:https://stjames.bc.ca/event/evening-prayer-via-zoom-2/2026-04-25
LOCATION:Zoom
ATTACH;FMTTYPE=image/jpeg:https://stjames.bc.ca/wp-content/uploads/2022/09/pexels-muffin-creatives-1629998.jpg
END:VEVENT
BEGIN:VEVENT
DTSTART;TZID=America/Vancouver:20260426T090000
DTEND;TZID=America/Vancouver:20260426T100000
DTSTAMP:20260421T130528
CREATED:20220930T020538Z
LAST-MODIFIED:20220930T023400Z
UID:10008113-1777194000-1777197600@stjames.bc.ca
SUMMARY:Liturgy at Home via Zoom
DESCRIPTION:Zoom details posted each week in the Thurible and in our ‘NEWS’ section. \nPlease contact the office for more details\, or to be added to our mailing list: office@stjames.bc.ca
URL:https://stjames.bc.ca/event/liturgy-at-home-via-zoom/2026-04-26
LOCATION:BC
ATTACH;FMTTYPE=image/png:https://stjames.bc.ca/wp-content/uploads/2021/05/StJ-LitAtHome-banner-1.png
END:VEVENT
BEGIN:VEVENT
DTSTART;TZID=America/Vancouver:20260426T103000
DTEND;TZID=America/Vancouver:20260426T120000
DTSTAMP:20260421T130528
CREATED:20240215T230102Z
LAST-MODIFIED:20240215T230415Z
UID:10003196-1777199400-1777204800@stjames.bc.ca
SUMMARY:Solemn Mass
DESCRIPTION:Join us in church every Sunday at 10:30am for sung Solemn Mass. All welcome! \nCoffee hour in the Parish Hall following Mass.
URL:https://stjames.bc.ca/event/solemn-mass-3/2026-04-26
LOCATION:BC
ATTACH;FMTTYPE=image/jpeg:https://stjames.bc.ca/wp-content/uploads/2022/09/StJ-altar.jpg
END:VEVENT
BEGIN:VEVENT
DTSTART;TZID=America/Vancouver:20260426T170000
DTEND;TZID=America/Vancouver:20260426T173000
DTSTAMP:20260421T130528
CREATED:20240725T222048Z
LAST-MODIFIED:20241017T160140Z
UID:10006235-1777222800-1777224600@stjames.bc.ca
SUMMARY:Evening Prayer - via Zoom
DESCRIPTION:Join us every evening at 5:00pm via Zoom for Evening Prayer. \nZoom details posted in our weekly newsletter. Please contact the office at office@stjames.bc.ca for details. \nAll are welcome!
URL:https://stjames.bc.ca/event/evening-prayer-via-zoom-2/2026-04-26
LOCATION:Zoom
ATTACH;FMTTYPE=image/jpeg:https://stjames.bc.ca/wp-content/uploads/2022/09/pexels-muffin-creatives-1629998.jpg
END:VEVENT
BEGIN:VEVENT
DTSTART;TZID=America/Vancouver:20260427T090000
DTEND;TZID=America/Vancouver:20260427T093000
DTSTAMP:20260421T130528
CREATED:20240725T222200Z
LAST-MODIFIED:20241017T160049Z
UID:10003949-1777280400-1777282200@stjames.bc.ca
SUMMARY:Morning Prayer - via Zoom
DESCRIPTION:Join us every morning at 9:00am via Zoom for Morning Prayer. \nZoom details posted in our weekly newsletter. Please contact the office at office@stjames.bc.ca for details. \nAll are welcome!
URL:https://stjames.bc.ca/event/morning-prayer-via-zoom-2/2026-04-27
LOCATION:Zoom
CATEGORIES:All Welcome
ATTACH;FMTTYPE=image/jpeg:https://stjames.bc.ca/wp-content/uploads/2022/09/pexels-philip-ackermann-878151.jpg
ORGANIZER;CN="St. James' Anglican Church":MAILTO:office@stjames.bc.ca
END:VEVENT
BEGIN:VEVENT
DTSTART;TZID=America/Vancouver:20260427T120000
DTEND;TZID=America/Vancouver:20260427T123000
DTSTAMP:20260421T130528
CREATED:20260212T190303Z
LAST-MODIFIED:20260227T222918Z
UID:10005224-1777291200-1777293000@stjames.bc.ca
SUMMARY:Said Mass
DESCRIPTION:Join us in the Blessed Sacrament Chapel (enter through the side gate on Cordova St.) \nEvery Monday\, Wednesday\, and Friday at 12:10pm except holiday Mondays. Subscribe to The Thurible for updates. \nAll are welcome!
URL:https://stjames.bc.ca/event/said-mass-4-3-3-2/2026-04-27
LOCATION:St James Anglican Church Vancouver\, 303 East Cordova Street\, Vancouver\, BC\, V6A 1L4\, Canada
CATEGORIES:All Welcome,St. James' Parish Vancouver
ATTACH;FMTTYPE=image/png:https://stjames.bc.ca/wp-content/uploads/2022/09/BSC-e1736894248979.png
ORGANIZER;CN="St. James' Anglican Church":MAILTO:office@stjames.bc.ca
END:VEVENT
BEGIN:VEVENT
DTSTART;TZID=America/Vancouver:20260427T170000
DTEND;TZID=America/Vancouver:20260427T173000
DTSTAMP:20260421T130528
CREATED:20240725T222048Z
LAST-MODIFIED:20241017T160140Z
UID:10006236-1777309200-1777311000@stjames.bc.ca
SUMMARY:Evening Prayer - via Zoom
DESCRIPTION:Join us every evening at 5:00pm via Zoom for Evening Prayer. \nZoom details posted in our weekly newsletter. Please contact the office at office@stjames.bc.ca for details. \nAll are welcome!
URL:https://stjames.bc.ca/event/evening-prayer-via-zoom-2/2026-04-27
LOCATION:Zoom
ATTACH;FMTTYPE=image/jpeg:https://stjames.bc.ca/wp-content/uploads/2022/09/pexels-muffin-creatives-1629998.jpg
END:VEVENT
BEGIN:VEVENT
DTSTART;TZID=America/Vancouver:20260428T090000
DTEND;TZID=America/Vancouver:20260428T093000
DTSTAMP:20260421T130528
CREATED:20240725T222200Z
LAST-MODIFIED:20241017T160049Z
UID:10003950-1777366800-1777368600@stjames.bc.ca
SUMMARY:Morning Prayer - via Zoom
DESCRIPTION:Join us every morning at 9:00am via Zoom for Morning Prayer. \nZoom details posted in our weekly newsletter. Please contact the office at office@stjames.bc.ca for details. \nAll are welcome!
URL:https://stjames.bc.ca/event/morning-prayer-via-zoom-2/2026-04-28
LOCATION:Zoom
CATEGORIES:All Welcome
ATTACH;FMTTYPE=image/jpeg:https://stjames.bc.ca/wp-content/uploads/2022/09/pexels-philip-ackermann-878151.jpg
ORGANIZER;CN="St. James' Anglican Church":MAILTO:office@stjames.bc.ca
END:VEVENT
BEGIN:VEVENT
DTSTART;TZID=America/Vancouver:20260428T093000
DTEND;TZID=America/Vancouver:20260428T100000
DTSTAMP:20260421T130528
CREATED:20241008T221133Z
LAST-MODIFIED:20260227T223032Z
UID:10008458-1777368600-1777370400@stjames.bc.ca
SUMMARY:Said Mass
DESCRIPTION:Join us in the Blessed Sacrament Chapel (enter through the side gate on Cordova St.) \nEvery Tuesday morning at 9:30am except for the day after holiday Mondays. Subscribe to The Thurible for updates. \nAll are welcome!
URL:https://stjames.bc.ca/event/said-mass-3-2-4/2026-04-28
LOCATION:St James Anglican Church Vancouver\, 303 East Cordova Street\, Vancouver\, BC\, V6A 1L4\, Canada
CATEGORIES:All Welcome,St. James' Parish Vancouver
ATTACH;FMTTYPE=image/png:https://stjames.bc.ca/wp-content/uploads/2022/09/BSC-e1736894248979.png
END:VEVENT
BEGIN:VEVENT
DTSTART;TZID=America/Vancouver:20260428T170000
DTEND;TZID=America/Vancouver:20260428T173000
DTSTAMP:20260421T130528
CREATED:20240725T222048Z
LAST-MODIFIED:20241017T160140Z
UID:10006237-1777395600-1777397400@stjames.bc.ca
SUMMARY:Evening Prayer - via Zoom
DESCRIPTION:Join us every evening at 5:00pm via Zoom for Evening Prayer. \nZoom details posted in our weekly newsletter. Please contact the office at office@stjames.bc.ca for details. \nAll are welcome!
URL:https://stjames.bc.ca/event/evening-prayer-via-zoom-2/2026-04-28
LOCATION:Zoom
ATTACH;FMTTYPE=image/jpeg:https://stjames.bc.ca/wp-content/uploads/2022/09/pexels-muffin-creatives-1629998.jpg
END:VEVENT
BEGIN:VEVENT
DTSTART;TZID=America/Vancouver:20260429T090000
DTEND;TZID=America/Vancouver:20260429T093000
DTSTAMP:20260421T130528
CREATED:20240725T222200Z
LAST-MODIFIED:20241017T160049Z
UID:10003951-1777453200-1777455000@stjames.bc.ca
SUMMARY:Morning Prayer - via Zoom
DESCRIPTION:Join us every morning at 9:00am via Zoom for Morning Prayer. \nZoom details posted in our weekly newsletter. Please contact the office at office@stjames.bc.ca for details. \nAll are welcome!
URL:https://stjames.bc.ca/event/morning-prayer-via-zoom-2/2026-04-29
LOCATION:Zoom
CATEGORIES:All Welcome
ATTACH;FMTTYPE=image/jpeg:https://stjames.bc.ca/wp-content/uploads/2022/09/pexels-philip-ackermann-878151.jpg
ORGANIZER;CN="St. James' Anglican Church":MAILTO:office@stjames.bc.ca
END:VEVENT
BEGIN:VEVENT
DTSTART;TZID=America/Vancouver:20260429T120000
DTEND;TZID=America/Vancouver:20260429T123000
DTSTAMP:20260421T130528
CREATED:20260212T190303Z
LAST-MODIFIED:20260227T222918Z
UID:10005225-1777464000-1777465800@stjames.bc.ca
SUMMARY:Said Mass
DESCRIPTION:Join us in the Blessed Sacrament Chapel (enter through the side gate on Cordova St.) \nEvery Monday\, Wednesday\, and Friday at 12:10pm except holiday Mondays. Subscribe to The Thurible for updates. \nAll are welcome!
URL:https://stjames.bc.ca/event/said-mass-4-3-3-2/2026-04-29
LOCATION:St James Anglican Church Vancouver\, 303 East Cordova Street\, Vancouver\, BC\, V6A 1L4\, Canada
CATEGORIES:All Welcome,St. James' Parish Vancouver
ATTACH;FMTTYPE=image/png:https://stjames.bc.ca/wp-content/uploads/2022/09/BSC-e1736894248979.png
ORGANIZER;CN="St. James' Anglican Church":MAILTO:office@stjames.bc.ca
END:VEVENT
BEGIN:VEVENT
DTSTART;TZID=America/Vancouver:20260429T130000
DTEND;TZID=America/Vancouver:20260429T140000
DTSTAMP:20260421T130528
CREATED:20251224T170826Z
LAST-MODIFIED:20251224T170826Z
UID:10003384-1777467600-1777471200@stjames.bc.ca
SUMMARY:Lectio & Bible Study
DESCRIPTION:Join us as we read and discuss together a passage from Scripture (usually the coming Sunday Gospel). Bring your questions\, ideas\, doubts or just your presence! All are welcome and encouraged to join. \nWe meet in the parish library and on Zoom – come in person or join online. \nEmail Mtr Amanda for Zoom meeting details\, or to be sent the reading and questions for the week.
URL:https://stjames.bc.ca/event/lectio-bible-study-6-2-2-2/2026-04-29
LOCATION:St James Anglican Church Vancouver\, 303 East Cordova Street\, Vancouver\, BC\, V6A 1L4\, Canada
CATEGORIES:St. James' Parish Vancouver
ATTACH;FMTTYPE=image/png:https://stjames.bc.ca/wp-content/uploads/2022/12/psalms.png
ORGANIZER;CN="St. James' Anglican Church":MAILTO:office@stjames.bc.ca
END:VEVENT
BEGIN:VEVENT
DTSTART;TZID=America/Vancouver:20260429T170000
DTEND;TZID=America/Vancouver:20260429T173000
DTSTAMP:20260421T130528
CREATED:20240725T222048Z
LAST-MODIFIED:20241017T160140Z
UID:10006238-1777482000-1777483800@stjames.bc.ca
SUMMARY:Evening Prayer - via Zoom
DESCRIPTION:Join us every evening at 5:00pm via Zoom for Evening Prayer. \nZoom details posted in our weekly newsletter. Please contact the office at office@stjames.bc.ca for details. \nAll are welcome!
URL:https://stjames.bc.ca/event/evening-prayer-via-zoom-2/2026-04-29
LOCATION:Zoom
ATTACH;FMTTYPE=image/jpeg:https://stjames.bc.ca/wp-content/uploads/2022/09/pexels-muffin-creatives-1629998.jpg
END:VEVENT
BEGIN:VEVENT
DTSTART;TZID=America/Vancouver:20260430T090000
DTEND;TZID=America/Vancouver:20260430T093000
DTSTAMP:20260421T130529
CREATED:20240725T222200Z
LAST-MODIFIED:20241017T160049Z
UID:10003952-1777539600-1777541400@stjames.bc.ca
SUMMARY:Morning Prayer - via Zoom
DESCRIPTION:Join us every morning at 9:00am via Zoom for Morning Prayer. \nZoom details posted in our weekly newsletter. Please contact the office at office@stjames.bc.ca for details. \nAll are welcome!
URL:https://stjames.bc.ca/event/morning-prayer-via-zoom-2/2026-04-30
LOCATION:Zoom
CATEGORIES:All Welcome
ATTACH;FMTTYPE=image/jpeg:https://stjames.bc.ca/wp-content/uploads/2022/09/pexels-philip-ackermann-878151.jpg
ORGANIZER;CN="St. James' Anglican Church":MAILTO:office@stjames.bc.ca
END:VEVENT
END:VCALENDAR