BEGIN:VCALENDAR
VERSION:2.0
PRODID:-//St James&#039; Anglican Church Vancouver - ECPv6.15.20//NONSGML v1.0//EN
CALSCALE:GREGORIAN
METHOD:PUBLISH
X-WR-CALNAME:St James&#039; Anglican Church Vancouver
X-ORIGINAL-URL:https://stjames.bc.ca
X-WR-CALDESC:Events for St James&#039; Anglican Church Vancouver
REFRESH-INTERVAL;VALUE=DURATION:PT1H
X-Robots-Tag:noindex
X-PUBLISHED-TTL:PT1H
BEGIN:VTIMEZONE
TZID:America/Vancouver
BEGIN:DAYLIGHT
TZOFFSETFROM:-0800
TZOFFSETTO:-0700
TZNAME:PDT
DTSTART:20250309T100000
END:DAYLIGHT
BEGIN:STANDARD
TZOFFSETFROM:-0700
TZOFFSETTO:-0800
TZNAME:PST
DTSTART:20251102T090000
END:STANDARD
BEGIN:DAYLIGHT
TZOFFSETFROM:-0800
TZOFFSETTO:-0700
TZNAME:PDT
DTSTART:20260308T100000
END:DAYLIGHT
BEGIN:STANDARD
TZOFFSETFROM:-0700
TZOFFSETTO:-0800
TZNAME:PST
DTSTART:20261101T090000
END:STANDARD
BEGIN:DAYLIGHT
TZOFFSETFROM:-0800
TZOFFSETTO:-0700
TZNAME:PDT
DTSTART:20270314T100000
END:DAYLIGHT
BEGIN:STANDARD
TZOFFSETFROM:-0700
TZOFFSETTO:-0800
TZNAME:PST
DTSTART:20271107T090000
END:STANDARD
END:VTIMEZONE
BEGIN:VEVENT
DTSTART;TZID=America/Vancouver:20260426T103000
DTEND;TZID=America/Vancouver:20260426T120000
DTSTAMP:20260423T104430
CREATED:20240215T230102Z
LAST-MODIFIED:20240215T230415Z
UID:10003196-1777199400-1777204800@stjames.bc.ca
SUMMARY:Solemn Mass
DESCRIPTION:Join us in church every Sunday at 10:30am for sung Solemn Mass. All welcome! \nCoffee hour in the Parish Hall following Mass.
URL:https://stjames.bc.ca/event/solemn-mass-3/2026-04-26
LOCATION:BC
ATTACH;FMTTYPE=image/jpeg:https://stjames.bc.ca/wp-content/uploads/2022/09/StJ-altar.jpg
END:VEVENT
BEGIN:VEVENT
DTSTART;TZID=America/Vancouver:20260503T103000
DTEND;TZID=America/Vancouver:20260503T120000
DTSTAMP:20260423T104430
CREATED:20240215T230102Z
LAST-MODIFIED:20240215T230415Z
UID:10003197-1777804200-1777809600@stjames.bc.ca
SUMMARY:Solemn Mass
DESCRIPTION:Join us in church every Sunday at 10:30am for sung Solemn Mass. All welcome! \nCoffee hour in the Parish Hall following Mass.
URL:https://stjames.bc.ca/event/solemn-mass-3/2026-05-03
LOCATION:BC
ATTACH;FMTTYPE=image/jpeg:https://stjames.bc.ca/wp-content/uploads/2022/09/StJ-altar.jpg
END:VEVENT
BEGIN:VEVENT
DTSTART;TZID=America/Vancouver:20260510T103000
DTEND;TZID=America/Vancouver:20260510T120000
DTSTAMP:20260423T104430
CREATED:20240215T230102Z
LAST-MODIFIED:20240215T230415Z
UID:10003198-1778409000-1778414400@stjames.bc.ca
SUMMARY:Solemn Mass
DESCRIPTION:Join us in church every Sunday at 10:30am for sung Solemn Mass. All welcome! \nCoffee hour in the Parish Hall following Mass.
URL:https://stjames.bc.ca/event/solemn-mass-3/2026-05-10
LOCATION:BC
ATTACH;FMTTYPE=image/jpeg:https://stjames.bc.ca/wp-content/uploads/2022/09/StJ-altar.jpg
END:VEVENT
BEGIN:VEVENT
DTSTART;TZID=America/Vancouver:20260514T183000
DTEND;TZID=America/Vancouver:20260514T200000
DTSTAMP:20260423T104430
CREATED:20260302T225529Z
LAST-MODIFIED:20260302T225529Z
UID:10009726-1778783400-1778788800@stjames.bc.ca
SUMMARY:Ascension Mass
DESCRIPTION:Come celebrate the Ascension of our Lord. All are welcome!
URL:https://stjames.bc.ca/event/ascension-mass
LOCATION:St James Anglican Church Vancouver\, 303 East Cordova Street\, Vancouver\, BC\, V6A 1L4\, Canada
CATEGORIES:All Welcome,St. James' Parish Vancouver
ATTACH;FMTTYPE=image/jpeg:https://stjames.bc.ca/wp-content/uploads/2024/03/Ascension-Tres-Riches-Heures.jpg
ORGANIZER;CN="St. James' Anglican Church":MAILTO:office@stjames.bc.ca
END:VEVENT
BEGIN:VEVENT
DTSTART;TZID=America/Vancouver:20260517T103000
DTEND;TZID=America/Vancouver:20260517T120000
DTSTAMP:20260423T104430
CREATED:20240215T230102Z
LAST-MODIFIED:20240215T230415Z
UID:10003199-1779013800-1779019200@stjames.bc.ca
SUMMARY:Solemn Mass
DESCRIPTION:Join us in church every Sunday at 10:30am for sung Solemn Mass. All welcome! \nCoffee hour in the Parish Hall following Mass.
URL:https://stjames.bc.ca/event/solemn-mass-3/2026-05-17
LOCATION:BC
ATTACH;FMTTYPE=image/jpeg:https://stjames.bc.ca/wp-content/uploads/2022/09/StJ-altar.jpg
END:VEVENT
BEGIN:VEVENT
DTSTART;TZID=America/Vancouver:20260524T103000
DTEND;TZID=America/Vancouver:20260524T120000
DTSTAMP:20260423T104430
CREATED:20240215T230102Z
LAST-MODIFIED:20240215T230415Z
UID:10003200-1779618600-1779624000@stjames.bc.ca
SUMMARY:Solemn Mass
DESCRIPTION:Join us in church every Sunday at 10:30am for sung Solemn Mass. All welcome! \nCoffee hour in the Parish Hall following Mass.
URL:https://stjames.bc.ca/event/solemn-mass-3/2026-05-24
LOCATION:BC
ATTACH;FMTTYPE=image/jpeg:https://stjames.bc.ca/wp-content/uploads/2022/09/StJ-altar.jpg
END:VEVENT
BEGIN:VEVENT
DTSTART;TZID=America/Vancouver:20260531T103000
DTEND;TZID=America/Vancouver:20260531T120000
DTSTAMP:20260423T104430
CREATED:20240215T230102Z
LAST-MODIFIED:20240215T230415Z
UID:10003201-1780223400-1780228800@stjames.bc.ca
SUMMARY:Solemn Mass
DESCRIPTION:Join us in church every Sunday at 10:30am for sung Solemn Mass. All welcome! \nCoffee hour in the Parish Hall following Mass.
URL:https://stjames.bc.ca/event/solemn-mass-3/2026-05-31
LOCATION:BC
ATTACH;FMTTYPE=image/jpeg:https://stjames.bc.ca/wp-content/uploads/2022/09/StJ-altar.jpg
END:VEVENT
BEGIN:VEVENT
DTSTART;TZID=America/Vancouver:20260604T183000
DTEND;TZID=America/Vancouver:20260604T200000
DTSTAMP:20260423T104430
CREATED:20260302T234213Z
LAST-MODIFIED:20260302T234213Z
UID:10009727-1780597800-1780603200@stjames.bc.ca
SUMMARY:Corpus et Sanguis Christi
DESCRIPTION:Solemn Mass at 6:30 pm. All are welcome!
URL:https://stjames.bc.ca/event/corpus-et-sanguis-christi-2
LOCATION:St James Anglican Church Vancouver\, 303 East Cordova Street\, Vancouver\, BC\, V6A 1L4\, Canada
CATEGORIES:All Welcome,St. James' Parish Vancouver
ATTACH;FMTTYPE=image/jpeg:https://stjames.bc.ca/wp-content/uploads/2025/01/Christ-taken-down-crop.jpg
ORGANIZER;CN="St. James' Anglican Church":MAILTO:office@stjames.bc.ca
END:VEVENT
BEGIN:VEVENT
DTSTART;TZID=America/Vancouver:20260607T103000
DTEND;TZID=America/Vancouver:20260607T120000
DTSTAMP:20260423T104430
CREATED:20240215T230102Z
LAST-MODIFIED:20240215T230415Z
UID:10003202-1780828200-1780833600@stjames.bc.ca
SUMMARY:Solemn Mass
DESCRIPTION:Join us in church every Sunday at 10:30am for sung Solemn Mass. All welcome! \nCoffee hour in the Parish Hall following Mass.
URL:https://stjames.bc.ca/event/solemn-mass-3/2026-06-07
LOCATION:BC
ATTACH;FMTTYPE=image/jpeg:https://stjames.bc.ca/wp-content/uploads/2022/09/StJ-altar.jpg
END:VEVENT
BEGIN:VEVENT
DTSTART;TZID=America/Vancouver:20260614T103000
DTEND;TZID=America/Vancouver:20260614T120000
DTSTAMP:20260423T104430
CREATED:20240215T230102Z
LAST-MODIFIED:20240215T230415Z
UID:10003203-1781433000-1781438400@stjames.bc.ca
SUMMARY:Solemn Mass
DESCRIPTION:Join us in church every Sunday at 10:30am for sung Solemn Mass. All welcome! \nCoffee hour in the Parish Hall following Mass.
URL:https://stjames.bc.ca/event/solemn-mass-3/2026-06-14
LOCATION:BC
ATTACH;FMTTYPE=image/jpeg:https://stjames.bc.ca/wp-content/uploads/2022/09/StJ-altar.jpg
END:VEVENT
BEGIN:VEVENT
DTSTART;TZID=America/Vancouver:20260621T103000
DTEND;TZID=America/Vancouver:20260621T120000
DTSTAMP:20260423T104430
CREATED:20240215T230102Z
LAST-MODIFIED:20240215T230415Z
UID:10003204-1782037800-1782043200@stjames.bc.ca
SUMMARY:Solemn Mass
DESCRIPTION:Join us in church every Sunday at 10:30am for sung Solemn Mass. All welcome! \nCoffee hour in the Parish Hall following Mass.
URL:https://stjames.bc.ca/event/solemn-mass-3/2026-06-21
LOCATION:BC
ATTACH;FMTTYPE=image/jpeg:https://stjames.bc.ca/wp-content/uploads/2022/09/StJ-altar.jpg
END:VEVENT
BEGIN:VEVENT
DTSTART;TZID=America/Vancouver:20260628T103000
DTEND;TZID=America/Vancouver:20260628T120000
DTSTAMP:20260423T104430
CREATED:20240215T230102Z
LAST-MODIFIED:20240215T230415Z
UID:10003205-1782642600-1782648000@stjames.bc.ca
SUMMARY:Solemn Mass
DESCRIPTION:Join us in church every Sunday at 10:30am for sung Solemn Mass. All welcome! \nCoffee hour in the Parish Hall following Mass.
URL:https://stjames.bc.ca/event/solemn-mass-3/2026-06-28
LOCATION:BC
ATTACH;FMTTYPE=image/jpeg:https://stjames.bc.ca/wp-content/uploads/2022/09/StJ-altar.jpg
END:VEVENT
BEGIN:VEVENT
DTSTART;TZID=America/Vancouver:20260705T103000
DTEND;TZID=America/Vancouver:20260705T120000
DTSTAMP:20260423T104430
CREATED:20240215T230102Z
LAST-MODIFIED:20240215T230415Z
UID:10003206-1783247400-1783252800@stjames.bc.ca
SUMMARY:Solemn Mass
DESCRIPTION:Join us in church every Sunday at 10:30am for sung Solemn Mass. All welcome! \nCoffee hour in the Parish Hall following Mass.
URL:https://stjames.bc.ca/event/solemn-mass-3/2026-07-05
LOCATION:BC
ATTACH;FMTTYPE=image/jpeg:https://stjames.bc.ca/wp-content/uploads/2022/09/StJ-altar.jpg
END:VEVENT
BEGIN:VEVENT
DTSTART;TZID=America/Vancouver:20260712T103000
DTEND;TZID=America/Vancouver:20260712T120000
DTSTAMP:20260423T104430
CREATED:20240215T230102Z
LAST-MODIFIED:20240215T230415Z
UID:10003207-1783852200-1783857600@stjames.bc.ca
SUMMARY:Solemn Mass
DESCRIPTION:Join us in church every Sunday at 10:30am for sung Solemn Mass. All welcome! \nCoffee hour in the Parish Hall following Mass.
URL:https://stjames.bc.ca/event/solemn-mass-3/2026-07-12
LOCATION:BC
ATTACH;FMTTYPE=image/jpeg:https://stjames.bc.ca/wp-content/uploads/2022/09/StJ-altar.jpg
END:VEVENT
BEGIN:VEVENT
DTSTART;TZID=America/Vancouver:20260719T103000
DTEND;TZID=America/Vancouver:20260719T120000
DTSTAMP:20260423T104430
CREATED:20240215T230102Z
LAST-MODIFIED:20240215T230415Z
UID:10003208-1784457000-1784462400@stjames.bc.ca
SUMMARY:Solemn Mass
DESCRIPTION:Join us in church every Sunday at 10:30am for sung Solemn Mass. All welcome! \nCoffee hour in the Parish Hall following Mass.
URL:https://stjames.bc.ca/event/solemn-mass-3/2026-07-19
LOCATION:BC
ATTACH;FMTTYPE=image/jpeg:https://stjames.bc.ca/wp-content/uploads/2022/09/StJ-altar.jpg
END:VEVENT
BEGIN:VEVENT
DTSTART;TZID=America/Vancouver:20260726T103000
DTEND;TZID=America/Vancouver:20260726T120000
DTSTAMP:20260423T104430
CREATED:20240215T230102Z
LAST-MODIFIED:20240215T230415Z
UID:10003209-1785061800-1785067200@stjames.bc.ca
SUMMARY:Solemn Mass
DESCRIPTION:Join us in church every Sunday at 10:30am for sung Solemn Mass. All welcome! \nCoffee hour in the Parish Hall following Mass.
URL:https://stjames.bc.ca/event/solemn-mass-3/2026-07-26
LOCATION:BC
ATTACH;FMTTYPE=image/jpeg:https://stjames.bc.ca/wp-content/uploads/2022/09/StJ-altar.jpg
END:VEVENT
BEGIN:VEVENT
DTSTART;TZID=America/Vancouver:20260802T103000
DTEND;TZID=America/Vancouver:20260802T120000
DTSTAMP:20260423T104430
CREATED:20240215T230102Z
LAST-MODIFIED:20240215T230415Z
UID:10003210-1785666600-1785672000@stjames.bc.ca
SUMMARY:Solemn Mass
DESCRIPTION:Join us in church every Sunday at 10:30am for sung Solemn Mass. All welcome! \nCoffee hour in the Parish Hall following Mass.
URL:https://stjames.bc.ca/event/solemn-mass-3/2026-08-02
LOCATION:BC
ATTACH;FMTTYPE=image/jpeg:https://stjames.bc.ca/wp-content/uploads/2022/09/StJ-altar.jpg
END:VEVENT
BEGIN:VEVENT
DTSTART;TZID=America/Vancouver:20260809T103000
DTEND;TZID=America/Vancouver:20260809T120000
DTSTAMP:20260423T104430
CREATED:20240215T230102Z
LAST-MODIFIED:20240215T230415Z
UID:10003211-1786271400-1786276800@stjames.bc.ca
SUMMARY:Solemn Mass
DESCRIPTION:Join us in church every Sunday at 10:30am for sung Solemn Mass. All welcome! \nCoffee hour in the Parish Hall following Mass.
URL:https://stjames.bc.ca/event/solemn-mass-3/2026-08-09
LOCATION:BC
ATTACH;FMTTYPE=image/jpeg:https://stjames.bc.ca/wp-content/uploads/2022/09/StJ-altar.jpg
END:VEVENT
BEGIN:VEVENT
DTSTART;TZID=America/Vancouver:20260816T103000
DTEND;TZID=America/Vancouver:20260816T120000
DTSTAMP:20260423T104430
CREATED:20240215T230102Z
LAST-MODIFIED:20240215T230415Z
UID:10003212-1786876200-1786881600@stjames.bc.ca
SUMMARY:Solemn Mass
DESCRIPTION:Join us in church every Sunday at 10:30am for sung Solemn Mass. All welcome! \nCoffee hour in the Parish Hall following Mass.
URL:https://stjames.bc.ca/event/solemn-mass-3/2026-08-16
LOCATION:BC
ATTACH;FMTTYPE=image/jpeg:https://stjames.bc.ca/wp-content/uploads/2022/09/StJ-altar.jpg
END:VEVENT
BEGIN:VEVENT
DTSTART;TZID=America/Vancouver:20260823T103000
DTEND;TZID=America/Vancouver:20260823T120000
DTSTAMP:20260423T104430
CREATED:20240215T230102Z
LAST-MODIFIED:20240215T230415Z
UID:10003213-1787481000-1787486400@stjames.bc.ca
SUMMARY:Solemn Mass
DESCRIPTION:Join us in church every Sunday at 10:30am for sung Solemn Mass. All welcome! \nCoffee hour in the Parish Hall following Mass.
URL:https://stjames.bc.ca/event/solemn-mass-3/2026-08-23
LOCATION:BC
ATTACH;FMTTYPE=image/jpeg:https://stjames.bc.ca/wp-content/uploads/2022/09/StJ-altar.jpg
END:VEVENT
BEGIN:VEVENT
DTSTART;TZID=America/Vancouver:20260830T103000
DTEND;TZID=America/Vancouver:20260830T120000
DTSTAMP:20260423T104430
CREATED:20240215T230102Z
LAST-MODIFIED:20240215T230415Z
UID:10003214-1788085800-1788091200@stjames.bc.ca
SUMMARY:Solemn Mass
DESCRIPTION:Join us in church every Sunday at 10:30am for sung Solemn Mass. All welcome! \nCoffee hour in the Parish Hall following Mass.
URL:https://stjames.bc.ca/event/solemn-mass-3/2026-08-30
LOCATION:BC
ATTACH;FMTTYPE=image/jpeg:https://stjames.bc.ca/wp-content/uploads/2022/09/StJ-altar.jpg
END:VEVENT
BEGIN:VEVENT
DTSTART;TZID=America/Vancouver:20260906T103000
DTEND;TZID=America/Vancouver:20260906T120000
DTSTAMP:20260423T104430
CREATED:20240215T230102Z
LAST-MODIFIED:20240215T230415Z
UID:10003215-1788690600-1788696000@stjames.bc.ca
SUMMARY:Solemn Mass
DESCRIPTION:Join us in church every Sunday at 10:30am for sung Solemn Mass. All welcome! \nCoffee hour in the Parish Hall following Mass.
URL:https://stjames.bc.ca/event/solemn-mass-3/2026-09-06
LOCATION:BC
ATTACH;FMTTYPE=image/jpeg:https://stjames.bc.ca/wp-content/uploads/2022/09/StJ-altar.jpg
END:VEVENT
BEGIN:VEVENT
DTSTART;TZID=America/Vancouver:20260913T103000
DTEND;TZID=America/Vancouver:20260913T120000
DTSTAMP:20260423T104430
CREATED:20240215T230102Z
LAST-MODIFIED:20240215T230415Z
UID:10003216-1789295400-1789300800@stjames.bc.ca
SUMMARY:Solemn Mass
DESCRIPTION:Join us in church every Sunday at 10:30am for sung Solemn Mass. All welcome! \nCoffee hour in the Parish Hall following Mass.
URL:https://stjames.bc.ca/event/solemn-mass-3/2026-09-13
LOCATION:BC
ATTACH;FMTTYPE=image/jpeg:https://stjames.bc.ca/wp-content/uploads/2022/09/StJ-altar.jpg
END:VEVENT
BEGIN:VEVENT
DTSTART;TZID=America/Vancouver:20260920T103000
DTEND;TZID=America/Vancouver:20260920T120000
DTSTAMP:20260423T104430
CREATED:20240215T230102Z
LAST-MODIFIED:20240215T230415Z
UID:10003217-1789900200-1789905600@stjames.bc.ca
SUMMARY:Solemn Mass
DESCRIPTION:Join us in church every Sunday at 10:30am for sung Solemn Mass. All welcome! \nCoffee hour in the Parish Hall following Mass.
URL:https://stjames.bc.ca/event/solemn-mass-3/2026-09-20
LOCATION:BC
ATTACH;FMTTYPE=image/jpeg:https://stjames.bc.ca/wp-content/uploads/2022/09/StJ-altar.jpg
END:VEVENT
BEGIN:VEVENT
DTSTART;TZID=America/Vancouver:20260927T103000
DTEND;TZID=America/Vancouver:20260927T120000
DTSTAMP:20260423T104430
CREATED:20240215T230102Z
LAST-MODIFIED:20240215T230415Z
UID:10003218-1790505000-1790510400@stjames.bc.ca
SUMMARY:Solemn Mass
DESCRIPTION:Join us in church every Sunday at 10:30am for sung Solemn Mass. All welcome! \nCoffee hour in the Parish Hall following Mass.
URL:https://stjames.bc.ca/event/solemn-mass-3/2026-09-27
LOCATION:BC
ATTACH;FMTTYPE=image/jpeg:https://stjames.bc.ca/wp-content/uploads/2022/09/StJ-altar.jpg
END:VEVENT
BEGIN:VEVENT
DTSTART;TZID=America/Vancouver:20261004T103000
DTEND;TZID=America/Vancouver:20261004T120000
DTSTAMP:20260423T104430
CREATED:20240215T230102Z
LAST-MODIFIED:20240215T230415Z
UID:10003219-1791109800-1791115200@stjames.bc.ca
SUMMARY:Solemn Mass
DESCRIPTION:Join us in church every Sunday at 10:30am for sung Solemn Mass. All welcome! \nCoffee hour in the Parish Hall following Mass.
URL:https://stjames.bc.ca/event/solemn-mass-3/2026-10-04
LOCATION:BC
ATTACH;FMTTYPE=image/jpeg:https://stjames.bc.ca/wp-content/uploads/2022/09/StJ-altar.jpg
END:VEVENT
BEGIN:VEVENT
DTSTART;TZID=America/Vancouver:20261011T103000
DTEND;TZID=America/Vancouver:20261011T120000
DTSTAMP:20260423T104430
CREATED:20240215T230102Z
LAST-MODIFIED:20240215T230415Z
UID:10003220-1791714600-1791720000@stjames.bc.ca
SUMMARY:Solemn Mass
DESCRIPTION:Join us in church every Sunday at 10:30am for sung Solemn Mass. All welcome! \nCoffee hour in the Parish Hall following Mass.
URL:https://stjames.bc.ca/event/solemn-mass-3/2026-10-11
LOCATION:BC
ATTACH;FMTTYPE=image/jpeg:https://stjames.bc.ca/wp-content/uploads/2022/09/StJ-altar.jpg
END:VEVENT
BEGIN:VEVENT
DTSTART;TZID=America/Vancouver:20261018T103000
DTEND;TZID=America/Vancouver:20261018T120000
DTSTAMP:20260423T104430
CREATED:20240215T230102Z
LAST-MODIFIED:20240215T230415Z
UID:10003221-1792319400-1792324800@stjames.bc.ca
SUMMARY:Solemn Mass
DESCRIPTION:Join us in church every Sunday at 10:30am for sung Solemn Mass. All welcome! \nCoffee hour in the Parish Hall following Mass.
URL:https://stjames.bc.ca/event/solemn-mass-3/2026-10-18
LOCATION:BC
ATTACH;FMTTYPE=image/jpeg:https://stjames.bc.ca/wp-content/uploads/2022/09/StJ-altar.jpg
END:VEVENT
BEGIN:VEVENT
DTSTART;TZID=America/Vancouver:20261025T103000
DTEND;TZID=America/Vancouver:20261025T120000
DTSTAMP:20260423T104430
CREATED:20240215T230102Z
LAST-MODIFIED:20240215T230415Z
UID:10003222-1792924200-1792929600@stjames.bc.ca
SUMMARY:Solemn Mass
DESCRIPTION:Join us in church every Sunday at 10:30am for sung Solemn Mass. All welcome! \nCoffee hour in the Parish Hall following Mass.
URL:https://stjames.bc.ca/event/solemn-mass-3/2026-10-25
LOCATION:BC
ATTACH;FMTTYPE=image/jpeg:https://stjames.bc.ca/wp-content/uploads/2022/09/StJ-altar.jpg
END:VEVENT
BEGIN:VEVENT
DTSTART;TZID=America/Vancouver:20261101T103000
DTEND;TZID=America/Vancouver:20261101T120000
DTSTAMP:20260423T104430
CREATED:20240215T230102Z
LAST-MODIFIED:20240215T230415Z
UID:10003223-1793529000-1793534400@stjames.bc.ca
SUMMARY:Solemn Mass
DESCRIPTION:Join us in church every Sunday at 10:30am for sung Solemn Mass. All welcome! \nCoffee hour in the Parish Hall following Mass.
URL:https://stjames.bc.ca/event/solemn-mass-3/2026-11-01
LOCATION:BC
ATTACH;FMTTYPE=image/jpeg:https://stjames.bc.ca/wp-content/uploads/2022/09/StJ-altar.jpg
END:VEVENT
END:VCALENDAR