BEGIN:VCALENDAR
VERSION:2.0
PRODID:-//St James&#039; Anglican Church Vancouver - ECPv6.15.20//NONSGML v1.0//EN
CALSCALE:GREGORIAN
METHOD:PUBLISH
X-WR-CALNAME:St James&#039; Anglican Church Vancouver
X-ORIGINAL-URL:https://stjames.bc.ca
X-WR-CALDESC:Events for St James&#039; Anglican Church Vancouver
REFRESH-INTERVAL;VALUE=DURATION:PT1H
X-Robots-Tag:noindex
X-PUBLISHED-TTL:PT1H
BEGIN:VTIMEZONE
TZID:America/Vancouver
BEGIN:DAYLIGHT
TZOFFSETFROM:-0800
TZOFFSETTO:-0700
TZNAME:PDT
DTSTART:20250309T100000
END:DAYLIGHT
BEGIN:STANDARD
TZOFFSETFROM:-0700
TZOFFSETTO:-0800
TZNAME:PST
DTSTART:20251102T090000
END:STANDARD
BEGIN:DAYLIGHT
TZOFFSETFROM:-0800
TZOFFSETTO:-0700
TZNAME:PDT
DTSTART:20260308T100000
END:DAYLIGHT
BEGIN:STANDARD
TZOFFSETFROM:-0700
TZOFFSETTO:-0800
TZNAME:PST
DTSTART:20261101T090000
END:STANDARD
BEGIN:DAYLIGHT
TZOFFSETFROM:-0800
TZOFFSETTO:-0700
TZNAME:PDT
DTSTART:20270314T100000
END:DAYLIGHT
BEGIN:STANDARD
TZOFFSETFROM:-0700
TZOFFSETTO:-0800
TZNAME:PST
DTSTART:20271107T090000
END:STANDARD
BEGIN:DAYLIGHT
TZOFFSETFROM:-0800
TZOFFSETTO:-0700
TZNAME:PDT
DTSTART:20280312T100000
END:DAYLIGHT
BEGIN:STANDARD
TZOFFSETFROM:-0700
TZOFFSETTO:-0800
TZNAME:PST
DTSTART:20281105T090000
END:STANDARD
BEGIN:DAYLIGHT
TZOFFSETFROM:-0800
TZOFFSETTO:-0700
TZNAME:PDT
DTSTART:20290311T100000
END:DAYLIGHT
BEGIN:STANDARD
TZOFFSETFROM:-0700
TZOFFSETTO:-0800
TZNAME:PST
DTSTART:20291104T090000
END:STANDARD
BEGIN:DAYLIGHT
TZOFFSETFROM:-0800
TZOFFSETTO:-0700
TZNAME:PDT
DTSTART:20300310T100000
END:DAYLIGHT
BEGIN:STANDARD
TZOFFSETFROM:-0700
TZOFFSETTO:-0800
TZNAME:PST
DTSTART:20301103T090000
END:STANDARD
END:VTIMEZONE
BEGIN:VEVENT
DTSTART;TZID=America/Vancouver:20261225T103000
DTEND;TZID=America/Vancouver:20261225T120000
DTSTAMP:20260424T210211
CREATED:20250114T224446Z
LAST-MODIFIED:20250114T224446Z
UID:10008769-1798194600-1798200000@stjames.bc.ca
SUMMARY:Christmas Day Mass 10:30 am
DESCRIPTION:All are invited to celebrate Christmas and the birth of Jesus with music\, joy & thanksgiving!
URL:https://stjames.bc.ca/event/christmas-day-mass-1030-am/2026-12-25
LOCATION:St James Anglican Church Vancouver\, 303 East Cordova Street\, Vancouver\, BC\, V6A 1L4\, Canada
CATEGORIES:All Welcome,St. James' Parish Vancouver
ATTACH;FMTTYPE=image/jpeg:https://stjames.bc.ca/wp-content/uploads/2024/03/Nativity-Tres-Riches-Heures-Christmas-Eve.jpg
ORGANIZER;CN="St. James' Anglican Church":MAILTO:office@stjames.bc.ca
END:VEVENT
BEGIN:VEVENT
DTSTART;TZID=America/Vancouver:20271225T103000
DTEND;TZID=America/Vancouver:20271225T120000
DTSTAMP:20260424T210211
CREATED:20250114T224446Z
LAST-MODIFIED:20250114T224446Z
UID:10008770-1829730600-1829736000@stjames.bc.ca
SUMMARY:Christmas Day Mass 10:30 am
DESCRIPTION:All are invited to celebrate Christmas and the birth of Jesus with music\, joy & thanksgiving!
URL:https://stjames.bc.ca/event/christmas-day-mass-1030-am/2027-12-25
LOCATION:St James Anglican Church Vancouver\, 303 East Cordova Street\, Vancouver\, BC\, V6A 1L4\, Canada
CATEGORIES:All Welcome,St. James' Parish Vancouver
ATTACH;FMTTYPE=image/jpeg:https://stjames.bc.ca/wp-content/uploads/2024/03/Nativity-Tres-Riches-Heures-Christmas-Eve.jpg
ORGANIZER;CN="St. James' Anglican Church":MAILTO:office@stjames.bc.ca
END:VEVENT
BEGIN:VEVENT
DTSTART;TZID=America/Vancouver:20281225T103000
DTEND;TZID=America/Vancouver:20281225T120000
DTSTAMP:20260424T210211
CREATED:20250114T224446Z
LAST-MODIFIED:20250114T224446Z
UID:10008771-1861353000-1861358400@stjames.bc.ca
SUMMARY:Christmas Day Mass 10:30 am
DESCRIPTION:All are invited to celebrate Christmas and the birth of Jesus with music\, joy & thanksgiving!
URL:https://stjames.bc.ca/event/christmas-day-mass-1030-am/2028-12-25
LOCATION:St James Anglican Church Vancouver\, 303 East Cordova Street\, Vancouver\, BC\, V6A 1L4\, Canada
CATEGORIES:All Welcome,St. James' Parish Vancouver
ATTACH;FMTTYPE=image/jpeg:https://stjames.bc.ca/wp-content/uploads/2024/03/Nativity-Tres-Riches-Heures-Christmas-Eve.jpg
ORGANIZER;CN="St. James' Anglican Church":MAILTO:office@stjames.bc.ca
END:VEVENT
BEGIN:VEVENT
DTSTART;TZID=America/Vancouver:20291225T103000
DTEND;TZID=America/Vancouver:20291225T120000
DTSTAMP:20260424T210211
CREATED:20250114T224446Z
LAST-MODIFIED:20250114T224446Z
UID:10008772-1892889000-1892894400@stjames.bc.ca
SUMMARY:Christmas Day Mass 10:30 am
DESCRIPTION:All are invited to celebrate Christmas and the birth of Jesus with music\, joy & thanksgiving!
URL:https://stjames.bc.ca/event/christmas-day-mass-1030-am/2029-12-25
LOCATION:St James Anglican Church Vancouver\, 303 East Cordova Street\, Vancouver\, BC\, V6A 1L4\, Canada
CATEGORIES:All Welcome,St. James' Parish Vancouver
ATTACH;FMTTYPE=image/jpeg:https://stjames.bc.ca/wp-content/uploads/2024/03/Nativity-Tres-Riches-Heures-Christmas-Eve.jpg
ORGANIZER;CN="St. James' Anglican Church":MAILTO:office@stjames.bc.ca
END:VEVENT
END:VCALENDAR