BEGIN:VCALENDAR
VERSION:2.0
PRODID:-//St James&#039; Anglican Church Vancouver - ECPv6.15.20//NONSGML v1.0//EN
CALSCALE:GREGORIAN
METHOD:PUBLISH
X-WR-CALNAME:St James&#039; Anglican Church Vancouver
X-ORIGINAL-URL:https://stjames.bc.ca
X-WR-CALDESC:Events for St James&#039; Anglican Church Vancouver
REFRESH-INTERVAL;VALUE=DURATION:PT1H
X-Robots-Tag:noindex
X-PUBLISHED-TTL:PT1H
BEGIN:VTIMEZONE
TZID:America/Vancouver
BEGIN:DAYLIGHT
TZOFFSETFROM:-0800
TZOFFSETTO:-0700
TZNAME:PDT
DTSTART:20250309T100000
END:DAYLIGHT
BEGIN:STANDARD
TZOFFSETFROM:-0700
TZOFFSETTO:-0800
TZNAME:PST
DTSTART:20251102T090000
END:STANDARD
BEGIN:DAYLIGHT
TZOFFSETFROM:-0800
TZOFFSETTO:-0700
TZNAME:PDT
DTSTART:20260308T100000
END:DAYLIGHT
BEGIN:STANDARD
TZOFFSETFROM:-0700
TZOFFSETTO:-0800
TZNAME:PST
DTSTART:20261101T090000
END:STANDARD
BEGIN:DAYLIGHT
TZOFFSETFROM:-0800
TZOFFSETTO:-0700
TZNAME:PDT
DTSTART:20270314T100000
END:DAYLIGHT
BEGIN:STANDARD
TZOFFSETFROM:-0700
TZOFFSETTO:-0800
TZNAME:PST
DTSTART:20271107T090000
END:STANDARD
END:VTIMEZONE
BEGIN:VEVENT
DTSTART;TZID=America/Vancouver:20261120T120000
DTEND;TZID=America/Vancouver:20261120T123000
DTSTAMP:20260424T123232
CREATED:20260212T190303Z
LAST-MODIFIED:20260227T222918Z
UID:10005313-1795176000-1795177800@stjames.bc.ca
SUMMARY:Said Mass
DESCRIPTION:Join us in the Blessed Sacrament Chapel (enter through the side gate on Cordova St.) \nEvery Monday\, Wednesday\, and Friday at 12:10pm except holiday Mondays. Subscribe to The Thurible for updates. \nAll are welcome!
URL:https://stjames.bc.ca/event/said-mass-4-3-3-2/2026-11-20
LOCATION:St James Anglican Church Vancouver\, 303 East Cordova Street\, Vancouver\, BC\, V6A 1L4\, Canada
CATEGORIES:All Welcome,St. James' Parish Vancouver
ATTACH;FMTTYPE=image/png:https://stjames.bc.ca/wp-content/uploads/2022/09/BSC-e1736894248979.png
ORGANIZER;CN="St. James' Anglican Church":MAILTO:office@stjames.bc.ca
END:VEVENT
BEGIN:VEVENT
DTSTART;TZID=America/Vancouver:20261121T160000
DTEND;TZID=America/Vancouver:20261121T163000
DTSTAMP:20260424T123232
CREATED:20241024T220235Z
LAST-MODIFIED:20260209T180038Z
UID:10007363-1795276800-1795278600@stjames.bc.ca
SUMMARY:Vigil Mass (Book of Common Prayer)
DESCRIPTION:Join us in the Blessed Sacrament Chapel (enter through the side gate on Cordova St.) \nEvery Saturday at 4:00pm \nAll are welcome!
URL:https://stjames.bc.ca/event/vigil-mass-4-2/2026-11-21
LOCATION:St James Anglican Church Vancouver\, 303 East Cordova Street\, Vancouver\, BC\, V6A 1L4\, Canada
CATEGORIES:All Welcome,St. James' Parish Vancouver
ATTACH;FMTTYPE=image/png:https://stjames.bc.ca/wp-content/uploads/2022/09/BSC-e1736894248979.png
ORGANIZER;CN="St. James' Anglican Church":MAILTO:office@stjames.bc.ca
END:VEVENT
BEGIN:VEVENT
DTSTART;TZID=America/Vancouver:20261123T120000
DTEND;TZID=America/Vancouver:20261123T123000
DTSTAMP:20260424T123232
CREATED:20260212T190303Z
LAST-MODIFIED:20260227T222918Z
UID:10005314-1795435200-1795437000@stjames.bc.ca
SUMMARY:Said Mass
DESCRIPTION:Join us in the Blessed Sacrament Chapel (enter through the side gate on Cordova St.) \nEvery Monday\, Wednesday\, and Friday at 12:10pm except holiday Mondays. Subscribe to The Thurible for updates. \nAll are welcome!
URL:https://stjames.bc.ca/event/said-mass-4-3-3-2/2026-11-23
LOCATION:St James Anglican Church Vancouver\, 303 East Cordova Street\, Vancouver\, BC\, V6A 1L4\, Canada
CATEGORIES:All Welcome,St. James' Parish Vancouver
ATTACH;FMTTYPE=image/png:https://stjames.bc.ca/wp-content/uploads/2022/09/BSC-e1736894248979.png
ORGANIZER;CN="St. James' Anglican Church":MAILTO:office@stjames.bc.ca
END:VEVENT
BEGIN:VEVENT
DTSTART;TZID=America/Vancouver:20261124T093000
DTEND;TZID=America/Vancouver:20261124T100000
DTSTAMP:20260424T123232
CREATED:20241008T221133Z
LAST-MODIFIED:20260227T223032Z
UID:10009503-1795512600-1795514400@stjames.bc.ca
SUMMARY:Said Mass
DESCRIPTION:Join us in the Blessed Sacrament Chapel (enter through the side gate on Cordova St.) \nEvery Tuesday morning at 9:30am except for the day after holiday Mondays. Subscribe to The Thurible for updates. \nAll are welcome!
URL:https://stjames.bc.ca/event/said-mass-3-2-4/2026-11-24
LOCATION:St James Anglican Church Vancouver\, 303 East Cordova Street\, Vancouver\, BC\, V6A 1L4\, Canada
CATEGORIES:All Welcome,St. James' Parish Vancouver
ATTACH;FMTTYPE=image/png:https://stjames.bc.ca/wp-content/uploads/2022/09/BSC-e1736894248979.png
END:VEVENT
BEGIN:VEVENT
DTSTART;TZID=America/Vancouver:20261125T120000
DTEND;TZID=America/Vancouver:20261125T123000
DTSTAMP:20260424T123232
CREATED:20260212T190303Z
LAST-MODIFIED:20260227T222918Z
UID:10005315-1795608000-1795609800@stjames.bc.ca
SUMMARY:Said Mass
DESCRIPTION:Join us in the Blessed Sacrament Chapel (enter through the side gate on Cordova St.) \nEvery Monday\, Wednesday\, and Friday at 12:10pm except holiday Mondays. Subscribe to The Thurible for updates. \nAll are welcome!
URL:https://stjames.bc.ca/event/said-mass-4-3-3-2/2026-11-25
LOCATION:St James Anglican Church Vancouver\, 303 East Cordova Street\, Vancouver\, BC\, V6A 1L4\, Canada
CATEGORIES:All Welcome,St. James' Parish Vancouver
ATTACH;FMTTYPE=image/png:https://stjames.bc.ca/wp-content/uploads/2022/09/BSC-e1736894248979.png
ORGANIZER;CN="St. James' Anglican Church":MAILTO:office@stjames.bc.ca
END:VEVENT
BEGIN:VEVENT
DTSTART;TZID=America/Vancouver:20261125T130000
DTEND;TZID=America/Vancouver:20261125T140000
DTSTAMP:20260424T123232
CREATED:20251224T170826Z
LAST-MODIFIED:20251224T170826Z
UID:10003414-1795611600-1795615200@stjames.bc.ca
SUMMARY:Lectio & Bible Study
DESCRIPTION:Join us as we read and discuss together a passage from Scripture (usually the coming Sunday Gospel). Bring your questions\, ideas\, doubts or just your presence! All are welcome and encouraged to join. \nWe meet in the parish library and on Zoom – come in person or join online. \nEmail Mtr Amanda for Zoom meeting details\, or to be sent the reading and questions for the week.
URL:https://stjames.bc.ca/event/lectio-bible-study-6-2-2-2/2026-11-25
LOCATION:St James Anglican Church Vancouver\, 303 East Cordova Street\, Vancouver\, BC\, V6A 1L4\, Canada
CATEGORIES:St. James' Parish Vancouver
ATTACH;FMTTYPE=image/png:https://stjames.bc.ca/wp-content/uploads/2022/12/psalms.png
ORGANIZER;CN="St. James' Anglican Church":MAILTO:office@stjames.bc.ca
END:VEVENT
BEGIN:VEVENT
DTSTART;TZID=America/Vancouver:20261126T093000
DTEND;TZID=America/Vancouver:20261126T100000
DTSTAMP:20260424T123232
CREATED:20240531T222315Z
LAST-MODIFIED:20260227T223131Z
UID:10009255-1795685400-1795687200@stjames.bc.ca
SUMMARY:Said Mass with Anointing
DESCRIPTION:Join us in the Blessed Sacrament Chapel (enter through the side gate on Cordova St.) every Thursday morning at 9:30 am. \nMass will include the sacrament of holy anointing for healing. All are welcome! \nSubscribe to The Thurible for updates.
URL:https://stjames.bc.ca/event/said-mass-with-anointing-2-2/2026-11-26
LOCATION:St James Anglican Church Vancouver\, 303 East Cordova Street\, Vancouver\, BC\, V6A 1L4\, Canada
CATEGORIES:All Welcome,St. James' Parish Vancouver
ATTACH;FMTTYPE=image/png:https://stjames.bc.ca/wp-content/uploads/2022/09/BSC-e1736894248979.png
ORGANIZER;CN="St. James' Anglican Church":MAILTO:office@stjames.bc.ca
END:VEVENT
BEGIN:VEVENT
DTSTART;TZID=America/Vancouver:20261127T120000
DTEND;TZID=America/Vancouver:20261127T123000
DTSTAMP:20260424T123232
CREATED:20260212T190303Z
LAST-MODIFIED:20260227T222918Z
UID:10005316-1795780800-1795782600@stjames.bc.ca
SUMMARY:Said Mass
DESCRIPTION:Join us in the Blessed Sacrament Chapel (enter through the side gate on Cordova St.) \nEvery Monday\, Wednesday\, and Friday at 12:10pm except holiday Mondays. Subscribe to The Thurible for updates. \nAll are welcome!
URL:https://stjames.bc.ca/event/said-mass-4-3-3-2/2026-11-27
LOCATION:St James Anglican Church Vancouver\, 303 East Cordova Street\, Vancouver\, BC\, V6A 1L4\, Canada
CATEGORIES:All Welcome,St. James' Parish Vancouver
ATTACH;FMTTYPE=image/png:https://stjames.bc.ca/wp-content/uploads/2022/09/BSC-e1736894248979.png
ORGANIZER;CN="St. James' Anglican Church":MAILTO:office@stjames.bc.ca
END:VEVENT
BEGIN:VEVENT
DTSTART;TZID=America/Vancouver:20261128T160000
DTEND;TZID=America/Vancouver:20261128T163000
DTSTAMP:20260424T123232
CREATED:20241024T220235Z
LAST-MODIFIED:20260209T180038Z
UID:10007364-1795881600-1795883400@stjames.bc.ca
SUMMARY:Vigil Mass (Book of Common Prayer)
DESCRIPTION:Join us in the Blessed Sacrament Chapel (enter through the side gate on Cordova St.) \nEvery Saturday at 4:00pm \nAll are welcome!
URL:https://stjames.bc.ca/event/vigil-mass-4-2/2026-11-28
LOCATION:St James Anglican Church Vancouver\, 303 East Cordova Street\, Vancouver\, BC\, V6A 1L4\, Canada
CATEGORIES:All Welcome,St. James' Parish Vancouver
ATTACH;FMTTYPE=image/png:https://stjames.bc.ca/wp-content/uploads/2022/09/BSC-e1736894248979.png
ORGANIZER;CN="St. James' Anglican Church":MAILTO:office@stjames.bc.ca
END:VEVENT
BEGIN:VEVENT
DTSTART;TZID=America/Vancouver:20261129T160000
DTEND;TZID=America/Vancouver:20261129T170000
DTSTAMP:20260424T123232
CREATED:20260302T234657Z
LAST-MODIFIED:20260302T234657Z
UID:10009729-1795968000-1795971600@stjames.bc.ca
SUMMARY:Advent Lessons and Carols
DESCRIPTION:Advent is a season of reflection and joyful expectation. In this service of Lessons and Carols\, the story of the coming of Christ gradually unfolds and deepens our understanding of God’s message of love and redemption.  As we watch and wait for the coming of the Kingdom of God\, the powerful prophesies and promises of Holy Scripture together with music that reflects on each Lesson’s message help us to prepare spiritually\, and quietly propel us to toward the true joy of Christmas.
URL:https://stjames.bc.ca/event/advent-lessons-and-carols-2
LOCATION:St James Anglican Church Vancouver\, 303 East Cordova Street\, Vancouver\, BC\, V6A 1L4\, Canada
CATEGORIES:All Welcome,St. James' Parish Vancouver
ATTACH;FMTTYPE=image/jpeg:https://stjames.bc.ca/wp-content/uploads/2017/03/Jesus-is-born.jpg
ORGANIZER;CN="St. James' Anglican Church":MAILTO:office@stjames.bc.ca
END:VEVENT
BEGIN:VEVENT
DTSTART;TZID=America/Vancouver:20261130T120000
DTEND;TZID=America/Vancouver:20261130T123000
DTSTAMP:20260424T123232
CREATED:20260212T190303Z
LAST-MODIFIED:20260227T222918Z
UID:10005317-1796040000-1796041800@stjames.bc.ca
SUMMARY:Said Mass
DESCRIPTION:Join us in the Blessed Sacrament Chapel (enter through the side gate on Cordova St.) \nEvery Monday\, Wednesday\, and Friday at 12:10pm except holiday Mondays. Subscribe to The Thurible for updates. \nAll are welcome!
URL:https://stjames.bc.ca/event/said-mass-4-3-3-2/2026-11-30
LOCATION:St James Anglican Church Vancouver\, 303 East Cordova Street\, Vancouver\, BC\, V6A 1L4\, Canada
CATEGORIES:All Welcome,St. James' Parish Vancouver
ATTACH;FMTTYPE=image/png:https://stjames.bc.ca/wp-content/uploads/2022/09/BSC-e1736894248979.png
ORGANIZER;CN="St. James' Anglican Church":MAILTO:office@stjames.bc.ca
END:VEVENT
BEGIN:VEVENT
DTSTART;TZID=America/Vancouver:20261201T093000
DTEND;TZID=America/Vancouver:20261201T100000
DTSTAMP:20260424T123232
CREATED:20241008T221133Z
LAST-MODIFIED:20260227T223032Z
UID:10009504-1796117400-1796119200@stjames.bc.ca
SUMMARY:Said Mass
DESCRIPTION:Join us in the Blessed Sacrament Chapel (enter through the side gate on Cordova St.) \nEvery Tuesday morning at 9:30am except for the day after holiday Mondays. Subscribe to The Thurible for updates. \nAll are welcome!
URL:https://stjames.bc.ca/event/said-mass-3-2-4/2026-12-01
LOCATION:St James Anglican Church Vancouver\, 303 East Cordova Street\, Vancouver\, BC\, V6A 1L4\, Canada
CATEGORIES:All Welcome,St. James' Parish Vancouver
ATTACH;FMTTYPE=image/png:https://stjames.bc.ca/wp-content/uploads/2022/09/BSC-e1736894248979.png
END:VEVENT
BEGIN:VEVENT
DTSTART;TZID=America/Vancouver:20261202T120000
DTEND;TZID=America/Vancouver:20261202T123000
DTSTAMP:20260424T123232
CREATED:20260212T190303Z
LAST-MODIFIED:20260227T222918Z
UID:10005318-1796212800-1796214600@stjames.bc.ca
SUMMARY:Said Mass
DESCRIPTION:Join us in the Blessed Sacrament Chapel (enter through the side gate on Cordova St.) \nEvery Monday\, Wednesday\, and Friday at 12:10pm except holiday Mondays. Subscribe to The Thurible for updates. \nAll are welcome!
URL:https://stjames.bc.ca/event/said-mass-4-3-3-2/2026-12-02
LOCATION:St James Anglican Church Vancouver\, 303 East Cordova Street\, Vancouver\, BC\, V6A 1L4\, Canada
CATEGORIES:All Welcome,St. James' Parish Vancouver
ATTACH;FMTTYPE=image/png:https://stjames.bc.ca/wp-content/uploads/2022/09/BSC-e1736894248979.png
ORGANIZER;CN="St. James' Anglican Church":MAILTO:office@stjames.bc.ca
END:VEVENT
BEGIN:VEVENT
DTSTART;TZID=America/Vancouver:20261202T130000
DTEND;TZID=America/Vancouver:20261202T140000
DTSTAMP:20260424T123232
CREATED:20251224T170826Z
LAST-MODIFIED:20251224T170826Z
UID:10003415-1796216400-1796220000@stjames.bc.ca
SUMMARY:Lectio & Bible Study
DESCRIPTION:Join us as we read and discuss together a passage from Scripture (usually the coming Sunday Gospel). Bring your questions\, ideas\, doubts or just your presence! All are welcome and encouraged to join. \nWe meet in the parish library and on Zoom – come in person or join online. \nEmail Mtr Amanda for Zoom meeting details\, or to be sent the reading and questions for the week.
URL:https://stjames.bc.ca/event/lectio-bible-study-6-2-2-2/2026-12-02
LOCATION:St James Anglican Church Vancouver\, 303 East Cordova Street\, Vancouver\, BC\, V6A 1L4\, Canada
CATEGORIES:St. James' Parish Vancouver
ATTACH;FMTTYPE=image/png:https://stjames.bc.ca/wp-content/uploads/2022/12/psalms.png
ORGANIZER;CN="St. James' Anglican Church":MAILTO:office@stjames.bc.ca
END:VEVENT
BEGIN:VEVENT
DTSTART;TZID=America/Vancouver:20261203T093000
DTEND;TZID=America/Vancouver:20261203T100000
DTSTAMP:20260424T123232
CREATED:20240531T222315Z
LAST-MODIFIED:20260227T223131Z
UID:10009256-1796290200-1796292000@stjames.bc.ca
SUMMARY:Said Mass with Anointing
DESCRIPTION:Join us in the Blessed Sacrament Chapel (enter through the side gate on Cordova St.) every Thursday morning at 9:30 am. \nMass will include the sacrament of holy anointing for healing. All are welcome! \nSubscribe to The Thurible for updates.
URL:https://stjames.bc.ca/event/said-mass-with-anointing-2-2/2026-12-03
LOCATION:St James Anglican Church Vancouver\, 303 East Cordova Street\, Vancouver\, BC\, V6A 1L4\, Canada
CATEGORIES:All Welcome,St. James' Parish Vancouver
ATTACH;FMTTYPE=image/png:https://stjames.bc.ca/wp-content/uploads/2022/09/BSC-e1736894248979.png
ORGANIZER;CN="St. James' Anglican Church":MAILTO:office@stjames.bc.ca
END:VEVENT
BEGIN:VEVENT
DTSTART;TZID=America/Vancouver:20261204T120000
DTEND;TZID=America/Vancouver:20261204T123000
DTSTAMP:20260424T123232
CREATED:20260212T190303Z
LAST-MODIFIED:20260227T222918Z
UID:10005319-1796385600-1796387400@stjames.bc.ca
SUMMARY:Said Mass
DESCRIPTION:Join us in the Blessed Sacrament Chapel (enter through the side gate on Cordova St.) \nEvery Monday\, Wednesday\, and Friday at 12:10pm except holiday Mondays. Subscribe to The Thurible for updates. \nAll are welcome!
URL:https://stjames.bc.ca/event/said-mass-4-3-3-2/2026-12-04
LOCATION:St James Anglican Church Vancouver\, 303 East Cordova Street\, Vancouver\, BC\, V6A 1L4\, Canada
CATEGORIES:All Welcome,St. James' Parish Vancouver
ATTACH;FMTTYPE=image/png:https://stjames.bc.ca/wp-content/uploads/2022/09/BSC-e1736894248979.png
ORGANIZER;CN="St. James' Anglican Church":MAILTO:office@stjames.bc.ca
END:VEVENT
BEGIN:VEVENT
DTSTART;TZID=America/Vancouver:20261205T160000
DTEND;TZID=America/Vancouver:20261205T163000
DTSTAMP:20260424T123232
CREATED:20241024T220235Z
LAST-MODIFIED:20260209T180038Z
UID:10007365-1796486400-1796488200@stjames.bc.ca
SUMMARY:Vigil Mass (Book of Common Prayer)
DESCRIPTION:Join us in the Blessed Sacrament Chapel (enter through the side gate on Cordova St.) \nEvery Saturday at 4:00pm \nAll are welcome!
URL:https://stjames.bc.ca/event/vigil-mass-4-2/2026-12-05
LOCATION:St James Anglican Church Vancouver\, 303 East Cordova Street\, Vancouver\, BC\, V6A 1L4\, Canada
CATEGORIES:All Welcome,St. James' Parish Vancouver
ATTACH;FMTTYPE=image/png:https://stjames.bc.ca/wp-content/uploads/2022/09/BSC-e1736894248979.png
ORGANIZER;CN="St. James' Anglican Church":MAILTO:office@stjames.bc.ca
END:VEVENT
BEGIN:VEVENT
DTSTART;TZID=America/Vancouver:20261207T120000
DTEND;TZID=America/Vancouver:20261207T123000
DTSTAMP:20260424T123232
CREATED:20260212T190303Z
LAST-MODIFIED:20260227T222918Z
UID:10005320-1796644800-1796646600@stjames.bc.ca
SUMMARY:Said Mass
DESCRIPTION:Join us in the Blessed Sacrament Chapel (enter through the side gate on Cordova St.) \nEvery Monday\, Wednesday\, and Friday at 12:10pm except holiday Mondays. Subscribe to The Thurible for updates. \nAll are welcome!
URL:https://stjames.bc.ca/event/said-mass-4-3-3-2/2026-12-07
LOCATION:St James Anglican Church Vancouver\, 303 East Cordova Street\, Vancouver\, BC\, V6A 1L4\, Canada
CATEGORIES:All Welcome,St. James' Parish Vancouver
ATTACH;FMTTYPE=image/png:https://stjames.bc.ca/wp-content/uploads/2022/09/BSC-e1736894248979.png
ORGANIZER;CN="St. James' Anglican Church":MAILTO:office@stjames.bc.ca
END:VEVENT
BEGIN:VEVENT
DTSTART;TZID=America/Vancouver:20261208T093000
DTEND;TZID=America/Vancouver:20261208T100000
DTSTAMP:20260424T123232
CREATED:20241008T221133Z
LAST-MODIFIED:20260227T223032Z
UID:10009505-1796722200-1796724000@stjames.bc.ca
SUMMARY:Said Mass
DESCRIPTION:Join us in the Blessed Sacrament Chapel (enter through the side gate on Cordova St.) \nEvery Tuesday morning at 9:30am except for the day after holiday Mondays. Subscribe to The Thurible for updates. \nAll are welcome!
URL:https://stjames.bc.ca/event/said-mass-3-2-4/2026-12-08
LOCATION:St James Anglican Church Vancouver\, 303 East Cordova Street\, Vancouver\, BC\, V6A 1L4\, Canada
CATEGORIES:All Welcome,St. James' Parish Vancouver
ATTACH;FMTTYPE=image/png:https://stjames.bc.ca/wp-content/uploads/2022/09/BSC-e1736894248979.png
END:VEVENT
BEGIN:VEVENT
DTSTART;TZID=America/Vancouver:20261209T120000
DTEND;TZID=America/Vancouver:20261209T123000
DTSTAMP:20260424T123232
CREATED:20260212T190303Z
LAST-MODIFIED:20260227T222918Z
UID:10005321-1796817600-1796819400@stjames.bc.ca
SUMMARY:Said Mass
DESCRIPTION:Join us in the Blessed Sacrament Chapel (enter through the side gate on Cordova St.) \nEvery Monday\, Wednesday\, and Friday at 12:10pm except holiday Mondays. Subscribe to The Thurible for updates. \nAll are welcome!
URL:https://stjames.bc.ca/event/said-mass-4-3-3-2/2026-12-09
LOCATION:St James Anglican Church Vancouver\, 303 East Cordova Street\, Vancouver\, BC\, V6A 1L4\, Canada
CATEGORIES:All Welcome,St. James' Parish Vancouver
ATTACH;FMTTYPE=image/png:https://stjames.bc.ca/wp-content/uploads/2022/09/BSC-e1736894248979.png
ORGANIZER;CN="St. James' Anglican Church":MAILTO:office@stjames.bc.ca
END:VEVENT
BEGIN:VEVENT
DTSTART;TZID=America/Vancouver:20261209T130000
DTEND;TZID=America/Vancouver:20261209T140000
DTSTAMP:20260424T123232
CREATED:20251224T170826Z
LAST-MODIFIED:20251224T170826Z
UID:10003416-1796821200-1796824800@stjames.bc.ca
SUMMARY:Lectio & Bible Study
DESCRIPTION:Join us as we read and discuss together a passage from Scripture (usually the coming Sunday Gospel). Bring your questions\, ideas\, doubts or just your presence! All are welcome and encouraged to join. \nWe meet in the parish library and on Zoom – come in person or join online. \nEmail Mtr Amanda for Zoom meeting details\, or to be sent the reading and questions for the week.
URL:https://stjames.bc.ca/event/lectio-bible-study-6-2-2-2/2026-12-09
LOCATION:St James Anglican Church Vancouver\, 303 East Cordova Street\, Vancouver\, BC\, V6A 1L4\, Canada
CATEGORIES:St. James' Parish Vancouver
ATTACH;FMTTYPE=image/png:https://stjames.bc.ca/wp-content/uploads/2022/12/psalms.png
ORGANIZER;CN="St. James' Anglican Church":MAILTO:office@stjames.bc.ca
END:VEVENT
BEGIN:VEVENT
DTSTART;TZID=America/Vancouver:20261210T093000
DTEND;TZID=America/Vancouver:20261210T100000
DTSTAMP:20260424T123232
CREATED:20240531T222315Z
LAST-MODIFIED:20260227T223131Z
UID:10009257-1796895000-1796896800@stjames.bc.ca
SUMMARY:Said Mass with Anointing
DESCRIPTION:Join us in the Blessed Sacrament Chapel (enter through the side gate on Cordova St.) every Thursday morning at 9:30 am. \nMass will include the sacrament of holy anointing for healing. All are welcome! \nSubscribe to The Thurible for updates.
URL:https://stjames.bc.ca/event/said-mass-with-anointing-2-2/2026-12-10
LOCATION:St James Anglican Church Vancouver\, 303 East Cordova Street\, Vancouver\, BC\, V6A 1L4\, Canada
CATEGORIES:All Welcome,St. James' Parish Vancouver
ATTACH;FMTTYPE=image/png:https://stjames.bc.ca/wp-content/uploads/2022/09/BSC-e1736894248979.png
ORGANIZER;CN="St. James' Anglican Church":MAILTO:office@stjames.bc.ca
END:VEVENT
BEGIN:VEVENT
DTSTART;TZID=America/Vancouver:20261211T120000
DTEND;TZID=America/Vancouver:20261211T123000
DTSTAMP:20260424T123232
CREATED:20260212T190303Z
LAST-MODIFIED:20260227T222918Z
UID:10005322-1796990400-1796992200@stjames.bc.ca
SUMMARY:Said Mass
DESCRIPTION:Join us in the Blessed Sacrament Chapel (enter through the side gate on Cordova St.) \nEvery Monday\, Wednesday\, and Friday at 12:10pm except holiday Mondays. Subscribe to The Thurible for updates. \nAll are welcome!
URL:https://stjames.bc.ca/event/said-mass-4-3-3-2/2026-12-11
LOCATION:St James Anglican Church Vancouver\, 303 East Cordova Street\, Vancouver\, BC\, V6A 1L4\, Canada
CATEGORIES:All Welcome,St. James' Parish Vancouver
ATTACH;FMTTYPE=image/png:https://stjames.bc.ca/wp-content/uploads/2022/09/BSC-e1736894248979.png
ORGANIZER;CN="St. James' Anglican Church":MAILTO:office@stjames.bc.ca
END:VEVENT
BEGIN:VEVENT
DTSTART;TZID=America/Vancouver:20261212T160000
DTEND;TZID=America/Vancouver:20261212T163000
DTSTAMP:20260424T123232
CREATED:20241024T220235Z
LAST-MODIFIED:20260209T180038Z
UID:10007366-1797091200-1797093000@stjames.bc.ca
SUMMARY:Vigil Mass (Book of Common Prayer)
DESCRIPTION:Join us in the Blessed Sacrament Chapel (enter through the side gate on Cordova St.) \nEvery Saturday at 4:00pm \nAll are welcome!
URL:https://stjames.bc.ca/event/vigil-mass-4-2/2026-12-12
LOCATION:St James Anglican Church Vancouver\, 303 East Cordova Street\, Vancouver\, BC\, V6A 1L4\, Canada
CATEGORIES:All Welcome,St. James' Parish Vancouver
ATTACH;FMTTYPE=image/png:https://stjames.bc.ca/wp-content/uploads/2022/09/BSC-e1736894248979.png
ORGANIZER;CN="St. James' Anglican Church":MAILTO:office@stjames.bc.ca
END:VEVENT
BEGIN:VEVENT
DTSTART;TZID=America/Vancouver:20261213T143000
DTEND;TZID=America/Vancouver:20261213T170000
DTSTAMP:20260424T123232
CREATED:20260302T234911Z
LAST-MODIFIED:20260302T234911Z
UID:10009730-1797172200-1797181200@stjames.bc.ca
SUMMARY:Christmas For All
DESCRIPTION:This is a family-friendly service which tells the story of Christmas through familiar carol singing and readings. \nPrior to the service there will be opportunity for children to make a simple decoration\, then following the service\, there will be refreshments and a time of fellowship. \nAll are welcome!
URL:https://stjames.bc.ca/event/christmas-for-all
LOCATION:St James Anglican Church Vancouver\, 303 East Cordova Street\, Vancouver\, BC\, V6A 1L4\, Canada
CATEGORIES:All Welcome,St. James' Parish Vancouver
ATTACH;FMTTYPE=image/jpeg:https://stjames.bc.ca/wp-content/uploads/2024/10/Child-ornament-Christmas-tree-3.jpg
ORGANIZER;CN="St. James' Anglican Church":MAILTO:office@stjames.bc.ca
END:VEVENT
BEGIN:VEVENT
DTSTART;TZID=America/Vancouver:20261214T120000
DTEND;TZID=America/Vancouver:20261214T123000
DTSTAMP:20260424T123232
CREATED:20260212T190303Z
LAST-MODIFIED:20260227T222918Z
UID:10005323-1797249600-1797251400@stjames.bc.ca
SUMMARY:Said Mass
DESCRIPTION:Join us in the Blessed Sacrament Chapel (enter through the side gate on Cordova St.) \nEvery Monday\, Wednesday\, and Friday at 12:10pm except holiday Mondays. Subscribe to The Thurible for updates. \nAll are welcome!
URL:https://stjames.bc.ca/event/said-mass-4-3-3-2/2026-12-14
LOCATION:St James Anglican Church Vancouver\, 303 East Cordova Street\, Vancouver\, BC\, V6A 1L4\, Canada
CATEGORIES:All Welcome,St. James' Parish Vancouver
ATTACH;FMTTYPE=image/png:https://stjames.bc.ca/wp-content/uploads/2022/09/BSC-e1736894248979.png
ORGANIZER;CN="St. James' Anglican Church":MAILTO:office@stjames.bc.ca
END:VEVENT
BEGIN:VEVENT
DTSTART;TZID=America/Vancouver:20261215T093000
DTEND;TZID=America/Vancouver:20261215T100000
DTSTAMP:20260424T123232
CREATED:20241008T221133Z
LAST-MODIFIED:20260227T223032Z
UID:10009506-1797327000-1797328800@stjames.bc.ca
SUMMARY:Said Mass
DESCRIPTION:Join us in the Blessed Sacrament Chapel (enter through the side gate on Cordova St.) \nEvery Tuesday morning at 9:30am except for the day after holiday Mondays. Subscribe to The Thurible for updates. \nAll are welcome!
URL:https://stjames.bc.ca/event/said-mass-3-2-4/2026-12-15
LOCATION:St James Anglican Church Vancouver\, 303 East Cordova Street\, Vancouver\, BC\, V6A 1L4\, Canada
CATEGORIES:All Welcome,St. James' Parish Vancouver
ATTACH;FMTTYPE=image/png:https://stjames.bc.ca/wp-content/uploads/2022/09/BSC-e1736894248979.png
END:VEVENT
BEGIN:VEVENT
DTSTART;TZID=America/Vancouver:20261216T120000
DTEND;TZID=America/Vancouver:20261216T123000
DTSTAMP:20260424T123232
CREATED:20260212T190303Z
LAST-MODIFIED:20260227T222918Z
UID:10005324-1797422400-1797424200@stjames.bc.ca
SUMMARY:Said Mass
DESCRIPTION:Join us in the Blessed Sacrament Chapel (enter through the side gate on Cordova St.) \nEvery Monday\, Wednesday\, and Friday at 12:10pm except holiday Mondays. Subscribe to The Thurible for updates. \nAll are welcome!
URL:https://stjames.bc.ca/event/said-mass-4-3-3-2/2026-12-16
LOCATION:St James Anglican Church Vancouver\, 303 East Cordova Street\, Vancouver\, BC\, V6A 1L4\, Canada
CATEGORIES:All Welcome,St. James' Parish Vancouver
ATTACH;FMTTYPE=image/png:https://stjames.bc.ca/wp-content/uploads/2022/09/BSC-e1736894248979.png
ORGANIZER;CN="St. James' Anglican Church":MAILTO:office@stjames.bc.ca
END:VEVENT
BEGIN:VEVENT
DTSTART;TZID=America/Vancouver:20261216T130000
DTEND;TZID=America/Vancouver:20261216T140000
DTSTAMP:20260424T123232
CREATED:20251224T170826Z
LAST-MODIFIED:20251224T170826Z
UID:10003417-1797426000-1797429600@stjames.bc.ca
SUMMARY:Lectio & Bible Study
DESCRIPTION:Join us as we read and discuss together a passage from Scripture (usually the coming Sunday Gospel). Bring your questions\, ideas\, doubts or just your presence! All are welcome and encouraged to join. \nWe meet in the parish library and on Zoom – come in person or join online. \nEmail Mtr Amanda for Zoom meeting details\, or to be sent the reading and questions for the week.
URL:https://stjames.bc.ca/event/lectio-bible-study-6-2-2-2/2026-12-16
LOCATION:St James Anglican Church Vancouver\, 303 East Cordova Street\, Vancouver\, BC\, V6A 1L4\, Canada
CATEGORIES:St. James' Parish Vancouver
ATTACH;FMTTYPE=image/png:https://stjames.bc.ca/wp-content/uploads/2022/12/psalms.png
ORGANIZER;CN="St. James' Anglican Church":MAILTO:office@stjames.bc.ca
END:VEVENT
BEGIN:VEVENT
DTSTART;TZID=America/Vancouver:20261217T093000
DTEND;TZID=America/Vancouver:20261217T100000
DTSTAMP:20260424T123232
CREATED:20240531T222315Z
LAST-MODIFIED:20260227T223131Z
UID:10009258-1797499800-1797501600@stjames.bc.ca
SUMMARY:Said Mass with Anointing
DESCRIPTION:Join us in the Blessed Sacrament Chapel (enter through the side gate on Cordova St.) every Thursday morning at 9:30 am. \nMass will include the sacrament of holy anointing for healing. All are welcome! \nSubscribe to The Thurible for updates.
URL:https://stjames.bc.ca/event/said-mass-with-anointing-2-2/2026-12-17
LOCATION:St James Anglican Church Vancouver\, 303 East Cordova Street\, Vancouver\, BC\, V6A 1L4\, Canada
CATEGORIES:All Welcome,St. James' Parish Vancouver
ATTACH;FMTTYPE=image/png:https://stjames.bc.ca/wp-content/uploads/2022/09/BSC-e1736894248979.png
ORGANIZER;CN="St. James' Anglican Church":MAILTO:office@stjames.bc.ca
END:VEVENT
END:VCALENDAR