BEGIN:VCALENDAR
VERSION:2.0
PRODID:-//St James&#039; Anglican Church Vancouver - ECPv6.15.20//NONSGML v1.0//EN
CALSCALE:GREGORIAN
METHOD:PUBLISH
X-ORIGINAL-URL:https://stjames.bc.ca
X-WR-CALDESC:Events for St James&#039; Anglican Church Vancouver
REFRESH-INTERVAL;VALUE=DURATION:PT1H
X-Robots-Tag:noindex
X-PUBLISHED-TTL:PT1H
BEGIN:VTIMEZONE
TZID:America/Vancouver
BEGIN:DAYLIGHT
TZOFFSETFROM:-0800
TZOFFSETTO:-0700
TZNAME:PDT
DTSTART:20260308T100000
END:DAYLIGHT
BEGIN:STANDARD
TZOFFSETFROM:-0700
TZOFFSETTO:-0800
TZNAME:PST
DTSTART:20261101T090000
END:STANDARD
BEGIN:DAYLIGHT
TZOFFSETFROM:-0800
TZOFFSETTO:-0700
TZNAME:PDT
DTSTART:20270314T100000
END:DAYLIGHT
BEGIN:STANDARD
TZOFFSETFROM:-0700
TZOFFSETTO:-0800
TZNAME:PST
DTSTART:20271107T090000
END:STANDARD
BEGIN:DAYLIGHT
TZOFFSETFROM:-0800
TZOFFSETTO:-0700
TZNAME:PDT
DTSTART:20280312T100000
END:DAYLIGHT
BEGIN:STANDARD
TZOFFSETFROM:-0700
TZOFFSETTO:-0800
TZNAME:PST
DTSTART:20281105T090000
END:STANDARD
END:VTIMEZONE
BEGIN:VEVENT
DTSTART;TZID=America/Vancouver:20270714T120000
DTEND;TZID=America/Vancouver:20270714T123000
DTSTAMP:20260425T084728
CREATED:20260212T190303Z
LAST-MODIFIED:20260227T222918Z
UID:10005414-1815566400-1815568200@stjames.bc.ca
SUMMARY:Said Mass
DESCRIPTION:Join us in the Blessed Sacrament Chapel (enter through the side gate on Cordova St.) \nEvery Monday\, Wednesday\, and Friday at 12:10pm except holiday Mondays. Subscribe to The Thurible for updates. \nAll are welcome!
URL:https://stjames.bc.ca/event/said-mass-4-3-3-2/2027-07-14
LOCATION:St James Anglican Church Vancouver\, 303 East Cordova Street\, Vancouver\, BC\, V6A 1L4\, Canada
CATEGORIES:All Welcome,St. James' Parish Vancouver
ATTACH;FMTTYPE=image/png:https://stjames.bc.ca/wp-content/uploads/2022/09/BSC-e1736894248979.png
ORGANIZER;CN="St. James' Anglican Church":MAILTO:office@stjames.bc.ca
END:VEVENT
BEGIN:VEVENT
DTSTART;TZID=America/Vancouver:20270714T130000
DTEND;TZID=America/Vancouver:20270714T140000
DTSTAMP:20260425T084728
CREATED:20251224T170826Z
LAST-MODIFIED:20251224T170826Z
UID:10003447-1815570000-1815573600@stjames.bc.ca
SUMMARY:Lectio & Bible Study
DESCRIPTION:Join us as we read and discuss together a passage from Scripture (usually the coming Sunday Gospel). Bring your questions\, ideas\, doubts or just your presence! All are welcome and encouraged to join. \nWe meet in the parish library and on Zoom – come in person or join online. \nEmail Mtr Amanda for Zoom meeting details\, or to be sent the reading and questions for the week.
URL:https://stjames.bc.ca/event/lectio-bible-study-6-2-2-2/2027-07-14
LOCATION:St James Anglican Church Vancouver\, 303 East Cordova Street\, Vancouver\, BC\, V6A 1L4\, Canada
CATEGORIES:St. James' Parish Vancouver
ATTACH;FMTTYPE=image/png:https://stjames.bc.ca/wp-content/uploads/2022/12/psalms.png
ORGANIZER;CN="St. James' Anglican Church":MAILTO:office@stjames.bc.ca
END:VEVENT
BEGIN:VEVENT
DTSTART;TZID=America/Vancouver:20270715T093000
DTEND;TZID=America/Vancouver:20270715T100000
DTSTAMP:20260425T084728
CREATED:20240531T222315Z
LAST-MODIFIED:20260227T223131Z
UID:10009288-1815643800-1815645600@stjames.bc.ca
SUMMARY:Said Mass with Anointing
DESCRIPTION:Join us in the Blessed Sacrament Chapel (enter through the side gate on Cordova St.) every Thursday morning at 9:30 am. \nMass will include the sacrament of holy anointing for healing. All are welcome! \nSubscribe to The Thurible for updates.
URL:https://stjames.bc.ca/event/said-mass-with-anointing-2-2/2027-07-15
LOCATION:St James Anglican Church Vancouver\, 303 East Cordova Street\, Vancouver\, BC\, V6A 1L4\, Canada
CATEGORIES:All Welcome,St. James' Parish Vancouver
ATTACH;FMTTYPE=image/png:https://stjames.bc.ca/wp-content/uploads/2022/09/BSC-e1736894248979.png
ORGANIZER;CN="St. James' Anglican Church":MAILTO:office@stjames.bc.ca
END:VEVENT
BEGIN:VEVENT
DTSTART;TZID=America/Vancouver:20270716T120000
DTEND;TZID=America/Vancouver:20270716T123000
DTSTAMP:20260425T084728
CREATED:20260212T190303Z
LAST-MODIFIED:20260227T222918Z
UID:10005415-1815739200-1815741000@stjames.bc.ca
SUMMARY:Said Mass
DESCRIPTION:Join us in the Blessed Sacrament Chapel (enter through the side gate on Cordova St.) \nEvery Monday\, Wednesday\, and Friday at 12:10pm except holiday Mondays. Subscribe to The Thurible for updates. \nAll are welcome!
URL:https://stjames.bc.ca/event/said-mass-4-3-3-2/2027-07-16
LOCATION:St James Anglican Church Vancouver\, 303 East Cordova Street\, Vancouver\, BC\, V6A 1L4\, Canada
CATEGORIES:All Welcome,St. James' Parish Vancouver
ATTACH;FMTTYPE=image/png:https://stjames.bc.ca/wp-content/uploads/2022/09/BSC-e1736894248979.png
ORGANIZER;CN="St. James' Anglican Church":MAILTO:office@stjames.bc.ca
END:VEVENT
BEGIN:VEVENT
DTSTART;TZID=America/Vancouver:20270717T160000
DTEND;TZID=America/Vancouver:20270717T163000
DTSTAMP:20260425T084728
CREATED:20241024T220235Z
LAST-MODIFIED:20260209T180038Z
UID:10007397-1815840000-1815841800@stjames.bc.ca
SUMMARY:Vigil Mass (Book of Common Prayer)
DESCRIPTION:Join us in the Blessed Sacrament Chapel (enter through the side gate on Cordova St.) \nEvery Saturday at 4:00pm \nAll are welcome!
URL:https://stjames.bc.ca/event/vigil-mass-4-2/2027-07-17
LOCATION:St James Anglican Church Vancouver\, 303 East Cordova Street\, Vancouver\, BC\, V6A 1L4\, Canada
CATEGORIES:All Welcome,St. James' Parish Vancouver
ATTACH;FMTTYPE=image/png:https://stjames.bc.ca/wp-content/uploads/2022/09/BSC-e1736894248979.png
ORGANIZER;CN="St. James' Anglican Church":MAILTO:office@stjames.bc.ca
END:VEVENT
BEGIN:VEVENT
DTSTART;TZID=America/Vancouver:20270719T120000
DTEND;TZID=America/Vancouver:20270719T123000
DTSTAMP:20260425T084728
CREATED:20260212T190303Z
LAST-MODIFIED:20260227T222918Z
UID:10005416-1815998400-1816000200@stjames.bc.ca
SUMMARY:Said Mass
DESCRIPTION:Join us in the Blessed Sacrament Chapel (enter through the side gate on Cordova St.) \nEvery Monday\, Wednesday\, and Friday at 12:10pm except holiday Mondays. Subscribe to The Thurible for updates. \nAll are welcome!
URL:https://stjames.bc.ca/event/said-mass-4-3-3-2/2027-07-19
LOCATION:St James Anglican Church Vancouver\, 303 East Cordova Street\, Vancouver\, BC\, V6A 1L4\, Canada
CATEGORIES:All Welcome,St. James' Parish Vancouver
ATTACH;FMTTYPE=image/png:https://stjames.bc.ca/wp-content/uploads/2022/09/BSC-e1736894248979.png
ORGANIZER;CN="St. James' Anglican Church":MAILTO:office@stjames.bc.ca
END:VEVENT
BEGIN:VEVENT
DTSTART;TZID=America/Vancouver:20270720T093000
DTEND;TZID=America/Vancouver:20270720T100000
DTSTAMP:20260425T084728
CREATED:20241008T221133Z
LAST-MODIFIED:20260227T223032Z
UID:10009537-1816075800-1816077600@stjames.bc.ca
SUMMARY:Said Mass
DESCRIPTION:Join us in the Blessed Sacrament Chapel (enter through the side gate on Cordova St.) \nEvery Tuesday morning at 9:30am except for the day after holiday Mondays. Subscribe to The Thurible for updates. \nAll are welcome!
URL:https://stjames.bc.ca/event/said-mass-3-2-4/2027-07-20
LOCATION:St James Anglican Church Vancouver\, 303 East Cordova Street\, Vancouver\, BC\, V6A 1L4\, Canada
CATEGORIES:All Welcome,St. James' Parish Vancouver
ATTACH;FMTTYPE=image/png:https://stjames.bc.ca/wp-content/uploads/2022/09/BSC-e1736894248979.png
END:VEVENT
BEGIN:VEVENT
DTSTART;TZID=America/Vancouver:20270721T120000
DTEND;TZID=America/Vancouver:20270721T123000
DTSTAMP:20260425T084728
CREATED:20260212T190303Z
LAST-MODIFIED:20260227T222918Z
UID:10005417-1816171200-1816173000@stjames.bc.ca
SUMMARY:Said Mass
DESCRIPTION:Join us in the Blessed Sacrament Chapel (enter through the side gate on Cordova St.) \nEvery Monday\, Wednesday\, and Friday at 12:10pm except holiday Mondays. Subscribe to The Thurible for updates. \nAll are welcome!
URL:https://stjames.bc.ca/event/said-mass-4-3-3-2/2027-07-21
LOCATION:St James Anglican Church Vancouver\, 303 East Cordova Street\, Vancouver\, BC\, V6A 1L4\, Canada
CATEGORIES:All Welcome,St. James' Parish Vancouver
ATTACH;FMTTYPE=image/png:https://stjames.bc.ca/wp-content/uploads/2022/09/BSC-e1736894248979.png
ORGANIZER;CN="St. James' Anglican Church":MAILTO:office@stjames.bc.ca
END:VEVENT
BEGIN:VEVENT
DTSTART;TZID=America/Vancouver:20270721T130000
DTEND;TZID=America/Vancouver:20270721T140000
DTSTAMP:20260425T084728
CREATED:20251224T170826Z
LAST-MODIFIED:20251224T170826Z
UID:10003448-1816174800-1816178400@stjames.bc.ca
SUMMARY:Lectio & Bible Study
DESCRIPTION:Join us as we read and discuss together a passage from Scripture (usually the coming Sunday Gospel). Bring your questions\, ideas\, doubts or just your presence! All are welcome and encouraged to join. \nWe meet in the parish library and on Zoom – come in person or join online. \nEmail Mtr Amanda for Zoom meeting details\, or to be sent the reading and questions for the week.
URL:https://stjames.bc.ca/event/lectio-bible-study-6-2-2-2/2027-07-21
LOCATION:St James Anglican Church Vancouver\, 303 East Cordova Street\, Vancouver\, BC\, V6A 1L4\, Canada
CATEGORIES:St. James' Parish Vancouver
ATTACH;FMTTYPE=image/png:https://stjames.bc.ca/wp-content/uploads/2022/12/psalms.png
ORGANIZER;CN="St. James' Anglican Church":MAILTO:office@stjames.bc.ca
END:VEVENT
BEGIN:VEVENT
DTSTART;TZID=America/Vancouver:20270722T093000
DTEND;TZID=America/Vancouver:20270722T100000
DTSTAMP:20260425T084728
CREATED:20240531T222315Z
LAST-MODIFIED:20260227T223131Z
UID:10009289-1816248600-1816250400@stjames.bc.ca
SUMMARY:Said Mass with Anointing
DESCRIPTION:Join us in the Blessed Sacrament Chapel (enter through the side gate on Cordova St.) every Thursday morning at 9:30 am. \nMass will include the sacrament of holy anointing for healing. All are welcome! \nSubscribe to The Thurible for updates.
URL:https://stjames.bc.ca/event/said-mass-with-anointing-2-2/2027-07-22
LOCATION:St James Anglican Church Vancouver\, 303 East Cordova Street\, Vancouver\, BC\, V6A 1L4\, Canada
CATEGORIES:All Welcome,St. James' Parish Vancouver
ATTACH;FMTTYPE=image/png:https://stjames.bc.ca/wp-content/uploads/2022/09/BSC-e1736894248979.png
ORGANIZER;CN="St. James' Anglican Church":MAILTO:office@stjames.bc.ca
END:VEVENT
BEGIN:VEVENT
DTSTART;TZID=America/Vancouver:20270723T120000
DTEND;TZID=America/Vancouver:20270723T123000
DTSTAMP:20260425T084728
CREATED:20260212T190303Z
LAST-MODIFIED:20260227T222918Z
UID:10005418-1816344000-1816345800@stjames.bc.ca
SUMMARY:Said Mass
DESCRIPTION:Join us in the Blessed Sacrament Chapel (enter through the side gate on Cordova St.) \nEvery Monday\, Wednesday\, and Friday at 12:10pm except holiday Mondays. Subscribe to The Thurible for updates. \nAll are welcome!
URL:https://stjames.bc.ca/event/said-mass-4-3-3-2/2027-07-23
LOCATION:St James Anglican Church Vancouver\, 303 East Cordova Street\, Vancouver\, BC\, V6A 1L4\, Canada
CATEGORIES:All Welcome,St. James' Parish Vancouver
ATTACH;FMTTYPE=image/png:https://stjames.bc.ca/wp-content/uploads/2022/09/BSC-e1736894248979.png
ORGANIZER;CN="St. James' Anglican Church":MAILTO:office@stjames.bc.ca
END:VEVENT
BEGIN:VEVENT
DTSTART;TZID=America/Vancouver:20270724T160000
DTEND;TZID=America/Vancouver:20270724T163000
DTSTAMP:20260425T084728
CREATED:20241024T220235Z
LAST-MODIFIED:20260209T180038Z
UID:10007398-1816444800-1816446600@stjames.bc.ca
SUMMARY:Vigil Mass (Book of Common Prayer)
DESCRIPTION:Join us in the Blessed Sacrament Chapel (enter through the side gate on Cordova St.) \nEvery Saturday at 4:00pm \nAll are welcome!
URL:https://stjames.bc.ca/event/vigil-mass-4-2/2027-07-24
LOCATION:St James Anglican Church Vancouver\, 303 East Cordova Street\, Vancouver\, BC\, V6A 1L4\, Canada
CATEGORIES:All Welcome,St. James' Parish Vancouver
ATTACH;FMTTYPE=image/png:https://stjames.bc.ca/wp-content/uploads/2022/09/BSC-e1736894248979.png
ORGANIZER;CN="St. James' Anglican Church":MAILTO:office@stjames.bc.ca
END:VEVENT
BEGIN:VEVENT
DTSTART;TZID=America/Vancouver:20270726T120000
DTEND;TZID=America/Vancouver:20270726T123000
DTSTAMP:20260425T084728
CREATED:20260212T190303Z
LAST-MODIFIED:20260227T222918Z
UID:10005419-1816603200-1816605000@stjames.bc.ca
SUMMARY:Said Mass
DESCRIPTION:Join us in the Blessed Sacrament Chapel (enter through the side gate on Cordova St.) \nEvery Monday\, Wednesday\, and Friday at 12:10pm except holiday Mondays. Subscribe to The Thurible for updates. \nAll are welcome!
URL:https://stjames.bc.ca/event/said-mass-4-3-3-2/2027-07-26
LOCATION:St James Anglican Church Vancouver\, 303 East Cordova Street\, Vancouver\, BC\, V6A 1L4\, Canada
CATEGORIES:All Welcome,St. James' Parish Vancouver
ATTACH;FMTTYPE=image/png:https://stjames.bc.ca/wp-content/uploads/2022/09/BSC-e1736894248979.png
ORGANIZER;CN="St. James' Anglican Church":MAILTO:office@stjames.bc.ca
END:VEVENT
BEGIN:VEVENT
DTSTART;TZID=America/Vancouver:20270727T093000
DTEND;TZID=America/Vancouver:20270727T100000
DTSTAMP:20260425T084728
CREATED:20241008T221133Z
LAST-MODIFIED:20260227T223032Z
UID:10009538-1816680600-1816682400@stjames.bc.ca
SUMMARY:Said Mass
DESCRIPTION:Join us in the Blessed Sacrament Chapel (enter through the side gate on Cordova St.) \nEvery Tuesday morning at 9:30am except for the day after holiday Mondays. Subscribe to The Thurible for updates. \nAll are welcome!
URL:https://stjames.bc.ca/event/said-mass-3-2-4/2027-07-27
LOCATION:St James Anglican Church Vancouver\, 303 East Cordova Street\, Vancouver\, BC\, V6A 1L4\, Canada
CATEGORIES:All Welcome,St. James' Parish Vancouver
ATTACH;FMTTYPE=image/png:https://stjames.bc.ca/wp-content/uploads/2022/09/BSC-e1736894248979.png
END:VEVENT
BEGIN:VEVENT
DTSTART;TZID=America/Vancouver:20270728T120000
DTEND;TZID=America/Vancouver:20270728T123000
DTSTAMP:20260425T084728
CREATED:20260212T190303Z
LAST-MODIFIED:20260227T222918Z
UID:10005420-1816776000-1816777800@stjames.bc.ca
SUMMARY:Said Mass
DESCRIPTION:Join us in the Blessed Sacrament Chapel (enter through the side gate on Cordova St.) \nEvery Monday\, Wednesday\, and Friday at 12:10pm except holiday Mondays. Subscribe to The Thurible for updates. \nAll are welcome!
URL:https://stjames.bc.ca/event/said-mass-4-3-3-2/2027-07-28
LOCATION:St James Anglican Church Vancouver\, 303 East Cordova Street\, Vancouver\, BC\, V6A 1L4\, Canada
CATEGORIES:All Welcome,St. James' Parish Vancouver
ATTACH;FMTTYPE=image/png:https://stjames.bc.ca/wp-content/uploads/2022/09/BSC-e1736894248979.png
ORGANIZER;CN="St. James' Anglican Church":MAILTO:office@stjames.bc.ca
END:VEVENT
BEGIN:VEVENT
DTSTART;TZID=America/Vancouver:20270728T130000
DTEND;TZID=America/Vancouver:20270728T140000
DTSTAMP:20260425T084728
CREATED:20251224T170826Z
LAST-MODIFIED:20251224T170826Z
UID:10003449-1816779600-1816783200@stjames.bc.ca
SUMMARY:Lectio & Bible Study
DESCRIPTION:Join us as we read and discuss together a passage from Scripture (usually the coming Sunday Gospel). Bring your questions\, ideas\, doubts or just your presence! All are welcome and encouraged to join. \nWe meet in the parish library and on Zoom – come in person or join online. \nEmail Mtr Amanda for Zoom meeting details\, or to be sent the reading and questions for the week.
URL:https://stjames.bc.ca/event/lectio-bible-study-6-2-2-2/2027-07-28
LOCATION:St James Anglican Church Vancouver\, 303 East Cordova Street\, Vancouver\, BC\, V6A 1L4\, Canada
CATEGORIES:St. James' Parish Vancouver
ATTACH;FMTTYPE=image/png:https://stjames.bc.ca/wp-content/uploads/2022/12/psalms.png
ORGANIZER;CN="St. James' Anglican Church":MAILTO:office@stjames.bc.ca
END:VEVENT
BEGIN:VEVENT
DTSTART;TZID=America/Vancouver:20270729T093000
DTEND;TZID=America/Vancouver:20270729T100000
DTSTAMP:20260425T084728
CREATED:20240531T222315Z
LAST-MODIFIED:20260227T223131Z
UID:10009290-1816853400-1816855200@stjames.bc.ca
SUMMARY:Said Mass with Anointing
DESCRIPTION:Join us in the Blessed Sacrament Chapel (enter through the side gate on Cordova St.) every Thursday morning at 9:30 am. \nMass will include the sacrament of holy anointing for healing. All are welcome! \nSubscribe to The Thurible for updates.
URL:https://stjames.bc.ca/event/said-mass-with-anointing-2-2/2027-07-29
LOCATION:St James Anglican Church Vancouver\, 303 East Cordova Street\, Vancouver\, BC\, V6A 1L4\, Canada
CATEGORIES:All Welcome,St. James' Parish Vancouver
ATTACH;FMTTYPE=image/png:https://stjames.bc.ca/wp-content/uploads/2022/09/BSC-e1736894248979.png
ORGANIZER;CN="St. James' Anglican Church":MAILTO:office@stjames.bc.ca
END:VEVENT
BEGIN:VEVENT
DTSTART;TZID=America/Vancouver:20270730T120000
DTEND;TZID=America/Vancouver:20270730T123000
DTSTAMP:20260425T084728
CREATED:20260212T190303Z
LAST-MODIFIED:20260227T222918Z
UID:10005421-1816948800-1816950600@stjames.bc.ca
SUMMARY:Said Mass
DESCRIPTION:Join us in the Blessed Sacrament Chapel (enter through the side gate on Cordova St.) \nEvery Monday\, Wednesday\, and Friday at 12:10pm except holiday Mondays. Subscribe to The Thurible for updates. \nAll are welcome!
URL:https://stjames.bc.ca/event/said-mass-4-3-3-2/2027-07-30
LOCATION:St James Anglican Church Vancouver\, 303 East Cordova Street\, Vancouver\, BC\, V6A 1L4\, Canada
CATEGORIES:All Welcome,St. James' Parish Vancouver
ATTACH;FMTTYPE=image/png:https://stjames.bc.ca/wp-content/uploads/2022/09/BSC-e1736894248979.png
ORGANIZER;CN="St. James' Anglican Church":MAILTO:office@stjames.bc.ca
END:VEVENT
BEGIN:VEVENT
DTSTART;TZID=America/Vancouver:20270731T160000
DTEND;TZID=America/Vancouver:20270731T163000
DTSTAMP:20260425T084728
CREATED:20241024T220235Z
LAST-MODIFIED:20260209T180038Z
UID:10007399-1817049600-1817051400@stjames.bc.ca
SUMMARY:Vigil Mass (Book of Common Prayer)
DESCRIPTION:Join us in the Blessed Sacrament Chapel (enter through the side gate on Cordova St.) \nEvery Saturday at 4:00pm \nAll are welcome!
URL:https://stjames.bc.ca/event/vigil-mass-4-2/2027-07-31
LOCATION:St James Anglican Church Vancouver\, 303 East Cordova Street\, Vancouver\, BC\, V6A 1L4\, Canada
CATEGORIES:All Welcome,St. James' Parish Vancouver
ATTACH;FMTTYPE=image/png:https://stjames.bc.ca/wp-content/uploads/2022/09/BSC-e1736894248979.png
ORGANIZER;CN="St. James' Anglican Church":MAILTO:office@stjames.bc.ca
END:VEVENT
BEGIN:VEVENT
DTSTART;TZID=America/Vancouver:20270802T120000
DTEND;TZID=America/Vancouver:20270802T123000
DTSTAMP:20260425T084728
CREATED:20260212T190303Z
LAST-MODIFIED:20260227T222918Z
UID:10005422-1817208000-1817209800@stjames.bc.ca
SUMMARY:Said Mass
DESCRIPTION:Join us in the Blessed Sacrament Chapel (enter through the side gate on Cordova St.) \nEvery Monday\, Wednesday\, and Friday at 12:10pm except holiday Mondays. Subscribe to The Thurible for updates. \nAll are welcome!
URL:https://stjames.bc.ca/event/said-mass-4-3-3-2/2027-08-02
LOCATION:St James Anglican Church Vancouver\, 303 East Cordova Street\, Vancouver\, BC\, V6A 1L4\, Canada
CATEGORIES:All Welcome,St. James' Parish Vancouver
ATTACH;FMTTYPE=image/png:https://stjames.bc.ca/wp-content/uploads/2022/09/BSC-e1736894248979.png
ORGANIZER;CN="St. James' Anglican Church":MAILTO:office@stjames.bc.ca
END:VEVENT
BEGIN:VEVENT
DTSTART;TZID=America/Vancouver:20270803T093000
DTEND;TZID=America/Vancouver:20270803T100000
DTSTAMP:20260425T084728
CREATED:20241008T221133Z
LAST-MODIFIED:20260227T223032Z
UID:10009539-1817285400-1817287200@stjames.bc.ca
SUMMARY:Said Mass
DESCRIPTION:Join us in the Blessed Sacrament Chapel (enter through the side gate on Cordova St.) \nEvery Tuesday morning at 9:30am except for the day after holiday Mondays. Subscribe to The Thurible for updates. \nAll are welcome!
URL:https://stjames.bc.ca/event/said-mass-3-2-4/2027-08-03
LOCATION:St James Anglican Church Vancouver\, 303 East Cordova Street\, Vancouver\, BC\, V6A 1L4\, Canada
CATEGORIES:All Welcome,St. James' Parish Vancouver
ATTACH;FMTTYPE=image/png:https://stjames.bc.ca/wp-content/uploads/2022/09/BSC-e1736894248979.png
END:VEVENT
BEGIN:VEVENT
DTSTART;TZID=America/Vancouver:20270804T120000
DTEND;TZID=America/Vancouver:20270804T123000
DTSTAMP:20260425T084728
CREATED:20260212T190303Z
LAST-MODIFIED:20260227T222918Z
UID:10005423-1817380800-1817382600@stjames.bc.ca
SUMMARY:Said Mass
DESCRIPTION:Join us in the Blessed Sacrament Chapel (enter through the side gate on Cordova St.) \nEvery Monday\, Wednesday\, and Friday at 12:10pm except holiday Mondays. Subscribe to The Thurible for updates. \nAll are welcome!
URL:https://stjames.bc.ca/event/said-mass-4-3-3-2/2027-08-04
LOCATION:St James Anglican Church Vancouver\, 303 East Cordova Street\, Vancouver\, BC\, V6A 1L4\, Canada
CATEGORIES:All Welcome,St. James' Parish Vancouver
ATTACH;FMTTYPE=image/png:https://stjames.bc.ca/wp-content/uploads/2022/09/BSC-e1736894248979.png
ORGANIZER;CN="St. James' Anglican Church":MAILTO:office@stjames.bc.ca
END:VEVENT
BEGIN:VEVENT
DTSTART;TZID=America/Vancouver:20270804T130000
DTEND;TZID=America/Vancouver:20270804T140000
DTSTAMP:20260425T084728
CREATED:20251224T170826Z
LAST-MODIFIED:20251224T170826Z
UID:10003450-1817384400-1817388000@stjames.bc.ca
SUMMARY:Lectio & Bible Study
DESCRIPTION:Join us as we read and discuss together a passage from Scripture (usually the coming Sunday Gospel). Bring your questions\, ideas\, doubts or just your presence! All are welcome and encouraged to join. \nWe meet in the parish library and on Zoom – come in person or join online. \nEmail Mtr Amanda for Zoom meeting details\, or to be sent the reading and questions for the week.
URL:https://stjames.bc.ca/event/lectio-bible-study-6-2-2-2/2027-08-04
LOCATION:St James Anglican Church Vancouver\, 303 East Cordova Street\, Vancouver\, BC\, V6A 1L4\, Canada
CATEGORIES:St. James' Parish Vancouver
ATTACH;FMTTYPE=image/png:https://stjames.bc.ca/wp-content/uploads/2022/12/psalms.png
ORGANIZER;CN="St. James' Anglican Church":MAILTO:office@stjames.bc.ca
END:VEVENT
BEGIN:VEVENT
DTSTART;TZID=America/Vancouver:20270805T093000
DTEND;TZID=America/Vancouver:20270805T100000
DTSTAMP:20260425T084728
CREATED:20240531T222315Z
LAST-MODIFIED:20260227T223131Z
UID:10009291-1817458200-1817460000@stjames.bc.ca
SUMMARY:Said Mass with Anointing
DESCRIPTION:Join us in the Blessed Sacrament Chapel (enter through the side gate on Cordova St.) every Thursday morning at 9:30 am. \nMass will include the sacrament of holy anointing for healing. All are welcome! \nSubscribe to The Thurible for updates.
URL:https://stjames.bc.ca/event/said-mass-with-anointing-2-2/2027-08-05
LOCATION:St James Anglican Church Vancouver\, 303 East Cordova Street\, Vancouver\, BC\, V6A 1L4\, Canada
CATEGORIES:All Welcome,St. James' Parish Vancouver
ATTACH;FMTTYPE=image/png:https://stjames.bc.ca/wp-content/uploads/2022/09/BSC-e1736894248979.png
ORGANIZER;CN="St. James' Anglican Church":MAILTO:office@stjames.bc.ca
END:VEVENT
BEGIN:VEVENT
DTSTART;TZID=America/Vancouver:20270806T120000
DTEND;TZID=America/Vancouver:20270806T123000
DTSTAMP:20260425T084728
CREATED:20260212T190303Z
LAST-MODIFIED:20260227T222918Z
UID:10005424-1817553600-1817555400@stjames.bc.ca
SUMMARY:Said Mass
DESCRIPTION:Join us in the Blessed Sacrament Chapel (enter through the side gate on Cordova St.) \nEvery Monday\, Wednesday\, and Friday at 12:10pm except holiday Mondays. Subscribe to The Thurible for updates. \nAll are welcome!
URL:https://stjames.bc.ca/event/said-mass-4-3-3-2/2027-08-06
LOCATION:St James Anglican Church Vancouver\, 303 East Cordova Street\, Vancouver\, BC\, V6A 1L4\, Canada
CATEGORIES:All Welcome,St. James' Parish Vancouver
ATTACH;FMTTYPE=image/png:https://stjames.bc.ca/wp-content/uploads/2022/09/BSC-e1736894248979.png
ORGANIZER;CN="St. James' Anglican Church":MAILTO:office@stjames.bc.ca
END:VEVENT
BEGIN:VEVENT
DTSTART;TZID=America/Vancouver:20270807T160000
DTEND;TZID=America/Vancouver:20270807T163000
DTSTAMP:20260425T084728
CREATED:20241024T220235Z
LAST-MODIFIED:20260209T180038Z
UID:10007400-1817654400-1817656200@stjames.bc.ca
SUMMARY:Vigil Mass (Book of Common Prayer)
DESCRIPTION:Join us in the Blessed Sacrament Chapel (enter through the side gate on Cordova St.) \nEvery Saturday at 4:00pm \nAll are welcome!
URL:https://stjames.bc.ca/event/vigil-mass-4-2/2027-08-07
LOCATION:St James Anglican Church Vancouver\, 303 East Cordova Street\, Vancouver\, BC\, V6A 1L4\, Canada
CATEGORIES:All Welcome,St. James' Parish Vancouver
ATTACH;FMTTYPE=image/png:https://stjames.bc.ca/wp-content/uploads/2022/09/BSC-e1736894248979.png
ORGANIZER;CN="St. James' Anglican Church":MAILTO:office@stjames.bc.ca
END:VEVENT
BEGIN:VEVENT
DTSTART;TZID=America/Vancouver:20270809T120000
DTEND;TZID=America/Vancouver:20270809T123000
DTSTAMP:20260425T084728
CREATED:20260212T190303Z
LAST-MODIFIED:20260227T222918Z
UID:10005425-1817812800-1817814600@stjames.bc.ca
SUMMARY:Said Mass
DESCRIPTION:Join us in the Blessed Sacrament Chapel (enter through the side gate on Cordova St.) \nEvery Monday\, Wednesday\, and Friday at 12:10pm except holiday Mondays. Subscribe to The Thurible for updates. \nAll are welcome!
URL:https://stjames.bc.ca/event/said-mass-4-3-3-2/2027-08-09
LOCATION:St James Anglican Church Vancouver\, 303 East Cordova Street\, Vancouver\, BC\, V6A 1L4\, Canada
CATEGORIES:All Welcome,St. James' Parish Vancouver
ATTACH;FMTTYPE=image/png:https://stjames.bc.ca/wp-content/uploads/2022/09/BSC-e1736894248979.png
ORGANIZER;CN="St. James' Anglican Church":MAILTO:office@stjames.bc.ca
END:VEVENT
BEGIN:VEVENT
DTSTART;TZID=America/Vancouver:20270810T093000
DTEND;TZID=America/Vancouver:20270810T100000
DTSTAMP:20260425T084728
CREATED:20241008T221133Z
LAST-MODIFIED:20260227T223032Z
UID:10009540-1817890200-1817892000@stjames.bc.ca
SUMMARY:Said Mass
DESCRIPTION:Join us in the Blessed Sacrament Chapel (enter through the side gate on Cordova St.) \nEvery Tuesday morning at 9:30am except for the day after holiday Mondays. Subscribe to The Thurible for updates. \nAll are welcome!
URL:https://stjames.bc.ca/event/said-mass-3-2-4/2027-08-10
LOCATION:St James Anglican Church Vancouver\, 303 East Cordova Street\, Vancouver\, BC\, V6A 1L4\, Canada
CATEGORIES:All Welcome,St. James' Parish Vancouver
ATTACH;FMTTYPE=image/png:https://stjames.bc.ca/wp-content/uploads/2022/09/BSC-e1736894248979.png
END:VEVENT
BEGIN:VEVENT
DTSTART;TZID=America/Vancouver:20270811T120000
DTEND;TZID=America/Vancouver:20270811T123000
DTSTAMP:20260425T084728
CREATED:20260212T190303Z
LAST-MODIFIED:20260227T222918Z
UID:10005426-1817985600-1817987400@stjames.bc.ca
SUMMARY:Said Mass
DESCRIPTION:Join us in the Blessed Sacrament Chapel (enter through the side gate on Cordova St.) \nEvery Monday\, Wednesday\, and Friday at 12:10pm except holiday Mondays. Subscribe to The Thurible for updates. \nAll are welcome!
URL:https://stjames.bc.ca/event/said-mass-4-3-3-2/2027-08-11
LOCATION:St James Anglican Church Vancouver\, 303 East Cordova Street\, Vancouver\, BC\, V6A 1L4\, Canada
CATEGORIES:All Welcome,St. James' Parish Vancouver
ATTACH;FMTTYPE=image/png:https://stjames.bc.ca/wp-content/uploads/2022/09/BSC-e1736894248979.png
ORGANIZER;CN="St. James' Anglican Church":MAILTO:office@stjames.bc.ca
END:VEVENT
BEGIN:VEVENT
DTSTART;TZID=America/Vancouver:20270811T130000
DTEND;TZID=America/Vancouver:20270811T140000
DTSTAMP:20260425T084728
CREATED:20251224T170826Z
LAST-MODIFIED:20251224T170826Z
UID:10003451-1817989200-1817992800@stjames.bc.ca
SUMMARY:Lectio & Bible Study
DESCRIPTION:Join us as we read and discuss together a passage from Scripture (usually the coming Sunday Gospel). Bring your questions\, ideas\, doubts or just your presence! All are welcome and encouraged to join. \nWe meet in the parish library and on Zoom – come in person or join online. \nEmail Mtr Amanda for Zoom meeting details\, or to be sent the reading and questions for the week.
URL:https://stjames.bc.ca/event/lectio-bible-study-6-2-2-2/2027-08-11
LOCATION:St James Anglican Church Vancouver\, 303 East Cordova Street\, Vancouver\, BC\, V6A 1L4\, Canada
CATEGORIES:St. James' Parish Vancouver
ATTACH;FMTTYPE=image/png:https://stjames.bc.ca/wp-content/uploads/2022/12/psalms.png
ORGANIZER;CN="St. James' Anglican Church":MAILTO:office@stjames.bc.ca
END:VEVENT
END:VCALENDAR