BEGIN:VCALENDAR
VERSION:2.0
PRODID:-//St James&#039; Anglican Church Vancouver - ECPv6.15.20//NONSGML v1.0//EN
CALSCALE:GREGORIAN
METHOD:PUBLISH
X-WR-CALNAME:St James&#039; Anglican Church Vancouver
X-ORIGINAL-URL:https://stjames.bc.ca
X-WR-CALDESC:Events for St James&#039; Anglican Church Vancouver
REFRESH-INTERVAL;VALUE=DURATION:PT1H
X-Robots-Tag:noindex
X-PUBLISHED-TTL:PT1H
BEGIN:VTIMEZONE
TZID:America/Vancouver
BEGIN:DAYLIGHT
TZOFFSETFROM:-0800
TZOFFSETTO:-0700
TZNAME:PDT
DTSTART:20250309T100000
END:DAYLIGHT
BEGIN:STANDARD
TZOFFSETFROM:-0700
TZOFFSETTO:-0800
TZNAME:PST
DTSTART:20251102T090000
END:STANDARD
BEGIN:DAYLIGHT
TZOFFSETFROM:-0800
TZOFFSETTO:-0700
TZNAME:PDT
DTSTART:20260308T100000
END:DAYLIGHT
BEGIN:STANDARD
TZOFFSETFROM:-0700
TZOFFSETTO:-0800
TZNAME:PST
DTSTART:20261101T090000
END:STANDARD
BEGIN:DAYLIGHT
TZOFFSETFROM:-0800
TZOFFSETTO:-0700
TZNAME:PDT
DTSTART:20270314T100000
END:DAYLIGHT
BEGIN:STANDARD
TZOFFSETFROM:-0700
TZOFFSETTO:-0800
TZNAME:PST
DTSTART:20271107T090000
END:STANDARD
END:VTIMEZONE
BEGIN:VEVENT
DTSTART;TZID=America/Vancouver:20260728T093000
DTEND;TZID=America/Vancouver:20260728T100000
DTSTAMP:20260424T020522
CREATED:20241008T221133Z
LAST-MODIFIED:20260227T223032Z
UID:10009486-1785231000-1785232800@stjames.bc.ca
SUMMARY:Said Mass
DESCRIPTION:Join us in the Blessed Sacrament Chapel (enter through the side gate on Cordova St.) \nEvery Tuesday morning at 9:30am except for the day after holiday Mondays. Subscribe to The Thurible for updates. \nAll are welcome!
URL:https://stjames.bc.ca/event/said-mass-3-2-4/2026-07-28
LOCATION:St James Anglican Church Vancouver\, 303 East Cordova Street\, Vancouver\, BC\, V6A 1L4\, Canada
CATEGORIES:All Welcome,St. James' Parish Vancouver
ATTACH;FMTTYPE=image/png:https://stjames.bc.ca/wp-content/uploads/2022/09/BSC-e1736894248979.png
END:VEVENT
BEGIN:VEVENT
DTSTART;TZID=America/Vancouver:20260729T120000
DTEND;TZID=America/Vancouver:20260729T123000
DTSTAMP:20260424T020522
CREATED:20260212T190303Z
LAST-MODIFIED:20260227T222918Z
UID:10005264-1785326400-1785328200@stjames.bc.ca
SUMMARY:Said Mass
DESCRIPTION:Join us in the Blessed Sacrament Chapel (enter through the side gate on Cordova St.) \nEvery Monday\, Wednesday\, and Friday at 12:10pm except holiday Mondays. Subscribe to The Thurible for updates. \nAll are welcome!
URL:https://stjames.bc.ca/event/said-mass-4-3-3-2/2026-07-29
LOCATION:St James Anglican Church Vancouver\, 303 East Cordova Street\, Vancouver\, BC\, V6A 1L4\, Canada
CATEGORIES:All Welcome,St. James' Parish Vancouver
ATTACH;FMTTYPE=image/png:https://stjames.bc.ca/wp-content/uploads/2022/09/BSC-e1736894248979.png
ORGANIZER;CN="St. James' Anglican Church":MAILTO:office@stjames.bc.ca
END:VEVENT
BEGIN:VEVENT
DTSTART;TZID=America/Vancouver:20260729T130000
DTEND;TZID=America/Vancouver:20260729T140000
DTSTAMP:20260424T020522
CREATED:20251224T170826Z
LAST-MODIFIED:20251224T170826Z
UID:10003397-1785330000-1785333600@stjames.bc.ca
SUMMARY:Lectio & Bible Study
DESCRIPTION:Join us as we read and discuss together a passage from Scripture (usually the coming Sunday Gospel). Bring your questions\, ideas\, doubts or just your presence! All are welcome and encouraged to join. \nWe meet in the parish library and on Zoom – come in person or join online. \nEmail Mtr Amanda for Zoom meeting details\, or to be sent the reading and questions for the week.
URL:https://stjames.bc.ca/event/lectio-bible-study-6-2-2-2/2026-07-29
LOCATION:St James Anglican Church Vancouver\, 303 East Cordova Street\, Vancouver\, BC\, V6A 1L4\, Canada
CATEGORIES:St. James' Parish Vancouver
ATTACH;FMTTYPE=image/png:https://stjames.bc.ca/wp-content/uploads/2022/12/psalms.png
ORGANIZER;CN="St. James' Anglican Church":MAILTO:office@stjames.bc.ca
END:VEVENT
BEGIN:VEVENT
DTSTART;TZID=America/Vancouver:20260730T093000
DTEND;TZID=America/Vancouver:20260730T100000
DTSTAMP:20260424T020522
CREATED:20240531T222315Z
LAST-MODIFIED:20260227T223131Z
UID:10009238-1785403800-1785405600@stjames.bc.ca
SUMMARY:Said Mass with Anointing
DESCRIPTION:Join us in the Blessed Sacrament Chapel (enter through the side gate on Cordova St.) every Thursday morning at 9:30 am. \nMass will include the sacrament of holy anointing for healing. All are welcome! \nSubscribe to The Thurible for updates.
URL:https://stjames.bc.ca/event/said-mass-with-anointing-2-2/2026-07-30
LOCATION:St James Anglican Church Vancouver\, 303 East Cordova Street\, Vancouver\, BC\, V6A 1L4\, Canada
CATEGORIES:All Welcome,St. James' Parish Vancouver
ATTACH;FMTTYPE=image/png:https://stjames.bc.ca/wp-content/uploads/2022/09/BSC-e1736894248979.png
ORGANIZER;CN="St. James' Anglican Church":MAILTO:office@stjames.bc.ca
END:VEVENT
BEGIN:VEVENT
DTSTART;TZID=America/Vancouver:20260731T120000
DTEND;TZID=America/Vancouver:20260731T123000
DTSTAMP:20260424T020522
CREATED:20260212T190303Z
LAST-MODIFIED:20260227T222918Z
UID:10005265-1785499200-1785501000@stjames.bc.ca
SUMMARY:Said Mass
DESCRIPTION:Join us in the Blessed Sacrament Chapel (enter through the side gate on Cordova St.) \nEvery Monday\, Wednesday\, and Friday at 12:10pm except holiday Mondays. Subscribe to The Thurible for updates. \nAll are welcome!
URL:https://stjames.bc.ca/event/said-mass-4-3-3-2/2026-07-31
LOCATION:St James Anglican Church Vancouver\, 303 East Cordova Street\, Vancouver\, BC\, V6A 1L4\, Canada
CATEGORIES:All Welcome,St. James' Parish Vancouver
ATTACH;FMTTYPE=image/png:https://stjames.bc.ca/wp-content/uploads/2022/09/BSC-e1736894248979.png
ORGANIZER;CN="St. James' Anglican Church":MAILTO:office@stjames.bc.ca
END:VEVENT
BEGIN:VEVENT
DTSTART;TZID=America/Vancouver:20260801T160000
DTEND;TZID=America/Vancouver:20260801T163000
DTSTAMP:20260424T020522
CREATED:20241024T220235Z
LAST-MODIFIED:20260209T180038Z
UID:10007347-1785600000-1785601800@stjames.bc.ca
SUMMARY:Vigil Mass (Book of Common Prayer)
DESCRIPTION:Join us in the Blessed Sacrament Chapel (enter through the side gate on Cordova St.) \nEvery Saturday at 4:00pm \nAll are welcome!
URL:https://stjames.bc.ca/event/vigil-mass-4-2/2026-08-01
LOCATION:St James Anglican Church Vancouver\, 303 East Cordova Street\, Vancouver\, BC\, V6A 1L4\, Canada
CATEGORIES:All Welcome,St. James' Parish Vancouver
ATTACH;FMTTYPE=image/png:https://stjames.bc.ca/wp-content/uploads/2022/09/BSC-e1736894248979.png
ORGANIZER;CN="St. James' Anglican Church":MAILTO:office@stjames.bc.ca
END:VEVENT
BEGIN:VEVENT
DTSTART;TZID=America/Vancouver:20260803T120000
DTEND;TZID=America/Vancouver:20260803T123000
DTSTAMP:20260424T020522
CREATED:20260212T190303Z
LAST-MODIFIED:20260227T222918Z
UID:10005266-1785758400-1785760200@stjames.bc.ca
SUMMARY:Said Mass
DESCRIPTION:Join us in the Blessed Sacrament Chapel (enter through the side gate on Cordova St.) \nEvery Monday\, Wednesday\, and Friday at 12:10pm except holiday Mondays. Subscribe to The Thurible for updates. \nAll are welcome!
URL:https://stjames.bc.ca/event/said-mass-4-3-3-2/2026-08-03
LOCATION:St James Anglican Church Vancouver\, 303 East Cordova Street\, Vancouver\, BC\, V6A 1L4\, Canada
CATEGORIES:All Welcome,St. James' Parish Vancouver
ATTACH;FMTTYPE=image/png:https://stjames.bc.ca/wp-content/uploads/2022/09/BSC-e1736894248979.png
ORGANIZER;CN="St. James' Anglican Church":MAILTO:office@stjames.bc.ca
END:VEVENT
BEGIN:VEVENT
DTSTART;TZID=America/Vancouver:20260804T093000
DTEND;TZID=America/Vancouver:20260804T100000
DTSTAMP:20260424T020522
CREATED:20241008T221133Z
LAST-MODIFIED:20260227T223032Z
UID:10009487-1785835800-1785837600@stjames.bc.ca
SUMMARY:Said Mass
DESCRIPTION:Join us in the Blessed Sacrament Chapel (enter through the side gate on Cordova St.) \nEvery Tuesday morning at 9:30am except for the day after holiday Mondays. Subscribe to The Thurible for updates. \nAll are welcome!
URL:https://stjames.bc.ca/event/said-mass-3-2-4/2026-08-04
LOCATION:St James Anglican Church Vancouver\, 303 East Cordova Street\, Vancouver\, BC\, V6A 1L4\, Canada
CATEGORIES:All Welcome,St. James' Parish Vancouver
ATTACH;FMTTYPE=image/png:https://stjames.bc.ca/wp-content/uploads/2022/09/BSC-e1736894248979.png
END:VEVENT
BEGIN:VEVENT
DTSTART;TZID=America/Vancouver:20260805T120000
DTEND;TZID=America/Vancouver:20260805T123000
DTSTAMP:20260424T020522
CREATED:20260212T190303Z
LAST-MODIFIED:20260227T222918Z
UID:10005267-1785931200-1785933000@stjames.bc.ca
SUMMARY:Said Mass
DESCRIPTION:Join us in the Blessed Sacrament Chapel (enter through the side gate on Cordova St.) \nEvery Monday\, Wednesday\, and Friday at 12:10pm except holiday Mondays. Subscribe to The Thurible for updates. \nAll are welcome!
URL:https://stjames.bc.ca/event/said-mass-4-3-3-2/2026-08-05
LOCATION:St James Anglican Church Vancouver\, 303 East Cordova Street\, Vancouver\, BC\, V6A 1L4\, Canada
CATEGORIES:All Welcome,St. James' Parish Vancouver
ATTACH;FMTTYPE=image/png:https://stjames.bc.ca/wp-content/uploads/2022/09/BSC-e1736894248979.png
ORGANIZER;CN="St. James' Anglican Church":MAILTO:office@stjames.bc.ca
END:VEVENT
BEGIN:VEVENT
DTSTART;TZID=America/Vancouver:20260805T130000
DTEND;TZID=America/Vancouver:20260805T140000
DTSTAMP:20260424T020522
CREATED:20251224T170826Z
LAST-MODIFIED:20251224T170826Z
UID:10003398-1785934800-1785938400@stjames.bc.ca
SUMMARY:Lectio & Bible Study
DESCRIPTION:Join us as we read and discuss together a passage from Scripture (usually the coming Sunday Gospel). Bring your questions\, ideas\, doubts or just your presence! All are welcome and encouraged to join. \nWe meet in the parish library and on Zoom – come in person or join online. \nEmail Mtr Amanda for Zoom meeting details\, or to be sent the reading and questions for the week.
URL:https://stjames.bc.ca/event/lectio-bible-study-6-2-2-2/2026-08-05
LOCATION:St James Anglican Church Vancouver\, 303 East Cordova Street\, Vancouver\, BC\, V6A 1L4\, Canada
CATEGORIES:St. James' Parish Vancouver
ATTACH;FMTTYPE=image/png:https://stjames.bc.ca/wp-content/uploads/2022/12/psalms.png
ORGANIZER;CN="St. James' Anglican Church":MAILTO:office@stjames.bc.ca
END:VEVENT
BEGIN:VEVENT
DTSTART;TZID=America/Vancouver:20260806T093000
DTEND;TZID=America/Vancouver:20260806T100000
DTSTAMP:20260424T020522
CREATED:20240531T222315Z
LAST-MODIFIED:20260227T223131Z
UID:10009239-1786008600-1786010400@stjames.bc.ca
SUMMARY:Said Mass with Anointing
DESCRIPTION:Join us in the Blessed Sacrament Chapel (enter through the side gate on Cordova St.) every Thursday morning at 9:30 am. \nMass will include the sacrament of holy anointing for healing. All are welcome! \nSubscribe to The Thurible for updates.
URL:https://stjames.bc.ca/event/said-mass-with-anointing-2-2/2026-08-06
LOCATION:St James Anglican Church Vancouver\, 303 East Cordova Street\, Vancouver\, BC\, V6A 1L4\, Canada
CATEGORIES:All Welcome,St. James' Parish Vancouver
ATTACH;FMTTYPE=image/png:https://stjames.bc.ca/wp-content/uploads/2022/09/BSC-e1736894248979.png
ORGANIZER;CN="St. James' Anglican Church":MAILTO:office@stjames.bc.ca
END:VEVENT
BEGIN:VEVENT
DTSTART;TZID=America/Vancouver:20260807T120000
DTEND;TZID=America/Vancouver:20260807T123000
DTSTAMP:20260424T020522
CREATED:20260212T190303Z
LAST-MODIFIED:20260227T222918Z
UID:10005268-1786104000-1786105800@stjames.bc.ca
SUMMARY:Said Mass
DESCRIPTION:Join us in the Blessed Sacrament Chapel (enter through the side gate on Cordova St.) \nEvery Monday\, Wednesday\, and Friday at 12:10pm except holiday Mondays. Subscribe to The Thurible for updates. \nAll are welcome!
URL:https://stjames.bc.ca/event/said-mass-4-3-3-2/2026-08-07
LOCATION:St James Anglican Church Vancouver\, 303 East Cordova Street\, Vancouver\, BC\, V6A 1L4\, Canada
CATEGORIES:All Welcome,St. James' Parish Vancouver
ATTACH;FMTTYPE=image/png:https://stjames.bc.ca/wp-content/uploads/2022/09/BSC-e1736894248979.png
ORGANIZER;CN="St. James' Anglican Church":MAILTO:office@stjames.bc.ca
END:VEVENT
BEGIN:VEVENT
DTSTART;TZID=America/Vancouver:20260808T160000
DTEND;TZID=America/Vancouver:20260808T163000
DTSTAMP:20260424T020522
CREATED:20241024T220235Z
LAST-MODIFIED:20260209T180038Z
UID:10007348-1786204800-1786206600@stjames.bc.ca
SUMMARY:Vigil Mass (Book of Common Prayer)
DESCRIPTION:Join us in the Blessed Sacrament Chapel (enter through the side gate on Cordova St.) \nEvery Saturday at 4:00pm \nAll are welcome!
URL:https://stjames.bc.ca/event/vigil-mass-4-2/2026-08-08
LOCATION:St James Anglican Church Vancouver\, 303 East Cordova Street\, Vancouver\, BC\, V6A 1L4\, Canada
CATEGORIES:All Welcome,St. James' Parish Vancouver
ATTACH;FMTTYPE=image/png:https://stjames.bc.ca/wp-content/uploads/2022/09/BSC-e1736894248979.png
ORGANIZER;CN="St. James' Anglican Church":MAILTO:office@stjames.bc.ca
END:VEVENT
BEGIN:VEVENT
DTSTART;TZID=America/Vancouver:20260810T120000
DTEND;TZID=America/Vancouver:20260810T123000
DTSTAMP:20260424T020522
CREATED:20260212T190303Z
LAST-MODIFIED:20260227T222918Z
UID:10005269-1786363200-1786365000@stjames.bc.ca
SUMMARY:Said Mass
DESCRIPTION:Join us in the Blessed Sacrament Chapel (enter through the side gate on Cordova St.) \nEvery Monday\, Wednesday\, and Friday at 12:10pm except holiday Mondays. Subscribe to The Thurible for updates. \nAll are welcome!
URL:https://stjames.bc.ca/event/said-mass-4-3-3-2/2026-08-10
LOCATION:St James Anglican Church Vancouver\, 303 East Cordova Street\, Vancouver\, BC\, V6A 1L4\, Canada
CATEGORIES:All Welcome,St. James' Parish Vancouver
ATTACH;FMTTYPE=image/png:https://stjames.bc.ca/wp-content/uploads/2022/09/BSC-e1736894248979.png
ORGANIZER;CN="St. James' Anglican Church":MAILTO:office@stjames.bc.ca
END:VEVENT
BEGIN:VEVENT
DTSTART;TZID=America/Vancouver:20260811T093000
DTEND;TZID=America/Vancouver:20260811T100000
DTSTAMP:20260424T020522
CREATED:20241008T221133Z
LAST-MODIFIED:20260227T223032Z
UID:10009488-1786440600-1786442400@stjames.bc.ca
SUMMARY:Said Mass
DESCRIPTION:Join us in the Blessed Sacrament Chapel (enter through the side gate on Cordova St.) \nEvery Tuesday morning at 9:30am except for the day after holiday Mondays. Subscribe to The Thurible for updates. \nAll are welcome!
URL:https://stjames.bc.ca/event/said-mass-3-2-4/2026-08-11
LOCATION:St James Anglican Church Vancouver\, 303 East Cordova Street\, Vancouver\, BC\, V6A 1L4\, Canada
CATEGORIES:All Welcome,St. James' Parish Vancouver
ATTACH;FMTTYPE=image/png:https://stjames.bc.ca/wp-content/uploads/2022/09/BSC-e1736894248979.png
END:VEVENT
BEGIN:VEVENT
DTSTART;TZID=America/Vancouver:20260812T120000
DTEND;TZID=America/Vancouver:20260812T123000
DTSTAMP:20260424T020522
CREATED:20260212T190303Z
LAST-MODIFIED:20260227T222918Z
UID:10005270-1786536000-1786537800@stjames.bc.ca
SUMMARY:Said Mass
DESCRIPTION:Join us in the Blessed Sacrament Chapel (enter through the side gate on Cordova St.) \nEvery Monday\, Wednesday\, and Friday at 12:10pm except holiday Mondays. Subscribe to The Thurible for updates. \nAll are welcome!
URL:https://stjames.bc.ca/event/said-mass-4-3-3-2/2026-08-12
LOCATION:St James Anglican Church Vancouver\, 303 East Cordova Street\, Vancouver\, BC\, V6A 1L4\, Canada
CATEGORIES:All Welcome,St. James' Parish Vancouver
ATTACH;FMTTYPE=image/png:https://stjames.bc.ca/wp-content/uploads/2022/09/BSC-e1736894248979.png
ORGANIZER;CN="St. James' Anglican Church":MAILTO:office@stjames.bc.ca
END:VEVENT
BEGIN:VEVENT
DTSTART;TZID=America/Vancouver:20260812T130000
DTEND;TZID=America/Vancouver:20260812T140000
DTSTAMP:20260424T020522
CREATED:20251224T170826Z
LAST-MODIFIED:20251224T170826Z
UID:10003399-1786539600-1786543200@stjames.bc.ca
SUMMARY:Lectio & Bible Study
DESCRIPTION:Join us as we read and discuss together a passage from Scripture (usually the coming Sunday Gospel). Bring your questions\, ideas\, doubts or just your presence! All are welcome and encouraged to join. \nWe meet in the parish library and on Zoom – come in person or join online. \nEmail Mtr Amanda for Zoom meeting details\, or to be sent the reading and questions for the week.
URL:https://stjames.bc.ca/event/lectio-bible-study-6-2-2-2/2026-08-12
LOCATION:St James Anglican Church Vancouver\, 303 East Cordova Street\, Vancouver\, BC\, V6A 1L4\, Canada
CATEGORIES:St. James' Parish Vancouver
ATTACH;FMTTYPE=image/png:https://stjames.bc.ca/wp-content/uploads/2022/12/psalms.png
ORGANIZER;CN="St. James' Anglican Church":MAILTO:office@stjames.bc.ca
END:VEVENT
BEGIN:VEVENT
DTSTART;TZID=America/Vancouver:20260813T093000
DTEND;TZID=America/Vancouver:20260813T100000
DTSTAMP:20260424T020523
CREATED:20240531T222315Z
LAST-MODIFIED:20260227T223131Z
UID:10009240-1786613400-1786615200@stjames.bc.ca
SUMMARY:Said Mass with Anointing
DESCRIPTION:Join us in the Blessed Sacrament Chapel (enter through the side gate on Cordova St.) every Thursday morning at 9:30 am. \nMass will include the sacrament of holy anointing for healing. All are welcome! \nSubscribe to The Thurible for updates.
URL:https://stjames.bc.ca/event/said-mass-with-anointing-2-2/2026-08-13
LOCATION:St James Anglican Church Vancouver\, 303 East Cordova Street\, Vancouver\, BC\, V6A 1L4\, Canada
CATEGORIES:All Welcome,St. James' Parish Vancouver
ATTACH;FMTTYPE=image/png:https://stjames.bc.ca/wp-content/uploads/2022/09/BSC-e1736894248979.png
ORGANIZER;CN="St. James' Anglican Church":MAILTO:office@stjames.bc.ca
END:VEVENT
BEGIN:VEVENT
DTSTART;TZID=America/Vancouver:20260814T120000
DTEND;TZID=America/Vancouver:20260814T123000
DTSTAMP:20260424T020523
CREATED:20260212T190303Z
LAST-MODIFIED:20260227T222918Z
UID:10005271-1786708800-1786710600@stjames.bc.ca
SUMMARY:Said Mass
DESCRIPTION:Join us in the Blessed Sacrament Chapel (enter through the side gate on Cordova St.) \nEvery Monday\, Wednesday\, and Friday at 12:10pm except holiday Mondays. Subscribe to The Thurible for updates. \nAll are welcome!
URL:https://stjames.bc.ca/event/said-mass-4-3-3-2/2026-08-14
LOCATION:St James Anglican Church Vancouver\, 303 East Cordova Street\, Vancouver\, BC\, V6A 1L4\, Canada
CATEGORIES:All Welcome,St. James' Parish Vancouver
ATTACH;FMTTYPE=image/png:https://stjames.bc.ca/wp-content/uploads/2022/09/BSC-e1736894248979.png
ORGANIZER;CN="St. James' Anglican Church":MAILTO:office@stjames.bc.ca
END:VEVENT
BEGIN:VEVENT
DTSTART;TZID=America/Vancouver:20260815T160000
DTEND;TZID=America/Vancouver:20260815T163000
DTSTAMP:20260424T020523
CREATED:20241024T220235Z
LAST-MODIFIED:20260209T180038Z
UID:10007349-1786809600-1786811400@stjames.bc.ca
SUMMARY:Vigil Mass (Book of Common Prayer)
DESCRIPTION:Join us in the Blessed Sacrament Chapel (enter through the side gate on Cordova St.) \nEvery Saturday at 4:00pm \nAll are welcome!
URL:https://stjames.bc.ca/event/vigil-mass-4-2/2026-08-15
LOCATION:St James Anglican Church Vancouver\, 303 East Cordova Street\, Vancouver\, BC\, V6A 1L4\, Canada
CATEGORIES:All Welcome,St. James' Parish Vancouver
ATTACH;FMTTYPE=image/png:https://stjames.bc.ca/wp-content/uploads/2022/09/BSC-e1736894248979.png
ORGANIZER;CN="St. James' Anglican Church":MAILTO:office@stjames.bc.ca
END:VEVENT
BEGIN:VEVENT
DTSTART;TZID=America/Vancouver:20260817T120000
DTEND;TZID=America/Vancouver:20260817T123000
DTSTAMP:20260424T020523
CREATED:20260212T190303Z
LAST-MODIFIED:20260227T222918Z
UID:10005272-1786968000-1786969800@stjames.bc.ca
SUMMARY:Said Mass
DESCRIPTION:Join us in the Blessed Sacrament Chapel (enter through the side gate on Cordova St.) \nEvery Monday\, Wednesday\, and Friday at 12:10pm except holiday Mondays. Subscribe to The Thurible for updates. \nAll are welcome!
URL:https://stjames.bc.ca/event/said-mass-4-3-3-2/2026-08-17
LOCATION:St James Anglican Church Vancouver\, 303 East Cordova Street\, Vancouver\, BC\, V6A 1L4\, Canada
CATEGORIES:All Welcome,St. James' Parish Vancouver
ATTACH;FMTTYPE=image/png:https://stjames.bc.ca/wp-content/uploads/2022/09/BSC-e1736894248979.png
ORGANIZER;CN="St. James' Anglican Church":MAILTO:office@stjames.bc.ca
END:VEVENT
BEGIN:VEVENT
DTSTART;TZID=America/Vancouver:20260818T093000
DTEND;TZID=America/Vancouver:20260818T100000
DTSTAMP:20260424T020523
CREATED:20241008T221133Z
LAST-MODIFIED:20260227T223032Z
UID:10009489-1787045400-1787047200@stjames.bc.ca
SUMMARY:Said Mass
DESCRIPTION:Join us in the Blessed Sacrament Chapel (enter through the side gate on Cordova St.) \nEvery Tuesday morning at 9:30am except for the day after holiday Mondays. Subscribe to The Thurible for updates. \nAll are welcome!
URL:https://stjames.bc.ca/event/said-mass-3-2-4/2026-08-18
LOCATION:St James Anglican Church Vancouver\, 303 East Cordova Street\, Vancouver\, BC\, V6A 1L4\, Canada
CATEGORIES:All Welcome,St. James' Parish Vancouver
ATTACH;FMTTYPE=image/png:https://stjames.bc.ca/wp-content/uploads/2022/09/BSC-e1736894248979.png
END:VEVENT
BEGIN:VEVENT
DTSTART;TZID=America/Vancouver:20260819T120000
DTEND;TZID=America/Vancouver:20260819T123000
DTSTAMP:20260424T020523
CREATED:20260212T190303Z
LAST-MODIFIED:20260227T222918Z
UID:10005273-1787140800-1787142600@stjames.bc.ca
SUMMARY:Said Mass
DESCRIPTION:Join us in the Blessed Sacrament Chapel (enter through the side gate on Cordova St.) \nEvery Monday\, Wednesday\, and Friday at 12:10pm except holiday Mondays. Subscribe to The Thurible for updates. \nAll are welcome!
URL:https://stjames.bc.ca/event/said-mass-4-3-3-2/2026-08-19
LOCATION:St James Anglican Church Vancouver\, 303 East Cordova Street\, Vancouver\, BC\, V6A 1L4\, Canada
CATEGORIES:All Welcome,St. James' Parish Vancouver
ATTACH;FMTTYPE=image/png:https://stjames.bc.ca/wp-content/uploads/2022/09/BSC-e1736894248979.png
ORGANIZER;CN="St. James' Anglican Church":MAILTO:office@stjames.bc.ca
END:VEVENT
BEGIN:VEVENT
DTSTART;TZID=America/Vancouver:20260819T130000
DTEND;TZID=America/Vancouver:20260819T140000
DTSTAMP:20260424T020523
CREATED:20251224T170826Z
LAST-MODIFIED:20251224T170826Z
UID:10003400-1787144400-1787148000@stjames.bc.ca
SUMMARY:Lectio & Bible Study
DESCRIPTION:Join us as we read and discuss together a passage from Scripture (usually the coming Sunday Gospel). Bring your questions\, ideas\, doubts or just your presence! All are welcome and encouraged to join. \nWe meet in the parish library and on Zoom – come in person or join online. \nEmail Mtr Amanda for Zoom meeting details\, or to be sent the reading and questions for the week.
URL:https://stjames.bc.ca/event/lectio-bible-study-6-2-2-2/2026-08-19
LOCATION:St James Anglican Church Vancouver\, 303 East Cordova Street\, Vancouver\, BC\, V6A 1L4\, Canada
CATEGORIES:St. James' Parish Vancouver
ATTACH;FMTTYPE=image/png:https://stjames.bc.ca/wp-content/uploads/2022/12/psalms.png
ORGANIZER;CN="St. James' Anglican Church":MAILTO:office@stjames.bc.ca
END:VEVENT
BEGIN:VEVENT
DTSTART;TZID=America/Vancouver:20260820T093000
DTEND;TZID=America/Vancouver:20260820T100000
DTSTAMP:20260424T020523
CREATED:20240531T222315Z
LAST-MODIFIED:20260227T223131Z
UID:10009241-1787218200-1787220000@stjames.bc.ca
SUMMARY:Said Mass with Anointing
DESCRIPTION:Join us in the Blessed Sacrament Chapel (enter through the side gate on Cordova St.) every Thursday morning at 9:30 am. \nMass will include the sacrament of holy anointing for healing. All are welcome! \nSubscribe to The Thurible for updates.
URL:https://stjames.bc.ca/event/said-mass-with-anointing-2-2/2026-08-20
LOCATION:St James Anglican Church Vancouver\, 303 East Cordova Street\, Vancouver\, BC\, V6A 1L4\, Canada
CATEGORIES:All Welcome,St. James' Parish Vancouver
ATTACH;FMTTYPE=image/png:https://stjames.bc.ca/wp-content/uploads/2022/09/BSC-e1736894248979.png
ORGANIZER;CN="St. James' Anglican Church":MAILTO:office@stjames.bc.ca
END:VEVENT
BEGIN:VEVENT
DTSTART;TZID=America/Vancouver:20260820T183000
DTEND;TZID=America/Vancouver:20260820T210000
DTSTAMP:20260424T020523
CREATED:20251113T231236Z
LAST-MODIFIED:20251113T231236Z
UID:10008943-1787250600-1787259600@stjames.bc.ca
SUMMARY:Board Games Night
DESCRIPTION:Board Game Night in the Parish Centre from 6:30 to 9:00 pm. \nBring your favourite game and a friend!
URL:https://stjames.bc.ca/event/board-games-night-3/2026-08-20
LOCATION:St James Anglican Church Vancouver\, 303 East Cordova Street\, Vancouver\, BC\, V6A 1L4\, Canada
CATEGORIES:All Welcome,St. James' Parish Vancouver
ATTACH;FMTTYPE=image/jpeg:https://stjames.bc.ca/wp-content/uploads/2024/01/pexels-pavel-danilyuk-8111307-2.jpg
ORGANIZER;CN="St. James' Anglican Church":MAILTO:office@stjames.bc.ca
END:VEVENT
BEGIN:VEVENT
DTSTART;TZID=America/Vancouver:20260821T120000
DTEND;TZID=America/Vancouver:20260821T123000
DTSTAMP:20260424T020523
CREATED:20260212T190303Z
LAST-MODIFIED:20260227T222918Z
UID:10005274-1787313600-1787315400@stjames.bc.ca
SUMMARY:Said Mass
DESCRIPTION:Join us in the Blessed Sacrament Chapel (enter through the side gate on Cordova St.) \nEvery Monday\, Wednesday\, and Friday at 12:10pm except holiday Mondays. Subscribe to The Thurible for updates. \nAll are welcome!
URL:https://stjames.bc.ca/event/said-mass-4-3-3-2/2026-08-21
LOCATION:St James Anglican Church Vancouver\, 303 East Cordova Street\, Vancouver\, BC\, V6A 1L4\, Canada
CATEGORIES:All Welcome,St. James' Parish Vancouver
ATTACH;FMTTYPE=image/png:https://stjames.bc.ca/wp-content/uploads/2022/09/BSC-e1736894248979.png
ORGANIZER;CN="St. James' Anglican Church":MAILTO:office@stjames.bc.ca
END:VEVENT
BEGIN:VEVENT
DTSTART;TZID=America/Vancouver:20260822T160000
DTEND;TZID=America/Vancouver:20260822T163000
DTSTAMP:20260424T020523
CREATED:20241024T220235Z
LAST-MODIFIED:20260209T180038Z
UID:10007350-1787414400-1787416200@stjames.bc.ca
SUMMARY:Vigil Mass (Book of Common Prayer)
DESCRIPTION:Join us in the Blessed Sacrament Chapel (enter through the side gate on Cordova St.) \nEvery Saturday at 4:00pm \nAll are welcome!
URL:https://stjames.bc.ca/event/vigil-mass-4-2/2026-08-22
LOCATION:St James Anglican Church Vancouver\, 303 East Cordova Street\, Vancouver\, BC\, V6A 1L4\, Canada
CATEGORIES:All Welcome,St. James' Parish Vancouver
ATTACH;FMTTYPE=image/png:https://stjames.bc.ca/wp-content/uploads/2022/09/BSC-e1736894248979.png
ORGANIZER;CN="St. James' Anglican Church":MAILTO:office@stjames.bc.ca
END:VEVENT
BEGIN:VEVENT
DTSTART;TZID=America/Vancouver:20260824T120000
DTEND;TZID=America/Vancouver:20260824T123000
DTSTAMP:20260424T020523
CREATED:20260212T190303Z
LAST-MODIFIED:20260227T222918Z
UID:10005275-1787572800-1787574600@stjames.bc.ca
SUMMARY:Said Mass
DESCRIPTION:Join us in the Blessed Sacrament Chapel (enter through the side gate on Cordova St.) \nEvery Monday\, Wednesday\, and Friday at 12:10pm except holiday Mondays. Subscribe to The Thurible for updates. \nAll are welcome!
URL:https://stjames.bc.ca/event/said-mass-4-3-3-2/2026-08-24
LOCATION:St James Anglican Church Vancouver\, 303 East Cordova Street\, Vancouver\, BC\, V6A 1L4\, Canada
CATEGORIES:All Welcome,St. James' Parish Vancouver
ATTACH;FMTTYPE=image/png:https://stjames.bc.ca/wp-content/uploads/2022/09/BSC-e1736894248979.png
ORGANIZER;CN="St. James' Anglican Church":MAILTO:office@stjames.bc.ca
END:VEVENT
BEGIN:VEVENT
DTSTART;TZID=America/Vancouver:20260825T093000
DTEND;TZID=America/Vancouver:20260825T100000
DTSTAMP:20260424T020523
CREATED:20241008T221133Z
LAST-MODIFIED:20260227T223032Z
UID:10009490-1787650200-1787652000@stjames.bc.ca
SUMMARY:Said Mass
DESCRIPTION:Join us in the Blessed Sacrament Chapel (enter through the side gate on Cordova St.) \nEvery Tuesday morning at 9:30am except for the day after holiday Mondays. Subscribe to The Thurible for updates. \nAll are welcome!
URL:https://stjames.bc.ca/event/said-mass-3-2-4/2026-08-25
LOCATION:St James Anglican Church Vancouver\, 303 East Cordova Street\, Vancouver\, BC\, V6A 1L4\, Canada
CATEGORIES:All Welcome,St. James' Parish Vancouver
ATTACH;FMTTYPE=image/png:https://stjames.bc.ca/wp-content/uploads/2022/09/BSC-e1736894248979.png
END:VEVENT
END:VCALENDAR