BEGIN:VCALENDAR
VERSION:2.0
PRODID:-//St James&#039; Anglican Church Vancouver - ECPv6.15.20//NONSGML v1.0//EN
CALSCALE:GREGORIAN
METHOD:PUBLISH
X-ORIGINAL-URL:https://stjames.bc.ca
X-WR-CALDESC:Events for St James&#039; Anglican Church Vancouver
REFRESH-INTERVAL;VALUE=DURATION:PT1H
X-Robots-Tag:noindex
X-PUBLISHED-TTL:PT1H
BEGIN:VTIMEZONE
TZID:America/Vancouver
BEGIN:DAYLIGHT
TZOFFSETFROM:-0800
TZOFFSETTO:-0700
TZNAME:PDT
DTSTART:20250309T100000
END:DAYLIGHT
BEGIN:STANDARD
TZOFFSETFROM:-0700
TZOFFSETTO:-0800
TZNAME:PST
DTSTART:20251102T090000
END:STANDARD
BEGIN:DAYLIGHT
TZOFFSETFROM:-0800
TZOFFSETTO:-0700
TZNAME:PDT
DTSTART:20260308T100000
END:DAYLIGHT
BEGIN:STANDARD
TZOFFSETFROM:-0700
TZOFFSETTO:-0800
TZNAME:PST
DTSTART:20261101T090000
END:STANDARD
BEGIN:DAYLIGHT
TZOFFSETFROM:-0800
TZOFFSETTO:-0700
TZNAME:PDT
DTSTART:20270314T100000
END:DAYLIGHT
BEGIN:STANDARD
TZOFFSETFROM:-0700
TZOFFSETTO:-0800
TZNAME:PST
DTSTART:20271107T090000
END:STANDARD
END:VTIMEZONE
BEGIN:VEVENT
DTSTART;TZID=America/Vancouver:20260512T170000
DTEND;TZID=America/Vancouver:20260512T173000
DTSTAMP:20260421T062033
CREATED:20240725T222048Z
LAST-MODIFIED:20241017T160140Z
UID:10006251-1778605200-1778607000@stjames.bc.ca
SUMMARY:Evening Prayer - via Zoom
DESCRIPTION:Join us every evening at 5:00pm via Zoom for Evening Prayer. \nZoom details posted in our weekly newsletter. Please contact the office at office@stjames.bc.ca for details. \nAll are welcome!
URL:https://stjames.bc.ca/event/evening-prayer-via-zoom-2/2026-05-12
LOCATION:Zoom
ATTACH;FMTTYPE=image/jpeg:https://stjames.bc.ca/wp-content/uploads/2022/09/pexels-muffin-creatives-1629998.jpg
END:VEVENT
BEGIN:VEVENT
DTSTART;TZID=America/Vancouver:20260513T090000
DTEND;TZID=America/Vancouver:20260513T093000
DTSTAMP:20260421T062033
CREATED:20240725T222200Z
LAST-MODIFIED:20241017T160049Z
UID:10003963-1778662800-1778664600@stjames.bc.ca
SUMMARY:Morning Prayer - via Zoom
DESCRIPTION:Join us every morning at 9:00am via Zoom for Morning Prayer. \nZoom details posted in our weekly newsletter. Please contact the office at office@stjames.bc.ca for details. \nAll are welcome!
URL:https://stjames.bc.ca/event/morning-prayer-via-zoom-2/2026-05-13
LOCATION:Zoom
CATEGORIES:All Welcome
ATTACH;FMTTYPE=image/jpeg:https://stjames.bc.ca/wp-content/uploads/2022/09/pexels-philip-ackermann-878151.jpg
ORGANIZER;CN="St. James' Anglican Church":MAILTO:office@stjames.bc.ca
END:VEVENT
BEGIN:VEVENT
DTSTART;TZID=America/Vancouver:20260513T170000
DTEND;TZID=America/Vancouver:20260513T173000
DTSTAMP:20260421T062033
CREATED:20240725T222048Z
LAST-MODIFIED:20241017T160140Z
UID:10006252-1778691600-1778693400@stjames.bc.ca
SUMMARY:Evening Prayer - via Zoom
DESCRIPTION:Join us every evening at 5:00pm via Zoom for Evening Prayer. \nZoom details posted in our weekly newsletter. Please contact the office at office@stjames.bc.ca for details. \nAll are welcome!
URL:https://stjames.bc.ca/event/evening-prayer-via-zoom-2/2026-05-13
LOCATION:Zoom
ATTACH;FMTTYPE=image/jpeg:https://stjames.bc.ca/wp-content/uploads/2022/09/pexels-muffin-creatives-1629998.jpg
END:VEVENT
BEGIN:VEVENT
DTSTART;TZID=America/Vancouver:20260514T090000
DTEND;TZID=America/Vancouver:20260514T093000
DTSTAMP:20260421T062033
CREATED:20240725T222200Z
LAST-MODIFIED:20241017T160049Z
UID:10003964-1778749200-1778751000@stjames.bc.ca
SUMMARY:Morning Prayer - via Zoom
DESCRIPTION:Join us every morning at 9:00am via Zoom for Morning Prayer. \nZoom details posted in our weekly newsletter. Please contact the office at office@stjames.bc.ca for details. \nAll are welcome!
URL:https://stjames.bc.ca/event/morning-prayer-via-zoom-2/2026-05-14
LOCATION:Zoom
CATEGORIES:All Welcome
ATTACH;FMTTYPE=image/jpeg:https://stjames.bc.ca/wp-content/uploads/2022/09/pexels-philip-ackermann-878151.jpg
ORGANIZER;CN="St. James' Anglican Church":MAILTO:office@stjames.bc.ca
END:VEVENT
BEGIN:VEVENT
DTSTART;TZID=America/Vancouver:20260514T170000
DTEND;TZID=America/Vancouver:20260514T173000
DTSTAMP:20260421T062033
CREATED:20240725T222048Z
LAST-MODIFIED:20241017T160140Z
UID:10006253-1778778000-1778779800@stjames.bc.ca
SUMMARY:Evening Prayer - via Zoom
DESCRIPTION:Join us every evening at 5:00pm via Zoom for Evening Prayer. \nZoom details posted in our weekly newsletter. Please contact the office at office@stjames.bc.ca for details. \nAll are welcome!
URL:https://stjames.bc.ca/event/evening-prayer-via-zoom-2/2026-05-14
LOCATION:Zoom
ATTACH;FMTTYPE=image/jpeg:https://stjames.bc.ca/wp-content/uploads/2022/09/pexels-muffin-creatives-1629998.jpg
END:VEVENT
BEGIN:VEVENT
DTSTART;TZID=America/Vancouver:20260515T090000
DTEND;TZID=America/Vancouver:20260515T093000
DTSTAMP:20260421T062033
CREATED:20240725T222200Z
LAST-MODIFIED:20241017T160049Z
UID:10003965-1778835600-1778837400@stjames.bc.ca
SUMMARY:Morning Prayer - via Zoom
DESCRIPTION:Join us every morning at 9:00am via Zoom for Morning Prayer. \nZoom details posted in our weekly newsletter. Please contact the office at office@stjames.bc.ca for details. \nAll are welcome!
URL:https://stjames.bc.ca/event/morning-prayer-via-zoom-2/2026-05-15
LOCATION:Zoom
CATEGORIES:All Welcome
ATTACH;FMTTYPE=image/jpeg:https://stjames.bc.ca/wp-content/uploads/2022/09/pexels-philip-ackermann-878151.jpg
ORGANIZER;CN="St. James' Anglican Church":MAILTO:office@stjames.bc.ca
END:VEVENT
BEGIN:VEVENT
DTSTART;TZID=America/Vancouver:20260515T170000
DTEND;TZID=America/Vancouver:20260515T173000
DTSTAMP:20260421T062033
CREATED:20240725T222048Z
LAST-MODIFIED:20241017T160140Z
UID:10006254-1778864400-1778866200@stjames.bc.ca
SUMMARY:Evening Prayer - via Zoom
DESCRIPTION:Join us every evening at 5:00pm via Zoom for Evening Prayer. \nZoom details posted in our weekly newsletter. Please contact the office at office@stjames.bc.ca for details. \nAll are welcome!
URL:https://stjames.bc.ca/event/evening-prayer-via-zoom-2/2026-05-15
LOCATION:Zoom
ATTACH;FMTTYPE=image/jpeg:https://stjames.bc.ca/wp-content/uploads/2022/09/pexels-muffin-creatives-1629998.jpg
END:VEVENT
BEGIN:VEVENT
DTSTART;TZID=America/Vancouver:20260516T090000
DTEND;TZID=America/Vancouver:20260516T093000
DTSTAMP:20260421T062033
CREATED:20240725T222200Z
LAST-MODIFIED:20241017T160049Z
UID:10003966-1778922000-1778923800@stjames.bc.ca
SUMMARY:Morning Prayer - via Zoom
DESCRIPTION:Join us every morning at 9:00am via Zoom for Morning Prayer. \nZoom details posted in our weekly newsletter. Please contact the office at office@stjames.bc.ca for details. \nAll are welcome!
URL:https://stjames.bc.ca/event/morning-prayer-via-zoom-2/2026-05-16
LOCATION:Zoom
CATEGORIES:All Welcome
ATTACH;FMTTYPE=image/jpeg:https://stjames.bc.ca/wp-content/uploads/2022/09/pexels-philip-ackermann-878151.jpg
ORGANIZER;CN="St. James' Anglican Church":MAILTO:office@stjames.bc.ca
END:VEVENT
BEGIN:VEVENT
DTSTART;TZID=America/Vancouver:20260516T170000
DTEND;TZID=America/Vancouver:20260516T173000
DTSTAMP:20260421T062033
CREATED:20240725T222048Z
LAST-MODIFIED:20241017T160140Z
UID:10006255-1778950800-1778952600@stjames.bc.ca
SUMMARY:Evening Prayer - via Zoom
DESCRIPTION:Join us every evening at 5:00pm via Zoom for Evening Prayer. \nZoom details posted in our weekly newsletter. Please contact the office at office@stjames.bc.ca for details. \nAll are welcome!
URL:https://stjames.bc.ca/event/evening-prayer-via-zoom-2/2026-05-16
LOCATION:Zoom
ATTACH;FMTTYPE=image/jpeg:https://stjames.bc.ca/wp-content/uploads/2022/09/pexels-muffin-creatives-1629998.jpg
END:VEVENT
BEGIN:VEVENT
DTSTART;TZID=America/Vancouver:20260517T170000
DTEND;TZID=America/Vancouver:20260517T173000
DTSTAMP:20260421T062033
CREATED:20240725T222048Z
LAST-MODIFIED:20241017T160140Z
UID:10006256-1779037200-1779039000@stjames.bc.ca
SUMMARY:Evening Prayer - via Zoom
DESCRIPTION:Join us every evening at 5:00pm via Zoom for Evening Prayer. \nZoom details posted in our weekly newsletter. Please contact the office at office@stjames.bc.ca for details. \nAll are welcome!
URL:https://stjames.bc.ca/event/evening-prayer-via-zoom-2/2026-05-17
LOCATION:Zoom
ATTACH;FMTTYPE=image/jpeg:https://stjames.bc.ca/wp-content/uploads/2022/09/pexels-muffin-creatives-1629998.jpg
END:VEVENT
BEGIN:VEVENT
DTSTART;TZID=America/Vancouver:20260518T090000
DTEND;TZID=America/Vancouver:20260518T093000
DTSTAMP:20260421T062033
CREATED:20240725T222200Z
LAST-MODIFIED:20241017T160049Z
UID:10003967-1779094800-1779096600@stjames.bc.ca
SUMMARY:Morning Prayer - via Zoom
DESCRIPTION:Join us every morning at 9:00am via Zoom for Morning Prayer. \nZoom details posted in our weekly newsletter. Please contact the office at office@stjames.bc.ca for details. \nAll are welcome!
URL:https://stjames.bc.ca/event/morning-prayer-via-zoom-2/2026-05-18
LOCATION:Zoom
CATEGORIES:All Welcome
ATTACH;FMTTYPE=image/jpeg:https://stjames.bc.ca/wp-content/uploads/2022/09/pexels-philip-ackermann-878151.jpg
ORGANIZER;CN="St. James' Anglican Church":MAILTO:office@stjames.bc.ca
END:VEVENT
BEGIN:VEVENT
DTSTART;TZID=America/Vancouver:20260518T170000
DTEND;TZID=America/Vancouver:20260518T173000
DTSTAMP:20260421T062033
CREATED:20240725T222048Z
LAST-MODIFIED:20241017T160140Z
UID:10006257-1779123600-1779125400@stjames.bc.ca
SUMMARY:Evening Prayer - via Zoom
DESCRIPTION:Join us every evening at 5:00pm via Zoom for Evening Prayer. \nZoom details posted in our weekly newsletter. Please contact the office at office@stjames.bc.ca for details. \nAll are welcome!
URL:https://stjames.bc.ca/event/evening-prayer-via-zoom-2/2026-05-18
LOCATION:Zoom
ATTACH;FMTTYPE=image/jpeg:https://stjames.bc.ca/wp-content/uploads/2022/09/pexels-muffin-creatives-1629998.jpg
END:VEVENT
BEGIN:VEVENT
DTSTART;TZID=America/Vancouver:20260519T090000
DTEND;TZID=America/Vancouver:20260519T093000
DTSTAMP:20260421T062033
CREATED:20240725T222200Z
LAST-MODIFIED:20241017T160049Z
UID:10003968-1779181200-1779183000@stjames.bc.ca
SUMMARY:Morning Prayer - via Zoom
DESCRIPTION:Join us every morning at 9:00am via Zoom for Morning Prayer. \nZoom details posted in our weekly newsletter. Please contact the office at office@stjames.bc.ca for details. \nAll are welcome!
URL:https://stjames.bc.ca/event/morning-prayer-via-zoom-2/2026-05-19
LOCATION:Zoom
CATEGORIES:All Welcome
ATTACH;FMTTYPE=image/jpeg:https://stjames.bc.ca/wp-content/uploads/2022/09/pexels-philip-ackermann-878151.jpg
ORGANIZER;CN="St. James' Anglican Church":MAILTO:office@stjames.bc.ca
END:VEVENT
BEGIN:VEVENT
DTSTART;TZID=America/Vancouver:20260519T170000
DTEND;TZID=America/Vancouver:20260519T173000
DTSTAMP:20260421T062033
CREATED:20240725T222048Z
LAST-MODIFIED:20241017T160140Z
UID:10006258-1779210000-1779211800@stjames.bc.ca
SUMMARY:Evening Prayer - via Zoom
DESCRIPTION:Join us every evening at 5:00pm via Zoom for Evening Prayer. \nZoom details posted in our weekly newsletter. Please contact the office at office@stjames.bc.ca for details. \nAll are welcome!
URL:https://stjames.bc.ca/event/evening-prayer-via-zoom-2/2026-05-19
LOCATION:Zoom
ATTACH;FMTTYPE=image/jpeg:https://stjames.bc.ca/wp-content/uploads/2022/09/pexels-muffin-creatives-1629998.jpg
END:VEVENT
BEGIN:VEVENT
DTSTART;TZID=America/Vancouver:20260520T090000
DTEND;TZID=America/Vancouver:20260520T093000
DTSTAMP:20260421T062033
CREATED:20240725T222200Z
LAST-MODIFIED:20241017T160049Z
UID:10003969-1779267600-1779269400@stjames.bc.ca
SUMMARY:Morning Prayer - via Zoom
DESCRIPTION:Join us every morning at 9:00am via Zoom for Morning Prayer. \nZoom details posted in our weekly newsletter. Please contact the office at office@stjames.bc.ca for details. \nAll are welcome!
URL:https://stjames.bc.ca/event/morning-prayer-via-zoom-2/2026-05-20
LOCATION:Zoom
CATEGORIES:All Welcome
ATTACH;FMTTYPE=image/jpeg:https://stjames.bc.ca/wp-content/uploads/2022/09/pexels-philip-ackermann-878151.jpg
ORGANIZER;CN="St. James' Anglican Church":MAILTO:office@stjames.bc.ca
END:VEVENT
BEGIN:VEVENT
DTSTART;TZID=America/Vancouver:20260520T170000
DTEND;TZID=America/Vancouver:20260520T173000
DTSTAMP:20260421T062033
CREATED:20240725T222048Z
LAST-MODIFIED:20241017T160140Z
UID:10006259-1779296400-1779298200@stjames.bc.ca
SUMMARY:Evening Prayer - via Zoom
DESCRIPTION:Join us every evening at 5:00pm via Zoom for Evening Prayer. \nZoom details posted in our weekly newsletter. Please contact the office at office@stjames.bc.ca for details. \nAll are welcome!
URL:https://stjames.bc.ca/event/evening-prayer-via-zoom-2/2026-05-20
LOCATION:Zoom
ATTACH;FMTTYPE=image/jpeg:https://stjames.bc.ca/wp-content/uploads/2022/09/pexels-muffin-creatives-1629998.jpg
END:VEVENT
BEGIN:VEVENT
DTSTART;TZID=America/Vancouver:20260521T090000
DTEND;TZID=America/Vancouver:20260521T093000
DTSTAMP:20260421T062033
CREATED:20240725T222200Z
LAST-MODIFIED:20241017T160049Z
UID:10003970-1779354000-1779355800@stjames.bc.ca
SUMMARY:Morning Prayer - via Zoom
DESCRIPTION:Join us every morning at 9:00am via Zoom for Morning Prayer. \nZoom details posted in our weekly newsletter. Please contact the office at office@stjames.bc.ca for details. \nAll are welcome!
URL:https://stjames.bc.ca/event/morning-prayer-via-zoom-2/2026-05-21
LOCATION:Zoom
CATEGORIES:All Welcome
ATTACH;FMTTYPE=image/jpeg:https://stjames.bc.ca/wp-content/uploads/2022/09/pexels-philip-ackermann-878151.jpg
ORGANIZER;CN="St. James' Anglican Church":MAILTO:office@stjames.bc.ca
END:VEVENT
BEGIN:VEVENT
DTSTART;TZID=America/Vancouver:20260521T170000
DTEND;TZID=America/Vancouver:20260521T173000
DTSTAMP:20260421T062033
CREATED:20240725T222048Z
LAST-MODIFIED:20241017T160140Z
UID:10006260-1779382800-1779384600@stjames.bc.ca
SUMMARY:Evening Prayer - via Zoom
DESCRIPTION:Join us every evening at 5:00pm via Zoom for Evening Prayer. \nZoom details posted in our weekly newsletter. Please contact the office at office@stjames.bc.ca for details. \nAll are welcome!
URL:https://stjames.bc.ca/event/evening-prayer-via-zoom-2/2026-05-21
LOCATION:Zoom
ATTACH;FMTTYPE=image/jpeg:https://stjames.bc.ca/wp-content/uploads/2022/09/pexels-muffin-creatives-1629998.jpg
END:VEVENT
BEGIN:VEVENT
DTSTART;TZID=America/Vancouver:20260522T090000
DTEND;TZID=America/Vancouver:20260522T093000
DTSTAMP:20260421T062033
CREATED:20240725T222200Z
LAST-MODIFIED:20241017T160049Z
UID:10003971-1779440400-1779442200@stjames.bc.ca
SUMMARY:Morning Prayer - via Zoom
DESCRIPTION:Join us every morning at 9:00am via Zoom for Morning Prayer. \nZoom details posted in our weekly newsletter. Please contact the office at office@stjames.bc.ca for details. \nAll are welcome!
URL:https://stjames.bc.ca/event/morning-prayer-via-zoom-2/2026-05-22
LOCATION:Zoom
CATEGORIES:All Welcome
ATTACH;FMTTYPE=image/jpeg:https://stjames.bc.ca/wp-content/uploads/2022/09/pexels-philip-ackermann-878151.jpg
ORGANIZER;CN="St. James' Anglican Church":MAILTO:office@stjames.bc.ca
END:VEVENT
BEGIN:VEVENT
DTSTART;TZID=America/Vancouver:20260522T170000
DTEND;TZID=America/Vancouver:20260522T173000
DTSTAMP:20260421T062033
CREATED:20240725T222048Z
LAST-MODIFIED:20241017T160140Z
UID:10006261-1779469200-1779471000@stjames.bc.ca
SUMMARY:Evening Prayer - via Zoom
DESCRIPTION:Join us every evening at 5:00pm via Zoom for Evening Prayer. \nZoom details posted in our weekly newsletter. Please contact the office at office@stjames.bc.ca for details. \nAll are welcome!
URL:https://stjames.bc.ca/event/evening-prayer-via-zoom-2/2026-05-22
LOCATION:Zoom
ATTACH;FMTTYPE=image/jpeg:https://stjames.bc.ca/wp-content/uploads/2022/09/pexels-muffin-creatives-1629998.jpg
END:VEVENT
BEGIN:VEVENT
DTSTART;TZID=America/Vancouver:20260523T090000
DTEND;TZID=America/Vancouver:20260523T093000
DTSTAMP:20260421T062033
CREATED:20240725T222200Z
LAST-MODIFIED:20241017T160049Z
UID:10003972-1779526800-1779528600@stjames.bc.ca
SUMMARY:Morning Prayer - via Zoom
DESCRIPTION:Join us every morning at 9:00am via Zoom for Morning Prayer. \nZoom details posted in our weekly newsletter. Please contact the office at office@stjames.bc.ca for details. \nAll are welcome!
URL:https://stjames.bc.ca/event/morning-prayer-via-zoom-2/2026-05-23
LOCATION:Zoom
CATEGORIES:All Welcome
ATTACH;FMTTYPE=image/jpeg:https://stjames.bc.ca/wp-content/uploads/2022/09/pexels-philip-ackermann-878151.jpg
ORGANIZER;CN="St. James' Anglican Church":MAILTO:office@stjames.bc.ca
END:VEVENT
BEGIN:VEVENT
DTSTART;TZID=America/Vancouver:20260523T170000
DTEND;TZID=America/Vancouver:20260523T173000
DTSTAMP:20260421T062033
CREATED:20240725T222048Z
LAST-MODIFIED:20241017T160140Z
UID:10006262-1779555600-1779557400@stjames.bc.ca
SUMMARY:Evening Prayer - via Zoom
DESCRIPTION:Join us every evening at 5:00pm via Zoom for Evening Prayer. \nZoom details posted in our weekly newsletter. Please contact the office at office@stjames.bc.ca for details. \nAll are welcome!
URL:https://stjames.bc.ca/event/evening-prayer-via-zoom-2/2026-05-23
LOCATION:Zoom
ATTACH;FMTTYPE=image/jpeg:https://stjames.bc.ca/wp-content/uploads/2022/09/pexels-muffin-creatives-1629998.jpg
END:VEVENT
BEGIN:VEVENT
DTSTART;TZID=America/Vancouver:20260524T170000
DTEND;TZID=America/Vancouver:20260524T173000
DTSTAMP:20260421T062033
CREATED:20240725T222048Z
LAST-MODIFIED:20241017T160140Z
UID:10006263-1779642000-1779643800@stjames.bc.ca
SUMMARY:Evening Prayer - via Zoom
DESCRIPTION:Join us every evening at 5:00pm via Zoom for Evening Prayer. \nZoom details posted in our weekly newsletter. Please contact the office at office@stjames.bc.ca for details. \nAll are welcome!
URL:https://stjames.bc.ca/event/evening-prayer-via-zoom-2/2026-05-24
LOCATION:Zoom
ATTACH;FMTTYPE=image/jpeg:https://stjames.bc.ca/wp-content/uploads/2022/09/pexels-muffin-creatives-1629998.jpg
END:VEVENT
BEGIN:VEVENT
DTSTART;TZID=America/Vancouver:20260525T090000
DTEND;TZID=America/Vancouver:20260525T093000
DTSTAMP:20260421T062033
CREATED:20240725T222200Z
LAST-MODIFIED:20241017T160049Z
UID:10003973-1779699600-1779701400@stjames.bc.ca
SUMMARY:Morning Prayer - via Zoom
DESCRIPTION:Join us every morning at 9:00am via Zoom for Morning Prayer. \nZoom details posted in our weekly newsletter. Please contact the office at office@stjames.bc.ca for details. \nAll are welcome!
URL:https://stjames.bc.ca/event/morning-prayer-via-zoom-2/2026-05-25
LOCATION:Zoom
CATEGORIES:All Welcome
ATTACH;FMTTYPE=image/jpeg:https://stjames.bc.ca/wp-content/uploads/2022/09/pexels-philip-ackermann-878151.jpg
ORGANIZER;CN="St. James' Anglican Church":MAILTO:office@stjames.bc.ca
END:VEVENT
BEGIN:VEVENT
DTSTART;TZID=America/Vancouver:20260525T170000
DTEND;TZID=America/Vancouver:20260525T173000
DTSTAMP:20260421T062033
CREATED:20240725T222048Z
LAST-MODIFIED:20241017T160140Z
UID:10006264-1779728400-1779730200@stjames.bc.ca
SUMMARY:Evening Prayer - via Zoom
DESCRIPTION:Join us every evening at 5:00pm via Zoom for Evening Prayer. \nZoom details posted in our weekly newsletter. Please contact the office at office@stjames.bc.ca for details. \nAll are welcome!
URL:https://stjames.bc.ca/event/evening-prayer-via-zoom-2/2026-05-25
LOCATION:Zoom
ATTACH;FMTTYPE=image/jpeg:https://stjames.bc.ca/wp-content/uploads/2022/09/pexels-muffin-creatives-1629998.jpg
END:VEVENT
BEGIN:VEVENT
DTSTART;TZID=America/Vancouver:20260526T090000
DTEND;TZID=America/Vancouver:20260526T093000
DTSTAMP:20260421T062033
CREATED:20240725T222200Z
LAST-MODIFIED:20241017T160049Z
UID:10003974-1779786000-1779787800@stjames.bc.ca
SUMMARY:Morning Prayer - via Zoom
DESCRIPTION:Join us every morning at 9:00am via Zoom for Morning Prayer. \nZoom details posted in our weekly newsletter. Please contact the office at office@stjames.bc.ca for details. \nAll are welcome!
URL:https://stjames.bc.ca/event/morning-prayer-via-zoom-2/2026-05-26
LOCATION:Zoom
CATEGORIES:All Welcome
ATTACH;FMTTYPE=image/jpeg:https://stjames.bc.ca/wp-content/uploads/2022/09/pexels-philip-ackermann-878151.jpg
ORGANIZER;CN="St. James' Anglican Church":MAILTO:office@stjames.bc.ca
END:VEVENT
BEGIN:VEVENT
DTSTART;TZID=America/Vancouver:20260526T170000
DTEND;TZID=America/Vancouver:20260526T173000
DTSTAMP:20260421T062033
CREATED:20240725T222048Z
LAST-MODIFIED:20241017T160140Z
UID:10006265-1779814800-1779816600@stjames.bc.ca
SUMMARY:Evening Prayer - via Zoom
DESCRIPTION:Join us every evening at 5:00pm via Zoom for Evening Prayer. \nZoom details posted in our weekly newsletter. Please contact the office at office@stjames.bc.ca for details. \nAll are welcome!
URL:https://stjames.bc.ca/event/evening-prayer-via-zoom-2/2026-05-26
LOCATION:Zoom
ATTACH;FMTTYPE=image/jpeg:https://stjames.bc.ca/wp-content/uploads/2022/09/pexels-muffin-creatives-1629998.jpg
END:VEVENT
BEGIN:VEVENT
DTSTART;TZID=America/Vancouver:20260527T090000
DTEND;TZID=America/Vancouver:20260527T093000
DTSTAMP:20260421T062033
CREATED:20240725T222200Z
LAST-MODIFIED:20241017T160049Z
UID:10003975-1779872400-1779874200@stjames.bc.ca
SUMMARY:Morning Prayer - via Zoom
DESCRIPTION:Join us every morning at 9:00am via Zoom for Morning Prayer. \nZoom details posted in our weekly newsletter. Please contact the office at office@stjames.bc.ca for details. \nAll are welcome!
URL:https://stjames.bc.ca/event/morning-prayer-via-zoom-2/2026-05-27
LOCATION:Zoom
CATEGORIES:All Welcome
ATTACH;FMTTYPE=image/jpeg:https://stjames.bc.ca/wp-content/uploads/2022/09/pexels-philip-ackermann-878151.jpg
ORGANIZER;CN="St. James' Anglican Church":MAILTO:office@stjames.bc.ca
END:VEVENT
BEGIN:VEVENT
DTSTART;TZID=America/Vancouver:20260527T170000
DTEND;TZID=America/Vancouver:20260527T173000
DTSTAMP:20260421T062033
CREATED:20240725T222048Z
LAST-MODIFIED:20241017T160140Z
UID:10006266-1779901200-1779903000@stjames.bc.ca
SUMMARY:Evening Prayer - via Zoom
DESCRIPTION:Join us every evening at 5:00pm via Zoom for Evening Prayer. \nZoom details posted in our weekly newsletter. Please contact the office at office@stjames.bc.ca for details. \nAll are welcome!
URL:https://stjames.bc.ca/event/evening-prayer-via-zoom-2/2026-05-27
LOCATION:Zoom
ATTACH;FMTTYPE=image/jpeg:https://stjames.bc.ca/wp-content/uploads/2022/09/pexels-muffin-creatives-1629998.jpg
END:VEVENT
BEGIN:VEVENT
DTSTART;TZID=America/Vancouver:20260528T090000
DTEND;TZID=America/Vancouver:20260528T093000
DTSTAMP:20260421T062033
CREATED:20240725T222200Z
LAST-MODIFIED:20241017T160049Z
UID:10003976-1779958800-1779960600@stjames.bc.ca
SUMMARY:Morning Prayer - via Zoom
DESCRIPTION:Join us every morning at 9:00am via Zoom for Morning Prayer. \nZoom details posted in our weekly newsletter. Please contact the office at office@stjames.bc.ca for details. \nAll are welcome!
URL:https://stjames.bc.ca/event/morning-prayer-via-zoom-2/2026-05-28
LOCATION:Zoom
CATEGORIES:All Welcome
ATTACH;FMTTYPE=image/jpeg:https://stjames.bc.ca/wp-content/uploads/2022/09/pexels-philip-ackermann-878151.jpg
ORGANIZER;CN="St. James' Anglican Church":MAILTO:office@stjames.bc.ca
END:VEVENT
END:VCALENDAR