BEGIN:VCALENDAR
VERSION:2.0
PRODID:-//St James&#039; Anglican Church Vancouver - ECPv6.15.20//NONSGML v1.0//EN
CALSCALE:GREGORIAN
METHOD:PUBLISH
X-WR-CALNAME:St James&#039; Anglican Church Vancouver
X-ORIGINAL-URL:https://stjames.bc.ca
X-WR-CALDESC:Events for St James&#039; Anglican Church Vancouver
REFRESH-INTERVAL;VALUE=DURATION:PT1H
X-Robots-Tag:noindex
X-PUBLISHED-TTL:PT1H
BEGIN:VTIMEZONE
TZID:America/Vancouver
BEGIN:DAYLIGHT
TZOFFSETFROM:-0800
TZOFFSETTO:-0700
TZNAME:PDT
DTSTART:20250309T100000
END:DAYLIGHT
BEGIN:STANDARD
TZOFFSETFROM:-0700
TZOFFSETTO:-0800
TZNAME:PST
DTSTART:20251102T090000
END:STANDARD
BEGIN:DAYLIGHT
TZOFFSETFROM:-0800
TZOFFSETTO:-0700
TZNAME:PDT
DTSTART:20260308T100000
END:DAYLIGHT
BEGIN:STANDARD
TZOFFSETFROM:-0700
TZOFFSETTO:-0800
TZNAME:PST
DTSTART:20261101T090000
END:STANDARD
BEGIN:DAYLIGHT
TZOFFSETFROM:-0800
TZOFFSETTO:-0700
TZNAME:PDT
DTSTART:20270314T100000
END:DAYLIGHT
BEGIN:STANDARD
TZOFFSETFROM:-0700
TZOFFSETTO:-0800
TZNAME:PST
DTSTART:20271107T090000
END:STANDARD
END:VTIMEZONE
BEGIN:VEVENT
DTSTART;TZID=America/Vancouver:20260528T090000
DTEND;TZID=America/Vancouver:20260528T093000
DTSTAMP:20260425T144448
CREATED:20240725T222200Z
LAST-MODIFIED:20241017T160049Z
UID:10003976-1779958800-1779960600@stjames.bc.ca
SUMMARY:Morning Prayer - via Zoom
DESCRIPTION:Join us every morning at 9:00am via Zoom for Morning Prayer. \nZoom details posted in our weekly newsletter. Please contact the office at office@stjames.bc.ca for details. \nAll are welcome!
URL:https://stjames.bc.ca/event/morning-prayer-via-zoom-2/2026-05-28
LOCATION:Zoom
CATEGORIES:All Welcome
ATTACH;FMTTYPE=image/jpeg:https://stjames.bc.ca/wp-content/uploads/2022/09/pexels-philip-ackermann-878151.jpg
ORGANIZER;CN="St. James' Anglican Church":MAILTO:office@stjames.bc.ca
END:VEVENT
BEGIN:VEVENT
DTSTART;TZID=America/Vancouver:20260528T170000
DTEND;TZID=America/Vancouver:20260528T173000
DTSTAMP:20260425T144448
CREATED:20240725T222048Z
LAST-MODIFIED:20241017T160140Z
UID:10006267-1779987600-1779989400@stjames.bc.ca
SUMMARY:Evening Prayer - via Zoom
DESCRIPTION:Join us every evening at 5:00pm via Zoom for Evening Prayer. \nZoom details posted in our weekly newsletter. Please contact the office at office@stjames.bc.ca for details. \nAll are welcome!
URL:https://stjames.bc.ca/event/evening-prayer-via-zoom-2/2026-05-28
LOCATION:Zoom
ATTACH;FMTTYPE=image/jpeg:https://stjames.bc.ca/wp-content/uploads/2022/09/pexels-muffin-creatives-1629998.jpg
END:VEVENT
BEGIN:VEVENT
DTSTART;TZID=America/Vancouver:20260529T090000
DTEND;TZID=America/Vancouver:20260529T093000
DTSTAMP:20260425T144448
CREATED:20240725T222200Z
LAST-MODIFIED:20241017T160049Z
UID:10003977-1780045200-1780047000@stjames.bc.ca
SUMMARY:Morning Prayer - via Zoom
DESCRIPTION:Join us every morning at 9:00am via Zoom for Morning Prayer. \nZoom details posted in our weekly newsletter. Please contact the office at office@stjames.bc.ca for details. \nAll are welcome!
URL:https://stjames.bc.ca/event/morning-prayer-via-zoom-2/2026-05-29
LOCATION:Zoom
CATEGORIES:All Welcome
ATTACH;FMTTYPE=image/jpeg:https://stjames.bc.ca/wp-content/uploads/2022/09/pexels-philip-ackermann-878151.jpg
ORGANIZER;CN="St. James' Anglican Church":MAILTO:office@stjames.bc.ca
END:VEVENT
BEGIN:VEVENT
DTSTART;TZID=America/Vancouver:20260529T170000
DTEND;TZID=America/Vancouver:20260529T173000
DTSTAMP:20260425T144448
CREATED:20240725T222048Z
LAST-MODIFIED:20241017T160140Z
UID:10006268-1780074000-1780075800@stjames.bc.ca
SUMMARY:Evening Prayer - via Zoom
DESCRIPTION:Join us every evening at 5:00pm via Zoom for Evening Prayer. \nZoom details posted in our weekly newsletter. Please contact the office at office@stjames.bc.ca for details. \nAll are welcome!
URL:https://stjames.bc.ca/event/evening-prayer-via-zoom-2/2026-05-29
LOCATION:Zoom
ATTACH;FMTTYPE=image/jpeg:https://stjames.bc.ca/wp-content/uploads/2022/09/pexels-muffin-creatives-1629998.jpg
END:VEVENT
BEGIN:VEVENT
DTSTART;TZID=America/Vancouver:20260530T090000
DTEND;TZID=America/Vancouver:20260530T093000
DTSTAMP:20260425T144448
CREATED:20240725T222200Z
LAST-MODIFIED:20241017T160049Z
UID:10003978-1780131600-1780133400@stjames.bc.ca
SUMMARY:Morning Prayer - via Zoom
DESCRIPTION:Join us every morning at 9:00am via Zoom for Morning Prayer. \nZoom details posted in our weekly newsletter. Please contact the office at office@stjames.bc.ca for details. \nAll are welcome!
URL:https://stjames.bc.ca/event/morning-prayer-via-zoom-2/2026-05-30
LOCATION:Zoom
CATEGORIES:All Welcome
ATTACH;FMTTYPE=image/jpeg:https://stjames.bc.ca/wp-content/uploads/2022/09/pexels-philip-ackermann-878151.jpg
ORGANIZER;CN="St. James' Anglican Church":MAILTO:office@stjames.bc.ca
END:VEVENT
BEGIN:VEVENT
DTSTART;TZID=America/Vancouver:20260530T170000
DTEND;TZID=America/Vancouver:20260530T173000
DTSTAMP:20260425T144448
CREATED:20240725T222048Z
LAST-MODIFIED:20241017T160140Z
UID:10006269-1780160400-1780162200@stjames.bc.ca
SUMMARY:Evening Prayer - via Zoom
DESCRIPTION:Join us every evening at 5:00pm via Zoom for Evening Prayer. \nZoom details posted in our weekly newsletter. Please contact the office at office@stjames.bc.ca for details. \nAll are welcome!
URL:https://stjames.bc.ca/event/evening-prayer-via-zoom-2/2026-05-30
LOCATION:Zoom
ATTACH;FMTTYPE=image/jpeg:https://stjames.bc.ca/wp-content/uploads/2022/09/pexels-muffin-creatives-1629998.jpg
END:VEVENT
BEGIN:VEVENT
DTSTART;TZID=America/Vancouver:20260531T170000
DTEND;TZID=America/Vancouver:20260531T173000
DTSTAMP:20260425T144448
CREATED:20240725T222048Z
LAST-MODIFIED:20241017T160140Z
UID:10006270-1780246800-1780248600@stjames.bc.ca
SUMMARY:Evening Prayer - via Zoom
DESCRIPTION:Join us every evening at 5:00pm via Zoom for Evening Prayer. \nZoom details posted in our weekly newsletter. Please contact the office at office@stjames.bc.ca for details. \nAll are welcome!
URL:https://stjames.bc.ca/event/evening-prayer-via-zoom-2/2026-05-31
LOCATION:Zoom
ATTACH;FMTTYPE=image/jpeg:https://stjames.bc.ca/wp-content/uploads/2022/09/pexels-muffin-creatives-1629998.jpg
END:VEVENT
BEGIN:VEVENT
DTSTART;TZID=America/Vancouver:20260601T090000
DTEND;TZID=America/Vancouver:20260601T093000
DTSTAMP:20260425T144448
CREATED:20240725T222200Z
LAST-MODIFIED:20241017T160049Z
UID:10003979-1780304400-1780306200@stjames.bc.ca
SUMMARY:Morning Prayer - via Zoom
DESCRIPTION:Join us every morning at 9:00am via Zoom for Morning Prayer. \nZoom details posted in our weekly newsletter. Please contact the office at office@stjames.bc.ca for details. \nAll are welcome!
URL:https://stjames.bc.ca/event/morning-prayer-via-zoom-2/2026-06-01
LOCATION:Zoom
CATEGORIES:All Welcome
ATTACH;FMTTYPE=image/jpeg:https://stjames.bc.ca/wp-content/uploads/2022/09/pexels-philip-ackermann-878151.jpg
ORGANIZER;CN="St. James' Anglican Church":MAILTO:office@stjames.bc.ca
END:VEVENT
BEGIN:VEVENT
DTSTART;TZID=America/Vancouver:20260601T170000
DTEND;TZID=America/Vancouver:20260601T173000
DTSTAMP:20260425T144448
CREATED:20240725T222048Z
LAST-MODIFIED:20241017T160140Z
UID:10006271-1780333200-1780335000@stjames.bc.ca
SUMMARY:Evening Prayer - via Zoom
DESCRIPTION:Join us every evening at 5:00pm via Zoom for Evening Prayer. \nZoom details posted in our weekly newsletter. Please contact the office at office@stjames.bc.ca for details. \nAll are welcome!
URL:https://stjames.bc.ca/event/evening-prayer-via-zoom-2/2026-06-01
LOCATION:Zoom
ATTACH;FMTTYPE=image/jpeg:https://stjames.bc.ca/wp-content/uploads/2022/09/pexels-muffin-creatives-1629998.jpg
END:VEVENT
BEGIN:VEVENT
DTSTART;TZID=America/Vancouver:20260602T090000
DTEND;TZID=America/Vancouver:20260602T093000
DTSTAMP:20260425T144448
CREATED:20240725T222200Z
LAST-MODIFIED:20241017T160049Z
UID:10003980-1780390800-1780392600@stjames.bc.ca
SUMMARY:Morning Prayer - via Zoom
DESCRIPTION:Join us every morning at 9:00am via Zoom for Morning Prayer. \nZoom details posted in our weekly newsletter. Please contact the office at office@stjames.bc.ca for details. \nAll are welcome!
URL:https://stjames.bc.ca/event/morning-prayer-via-zoom-2/2026-06-02
LOCATION:Zoom
CATEGORIES:All Welcome
ATTACH;FMTTYPE=image/jpeg:https://stjames.bc.ca/wp-content/uploads/2022/09/pexels-philip-ackermann-878151.jpg
ORGANIZER;CN="St. James' Anglican Church":MAILTO:office@stjames.bc.ca
END:VEVENT
BEGIN:VEVENT
DTSTART;TZID=America/Vancouver:20260602T170000
DTEND;TZID=America/Vancouver:20260602T173000
DTSTAMP:20260425T144448
CREATED:20240725T222048Z
LAST-MODIFIED:20241017T160140Z
UID:10006272-1780419600-1780421400@stjames.bc.ca
SUMMARY:Evening Prayer - via Zoom
DESCRIPTION:Join us every evening at 5:00pm via Zoom for Evening Prayer. \nZoom details posted in our weekly newsletter. Please contact the office at office@stjames.bc.ca for details. \nAll are welcome!
URL:https://stjames.bc.ca/event/evening-prayer-via-zoom-2/2026-06-02
LOCATION:Zoom
ATTACH;FMTTYPE=image/jpeg:https://stjames.bc.ca/wp-content/uploads/2022/09/pexels-muffin-creatives-1629998.jpg
END:VEVENT
BEGIN:VEVENT
DTSTART;TZID=America/Vancouver:20260603T090000
DTEND;TZID=America/Vancouver:20260603T093000
DTSTAMP:20260425T144448
CREATED:20240725T222200Z
LAST-MODIFIED:20241017T160049Z
UID:10003981-1780477200-1780479000@stjames.bc.ca
SUMMARY:Morning Prayer - via Zoom
DESCRIPTION:Join us every morning at 9:00am via Zoom for Morning Prayer. \nZoom details posted in our weekly newsletter. Please contact the office at office@stjames.bc.ca for details. \nAll are welcome!
URL:https://stjames.bc.ca/event/morning-prayer-via-zoom-2/2026-06-03
LOCATION:Zoom
CATEGORIES:All Welcome
ATTACH;FMTTYPE=image/jpeg:https://stjames.bc.ca/wp-content/uploads/2022/09/pexels-philip-ackermann-878151.jpg
ORGANIZER;CN="St. James' Anglican Church":MAILTO:office@stjames.bc.ca
END:VEVENT
BEGIN:VEVENT
DTSTART;TZID=America/Vancouver:20260603T170000
DTEND;TZID=America/Vancouver:20260603T173000
DTSTAMP:20260425T144448
CREATED:20240725T222048Z
LAST-MODIFIED:20241017T160140Z
UID:10006273-1780506000-1780507800@stjames.bc.ca
SUMMARY:Evening Prayer - via Zoom
DESCRIPTION:Join us every evening at 5:00pm via Zoom for Evening Prayer. \nZoom details posted in our weekly newsletter. Please contact the office at office@stjames.bc.ca for details. \nAll are welcome!
URL:https://stjames.bc.ca/event/evening-prayer-via-zoom-2/2026-06-03
LOCATION:Zoom
ATTACH;FMTTYPE=image/jpeg:https://stjames.bc.ca/wp-content/uploads/2022/09/pexels-muffin-creatives-1629998.jpg
END:VEVENT
BEGIN:VEVENT
DTSTART;TZID=America/Vancouver:20260604T090000
DTEND;TZID=America/Vancouver:20260604T093000
DTSTAMP:20260425T144448
CREATED:20240725T222200Z
LAST-MODIFIED:20241017T160049Z
UID:10003982-1780563600-1780565400@stjames.bc.ca
SUMMARY:Morning Prayer - via Zoom
DESCRIPTION:Join us every morning at 9:00am via Zoom for Morning Prayer. \nZoom details posted in our weekly newsletter. Please contact the office at office@stjames.bc.ca for details. \nAll are welcome!
URL:https://stjames.bc.ca/event/morning-prayer-via-zoom-2/2026-06-04
LOCATION:Zoom
CATEGORIES:All Welcome
ATTACH;FMTTYPE=image/jpeg:https://stjames.bc.ca/wp-content/uploads/2022/09/pexels-philip-ackermann-878151.jpg
ORGANIZER;CN="St. James' Anglican Church":MAILTO:office@stjames.bc.ca
END:VEVENT
BEGIN:VEVENT
DTSTART;TZID=America/Vancouver:20260604T170000
DTEND;TZID=America/Vancouver:20260604T173000
DTSTAMP:20260425T144448
CREATED:20240725T222048Z
LAST-MODIFIED:20241017T160140Z
UID:10006274-1780592400-1780594200@stjames.bc.ca
SUMMARY:Evening Prayer - via Zoom
DESCRIPTION:Join us every evening at 5:00pm via Zoom for Evening Prayer. \nZoom details posted in our weekly newsletter. Please contact the office at office@stjames.bc.ca for details. \nAll are welcome!
URL:https://stjames.bc.ca/event/evening-prayer-via-zoom-2/2026-06-04
LOCATION:Zoom
ATTACH;FMTTYPE=image/jpeg:https://stjames.bc.ca/wp-content/uploads/2022/09/pexels-muffin-creatives-1629998.jpg
END:VEVENT
BEGIN:VEVENT
DTSTART;TZID=America/Vancouver:20260605T090000
DTEND;TZID=America/Vancouver:20260605T093000
DTSTAMP:20260425T144448
CREATED:20240725T222200Z
LAST-MODIFIED:20241017T160049Z
UID:10003983-1780650000-1780651800@stjames.bc.ca
SUMMARY:Morning Prayer - via Zoom
DESCRIPTION:Join us every morning at 9:00am via Zoom for Morning Prayer. \nZoom details posted in our weekly newsletter. Please contact the office at office@stjames.bc.ca for details. \nAll are welcome!
URL:https://stjames.bc.ca/event/morning-prayer-via-zoom-2/2026-06-05
LOCATION:Zoom
CATEGORIES:All Welcome
ATTACH;FMTTYPE=image/jpeg:https://stjames.bc.ca/wp-content/uploads/2022/09/pexels-philip-ackermann-878151.jpg
ORGANIZER;CN="St. James' Anglican Church":MAILTO:office@stjames.bc.ca
END:VEVENT
BEGIN:VEVENT
DTSTART;TZID=America/Vancouver:20260605T170000
DTEND;TZID=America/Vancouver:20260605T173000
DTSTAMP:20260425T144448
CREATED:20240725T222048Z
LAST-MODIFIED:20241017T160140Z
UID:10006275-1780678800-1780680600@stjames.bc.ca
SUMMARY:Evening Prayer - via Zoom
DESCRIPTION:Join us every evening at 5:00pm via Zoom for Evening Prayer. \nZoom details posted in our weekly newsletter. Please contact the office at office@stjames.bc.ca for details. \nAll are welcome!
URL:https://stjames.bc.ca/event/evening-prayer-via-zoom-2/2026-06-05
LOCATION:Zoom
ATTACH;FMTTYPE=image/jpeg:https://stjames.bc.ca/wp-content/uploads/2022/09/pexels-muffin-creatives-1629998.jpg
END:VEVENT
BEGIN:VEVENT
DTSTART;TZID=America/Vancouver:20260606T090000
DTEND;TZID=America/Vancouver:20260606T093000
DTSTAMP:20260425T144448
CREATED:20240725T222200Z
LAST-MODIFIED:20241017T160049Z
UID:10003984-1780736400-1780738200@stjames.bc.ca
SUMMARY:Morning Prayer - via Zoom
DESCRIPTION:Join us every morning at 9:00am via Zoom for Morning Prayer. \nZoom details posted in our weekly newsletter. Please contact the office at office@stjames.bc.ca for details. \nAll are welcome!
URL:https://stjames.bc.ca/event/morning-prayer-via-zoom-2/2026-06-06
LOCATION:Zoom
CATEGORIES:All Welcome
ATTACH;FMTTYPE=image/jpeg:https://stjames.bc.ca/wp-content/uploads/2022/09/pexels-philip-ackermann-878151.jpg
ORGANIZER;CN="St. James' Anglican Church":MAILTO:office@stjames.bc.ca
END:VEVENT
BEGIN:VEVENT
DTSTART;TZID=America/Vancouver:20260606T170000
DTEND;TZID=America/Vancouver:20260606T173000
DTSTAMP:20260425T144448
CREATED:20240725T222048Z
LAST-MODIFIED:20241017T160140Z
UID:10006276-1780765200-1780767000@stjames.bc.ca
SUMMARY:Evening Prayer - via Zoom
DESCRIPTION:Join us every evening at 5:00pm via Zoom for Evening Prayer. \nZoom details posted in our weekly newsletter. Please contact the office at office@stjames.bc.ca for details. \nAll are welcome!
URL:https://stjames.bc.ca/event/evening-prayer-via-zoom-2/2026-06-06
LOCATION:Zoom
ATTACH;FMTTYPE=image/jpeg:https://stjames.bc.ca/wp-content/uploads/2022/09/pexels-muffin-creatives-1629998.jpg
END:VEVENT
BEGIN:VEVENT
DTSTART;TZID=America/Vancouver:20260607T170000
DTEND;TZID=America/Vancouver:20260607T173000
DTSTAMP:20260425T144448
CREATED:20240725T222048Z
LAST-MODIFIED:20241017T160140Z
UID:10006277-1780851600-1780853400@stjames.bc.ca
SUMMARY:Evening Prayer - via Zoom
DESCRIPTION:Join us every evening at 5:00pm via Zoom for Evening Prayer. \nZoom details posted in our weekly newsletter. Please contact the office at office@stjames.bc.ca for details. \nAll are welcome!
URL:https://stjames.bc.ca/event/evening-prayer-via-zoom-2/2026-06-07
LOCATION:Zoom
ATTACH;FMTTYPE=image/jpeg:https://stjames.bc.ca/wp-content/uploads/2022/09/pexels-muffin-creatives-1629998.jpg
END:VEVENT
BEGIN:VEVENT
DTSTART;TZID=America/Vancouver:20260608T090000
DTEND;TZID=America/Vancouver:20260608T093000
DTSTAMP:20260425T144448
CREATED:20240725T222200Z
LAST-MODIFIED:20241017T160049Z
UID:10003985-1780909200-1780911000@stjames.bc.ca
SUMMARY:Morning Prayer - via Zoom
DESCRIPTION:Join us every morning at 9:00am via Zoom for Morning Prayer. \nZoom details posted in our weekly newsletter. Please contact the office at office@stjames.bc.ca for details. \nAll are welcome!
URL:https://stjames.bc.ca/event/morning-prayer-via-zoom-2/2026-06-08
LOCATION:Zoom
CATEGORIES:All Welcome
ATTACH;FMTTYPE=image/jpeg:https://stjames.bc.ca/wp-content/uploads/2022/09/pexels-philip-ackermann-878151.jpg
ORGANIZER;CN="St. James' Anglican Church":MAILTO:office@stjames.bc.ca
END:VEVENT
BEGIN:VEVENT
DTSTART;TZID=America/Vancouver:20260608T170000
DTEND;TZID=America/Vancouver:20260608T173000
DTSTAMP:20260425T144448
CREATED:20240725T222048Z
LAST-MODIFIED:20241017T160140Z
UID:10006278-1780938000-1780939800@stjames.bc.ca
SUMMARY:Evening Prayer - via Zoom
DESCRIPTION:Join us every evening at 5:00pm via Zoom for Evening Prayer. \nZoom details posted in our weekly newsletter. Please contact the office at office@stjames.bc.ca for details. \nAll are welcome!
URL:https://stjames.bc.ca/event/evening-prayer-via-zoom-2/2026-06-08
LOCATION:Zoom
ATTACH;FMTTYPE=image/jpeg:https://stjames.bc.ca/wp-content/uploads/2022/09/pexels-muffin-creatives-1629998.jpg
END:VEVENT
BEGIN:VEVENT
DTSTART;TZID=America/Vancouver:20260609T090000
DTEND;TZID=America/Vancouver:20260609T093000
DTSTAMP:20260425T144448
CREATED:20240725T222200Z
LAST-MODIFIED:20241017T160049Z
UID:10003986-1780995600-1780997400@stjames.bc.ca
SUMMARY:Morning Prayer - via Zoom
DESCRIPTION:Join us every morning at 9:00am via Zoom for Morning Prayer. \nZoom details posted in our weekly newsletter. Please contact the office at office@stjames.bc.ca for details. \nAll are welcome!
URL:https://stjames.bc.ca/event/morning-prayer-via-zoom-2/2026-06-09
LOCATION:Zoom
CATEGORIES:All Welcome
ATTACH;FMTTYPE=image/jpeg:https://stjames.bc.ca/wp-content/uploads/2022/09/pexels-philip-ackermann-878151.jpg
ORGANIZER;CN="St. James' Anglican Church":MAILTO:office@stjames.bc.ca
END:VEVENT
BEGIN:VEVENT
DTSTART;TZID=America/Vancouver:20260609T170000
DTEND;TZID=America/Vancouver:20260609T173000
DTSTAMP:20260425T144448
CREATED:20240725T222048Z
LAST-MODIFIED:20241017T160140Z
UID:10006279-1781024400-1781026200@stjames.bc.ca
SUMMARY:Evening Prayer - via Zoom
DESCRIPTION:Join us every evening at 5:00pm via Zoom for Evening Prayer. \nZoom details posted in our weekly newsletter. Please contact the office at office@stjames.bc.ca for details. \nAll are welcome!
URL:https://stjames.bc.ca/event/evening-prayer-via-zoom-2/2026-06-09
LOCATION:Zoom
ATTACH;FMTTYPE=image/jpeg:https://stjames.bc.ca/wp-content/uploads/2022/09/pexels-muffin-creatives-1629998.jpg
END:VEVENT
BEGIN:VEVENT
DTSTART;TZID=America/Vancouver:20260610T090000
DTEND;TZID=America/Vancouver:20260610T093000
DTSTAMP:20260425T144448
CREATED:20240725T222200Z
LAST-MODIFIED:20241017T160049Z
UID:10003987-1781082000-1781083800@stjames.bc.ca
SUMMARY:Morning Prayer - via Zoom
DESCRIPTION:Join us every morning at 9:00am via Zoom for Morning Prayer. \nZoom details posted in our weekly newsletter. Please contact the office at office@stjames.bc.ca for details. \nAll are welcome!
URL:https://stjames.bc.ca/event/morning-prayer-via-zoom-2/2026-06-10
LOCATION:Zoom
CATEGORIES:All Welcome
ATTACH;FMTTYPE=image/jpeg:https://stjames.bc.ca/wp-content/uploads/2022/09/pexels-philip-ackermann-878151.jpg
ORGANIZER;CN="St. James' Anglican Church":MAILTO:office@stjames.bc.ca
END:VEVENT
BEGIN:VEVENT
DTSTART;TZID=America/Vancouver:20260610T170000
DTEND;TZID=America/Vancouver:20260610T173000
DTSTAMP:20260425T144448
CREATED:20240725T222048Z
LAST-MODIFIED:20241017T160140Z
UID:10006280-1781110800-1781112600@stjames.bc.ca
SUMMARY:Evening Prayer - via Zoom
DESCRIPTION:Join us every evening at 5:00pm via Zoom for Evening Prayer. \nZoom details posted in our weekly newsletter. Please contact the office at office@stjames.bc.ca for details. \nAll are welcome!
URL:https://stjames.bc.ca/event/evening-prayer-via-zoom-2/2026-06-10
LOCATION:Zoom
ATTACH;FMTTYPE=image/jpeg:https://stjames.bc.ca/wp-content/uploads/2022/09/pexels-muffin-creatives-1629998.jpg
END:VEVENT
BEGIN:VEVENT
DTSTART;TZID=America/Vancouver:20260611T090000
DTEND;TZID=America/Vancouver:20260611T093000
DTSTAMP:20260425T144448
CREATED:20240725T222200Z
LAST-MODIFIED:20241017T160049Z
UID:10003988-1781168400-1781170200@stjames.bc.ca
SUMMARY:Morning Prayer - via Zoom
DESCRIPTION:Join us every morning at 9:00am via Zoom for Morning Prayer. \nZoom details posted in our weekly newsletter. Please contact the office at office@stjames.bc.ca for details. \nAll are welcome!
URL:https://stjames.bc.ca/event/morning-prayer-via-zoom-2/2026-06-11
LOCATION:Zoom
CATEGORIES:All Welcome
ATTACH;FMTTYPE=image/jpeg:https://stjames.bc.ca/wp-content/uploads/2022/09/pexels-philip-ackermann-878151.jpg
ORGANIZER;CN="St. James' Anglican Church":MAILTO:office@stjames.bc.ca
END:VEVENT
BEGIN:VEVENT
DTSTART;TZID=America/Vancouver:20260611T170000
DTEND;TZID=America/Vancouver:20260611T173000
DTSTAMP:20260425T144448
CREATED:20240725T222048Z
LAST-MODIFIED:20241017T160140Z
UID:10006281-1781197200-1781199000@stjames.bc.ca
SUMMARY:Evening Prayer - via Zoom
DESCRIPTION:Join us every evening at 5:00pm via Zoom for Evening Prayer. \nZoom details posted in our weekly newsletter. Please contact the office at office@stjames.bc.ca for details. \nAll are welcome!
URL:https://stjames.bc.ca/event/evening-prayer-via-zoom-2/2026-06-11
LOCATION:Zoom
ATTACH;FMTTYPE=image/jpeg:https://stjames.bc.ca/wp-content/uploads/2022/09/pexels-muffin-creatives-1629998.jpg
END:VEVENT
BEGIN:VEVENT
DTSTART;TZID=America/Vancouver:20260612T090000
DTEND;TZID=America/Vancouver:20260612T093000
DTSTAMP:20260425T144448
CREATED:20240725T222200Z
LAST-MODIFIED:20241017T160049Z
UID:10003989-1781254800-1781256600@stjames.bc.ca
SUMMARY:Morning Prayer - via Zoom
DESCRIPTION:Join us every morning at 9:00am via Zoom for Morning Prayer. \nZoom details posted in our weekly newsletter. Please contact the office at office@stjames.bc.ca for details. \nAll are welcome!
URL:https://stjames.bc.ca/event/morning-prayer-via-zoom-2/2026-06-12
LOCATION:Zoom
CATEGORIES:All Welcome
ATTACH;FMTTYPE=image/jpeg:https://stjames.bc.ca/wp-content/uploads/2022/09/pexels-philip-ackermann-878151.jpg
ORGANIZER;CN="St. James' Anglican Church":MAILTO:office@stjames.bc.ca
END:VEVENT
BEGIN:VEVENT
DTSTART;TZID=America/Vancouver:20260612T170000
DTEND;TZID=America/Vancouver:20260612T173000
DTSTAMP:20260425T144448
CREATED:20240725T222048Z
LAST-MODIFIED:20241017T160140Z
UID:10006282-1781283600-1781285400@stjames.bc.ca
SUMMARY:Evening Prayer - via Zoom
DESCRIPTION:Join us every evening at 5:00pm via Zoom for Evening Prayer. \nZoom details posted in our weekly newsletter. Please contact the office at office@stjames.bc.ca for details. \nAll are welcome!
URL:https://stjames.bc.ca/event/evening-prayer-via-zoom-2/2026-06-12
LOCATION:Zoom
ATTACH;FMTTYPE=image/jpeg:https://stjames.bc.ca/wp-content/uploads/2022/09/pexels-muffin-creatives-1629998.jpg
END:VEVENT
END:VCALENDAR